{"text_format":"1","workbook":"xlsx","n_sheets":8,"sheets":["Лист1","РЕД-1","MODULO1","Modulo5","Modulo4","Modulo6","Modulo2","Modulo3"],"not_rendered":{"charts":0,"images":9,"macros":1,"external_links":0,"defined_names":47,"comments":1,"pivot_tables":0},"unopened":[],"bounds":{"document_bytes":16777216,"sheet_cells":100000,"rows_first":2000,"rows_last":500,"rows_between":2000,"halvings":0,"cell_chars":16384,"cell_head_chars":4096},"cells_cut":0,"cells_raw":0,"read":"whole","date_system":"1900"}

{"sheet":"Лист1","index":0,"n_rows":120,"n_cols":17,"rows_kept":120,"cut":false,"hidden":false,"merged":[[38,0,38,2],[44,25,44,26],[33,5,33,7],[54,0,54,2],[53,0,53,2],[8,0,8,2],[49,0,49,2],[46,0,46,2],[37,0,37,2],[36,0,36,2],[43,1,43,2],[44,1,44,2],[39,1,39,2],[40,1,40,2],[41,1,41,2],[10,2,12,2],[42,0,42,2]]}
["Внимание: для работы программы должны быть включены макросы в настройках Excel"]
[null,null,"ver 4.1 от 16/06/2023"]
[]
[]
[]
[]
[]
[]
["Расчет пропускной способности и подбор регуляторов давления РЕД"]
[]
["Название организации",null,"Поля, обязательные для заполнения и получения КП"]
["ФИО"]
["E-mail"]
["Контакный телефон",null,"введите Ваш телефон"]
[]
["Параметр","Значение","Примечание"]
["Выберите регулятор давления из списка","РЕД-6-50-С4 DN50 Qmax=5900 нм3/час","выберите регулятор из списка"]
["Допустимое максимальное давление на входе, МПа",{"$f":"IF(OR(B17=F57,B17=F58,B17=F59,B17=F60,B17=F61,B17=F62,B17=F63,B17=F64,B17=F65,B17=F67,B17=F71,B17=F74,B17=F77,B17=F80,B17=F83),0.6,1.6)","v":1.6},"зависит от выбора регулятора*",{"$f":"B18","v":1.6}]
["Допустимое максимальное давление газа на выходе, кПа",{"$f":"IF(B17=F57,L57,IF(B17=F58,L58,IF(B17=F59,L59,IF(B17=F63,L63,IF(B17=F67,L67,IF(B17=F70,L70,IF(B17=F71,L71,IF(B17=F74,L74,IF(B17=F77,L77,IF(B17=F80,L80,IF(B17=F83,L83,IF(B17=F72,L72,IF(B17=F75,L75,IF(B17=F78,L78,IF(B17=F81,L81,IF(B17=F73,L73,IF(B17=F76,L76,IF(B17=F79,L79,IF(B17=F82,L82,IF(B17=F59,L80,IF(B17=F60,L60,IF(B17=F61,L61,IF(B17=F62,L62,IF(B17=F64,L64,IF(B17=F65,L65,IF(B17=F66,L66,IF(B17=F67,L67,IF(B17=F68,L68,IF(B17=F69,L69,IF(B17=F84,L84,IF(B17=F85,L85,IF(B17=F86,L86,IF(B17=F87,L87,IF(B17=F88,L88,IF(B17=F89,L89,IF(B17=F90,L90,IF(B17=F91,L91,)))))))))))))))))))))))))))))))))))))","v":300},"зависит от выбора регулятора**",{"$f":"B19","v":300}]
["Допустимое минимальное давление газа на выходе, кПа",{"$f":"IF(B17=F57,K57,IF(B17=F58,K58,IF(B17=F59,K59,IF(B17=F63,K63,IF(B17=F67,K67,IF(B17=F70,K70,IF(B17=F71,K71,IF(B17=F74,K74,IF(B17=F77,K77,IF(B17=F80,K80,IF(B17=F83,K83,IF(B17=F72,K72,IF(B17=F75,K75,IF(B17=F78,K78,IF(B17=F81,K81,IF(B17=F73,K73,IF(B17=F76,K76,IF(B17=F79,K79,IF(B17=F82,K82,IF(B17=F59,K80,IF(B17=F60,K60,IF(B17=F61,K61,IF(B17=F62,K62,IF(B17=F64,K64,IF(B17=F65,K65,IF(B17=F66,K66,IF(B17=F67,K67,IF(B17=F68,K68,IF(B17=F69,K69,IF(B17=F84,K84,IF(B17=F85,K85,IF(B17=F86,K86,IF(B17=F87,K87,IF(B17=F88,K88,IF(B17=F89,K89,IF(B17=F90,K90,IF(B17=F91,K91)))))))))))))))))))))))))))))))))))))","v":100},"зависит от выбора регулятора**",{"$f":"B20","v":100}]
["Расчетное минимальное давление на входе, МПа",0.373,"значение от 0,003 до 1,6, но не более чем максимальное допустимое давление на входе",{"$f":"B21+0.1","v":0.47299999999999998},null,{"$f":"(B21+0.1)*1000/2","v":236.5}]
["Требуемое давление газа на выходе, кПа",300,"не более допустимого максимального и не менее минимального давления газа на выходе",{"$f":"B22/1000+0.1","v":0.4},{"$f":"B22/1000","v":0.3}]
["Требуемый максимальный расход газа, нм3/час",229.2,"значение от 0,1 до 59750"]
["Относительная плотность газа (по воздуху), d",0.6,"Для природного газа плотностью 0,73 кг/нм3 d=0,6"]
["Максимальный расход газа с запасом 15%, нм3/час",{"$f":"B23*1.15","v":263.58},"рекомендуемый запас не менее 15%"]
["Пропускная способность регулятора, нм3/час",{"$f":"F26*SQRT(0.6/B24)","v":1824.9999999999998},null,null,null,{"$f":"IF(B32=1,P57,IF(B32=2,P58,IF(B32=3,P59,IF(B32=4,P60,IF(B32=5,P61,IF(B32=6,P62,IF(B32=7,P63,IF(B32=8,P64,IF(B32=9,P65,IF(B32=10,P66,IF(B32=11,P67,IF(B32=12,P68,IF(B32=13,P69,IF(B32=14,P70,IF(B32=15,P71,IF(B32=16,P72,IF(B32=17,P73,IF(B32=18,P74,IF(B32=19,P75,IF(B32=20,P76,IF(B32=21,P77,IF(B32=22,P78,IF(B32=23,P79,IF(B32=24,P80,IF(B32=25,P81,IF(B32=26,P82,IF(B32=27,P83,IF(B32=28,P84,IF(B32=29,P85,IF(B32=30,P86,IF(B32=31,P87,IF(B32=32,P88,IF(B32=33,P89,IF(B32=34,P90,IF(B32=35,P91)))))))))))))))))))))))))))))))))))","v":1824.9999999999998}]
["Коэффициент загрузки регулятора, %",{"$f":"B23/B26*100","v":12.558904109589042},"рекомендуемая загрузка регуляторов серии РЕД-7 от 10 до 87%"]
["Результат:",{"$f":"IF(B33<1,A35,IF(B33>1.3,A36,IF(B33<=1.3,A34,IF(B33<0,#REF!))))","v":"Этот регулятор Вам подходит, однако можно попробовать подобрать меньший типоразмер"},{"$f":"IFERROR(OR(ISNUMBER(SEARCH(\"#ЗНАЧ!\",B33)),B33=\"#ЗНАЧ!\")*1,\"Внимание!!! Этот регулятор не может быть использован для введеных данных\")","v":0}]
["Проверка допустимой скорости газа на седле регулятора (только для серии РЕД-7), м/сек",{"$f":"345.2*(B23/(D29*D29))*(1-0.02*B21)/(1+10*B21)","v":{"$error":"#DIV/0!"}},{"$f":"IF(B29>120,C36,IF(B29<=120,C35))","v":{"$error":"#DIV/0!"}},{"$f":"IF(B17=F84,Q84,IF(B17=F85,Q85,IF(B17=F86,Q86,IF(B17=F87,Q87,IF(B17=F88,Q88,IF(B17=F89,Q89,IF(B17=F90,Q90,IF(B17=F91,Q91))))))))","v":false}]
[]
[]
["Номер регулятора",{"$f":"IF(B17=F57,I57,IF(B17=F58,I58,IF(B17=F59,I59,IF(B17=F63,I63,IF(B17=F67,I67,IF(B17=F70,I70,IF(B17=F71,I71,IF(B17=F74,I74,IF(B17=F77,I77,IF(B17=F80,I80,IF(B17=F83,I83,IF(B17=F72,I72,IF(B17=F75,I75,IF(B17=F78,I78,IF(B17=F81,I81,IF(B17=F73,I73,IF(B17=F76,I76,IF(B17=F79,I79,IF(B17=F82,I82,IF(B17=F59,I80,IF(B17=F60,I60,IF(B17=F61,I61,IF(B17=F62,I62,IF(B17=F64,I64,IF(B17=F65,I65,IF(B17=F66,I66,IF(B17=F67,I67,IF(B17=F68,I68,IF(B17=F69,I69,IF(B17=F84,I84,IF(B17=F85,I85,IF(B17=F86,I86,IF(B17=F87,I87,IF(B17=F88,I88,IF(B17=F89,I89,IF(B17=F90,I90,IF(B17=F91,I91,)))))))))))))))))))))))))))))))))))))","v":20}]
["Отношение расходов В26",{"$f":"B26/B25","v":6.9238940739054549}]
["Этот регулятор Вам подходит","1≤ B25 ≤ 1,3"]
["Этот регулятор Вам не подходит, выберите больший типоразмер","B25<1","Допустимая скорость не превышает 120 м/сек."]
["Этот регулятор Вам подходит, однако можно попробовать подобрать меньший типоразмер","B25>1,3","Скорость превышает 120 м/сек, выберите больший типоразмер регулятора серии РЕД-7."]
["Примечания:"]
["* - регуляторы давления серии РЕД-6 в зависимости от исполнения имеют разное максимальное входное давление. Регуляторы исполнения Н - до 0,6 МПа, регуляторы исполнений С3 и С4 - до 1,6 МПа"]
["** - регуляторы давления серии РЕД в зависимости от исполнения имеют разные диапазоны выходного давления"]
[null,"  Ввод данных пользователем"]
[null,"  Результат"]
[null,"  Примечания к вводу данных"]
[]
["ССЫЛКА НА СКАЧИВАНИЕ РУКОВОДСТВА ПО ЭКСЛУАТАЦИИ",{"$f":"F44","v":"https://redgas.ru/download/916/"},null,null,null,{"$f":"IF(B17=F57,N57,IF(B17=F58,N58,IF(B17=F59,N59,IF(B17=F63,N63,IF(B17=F67,N67,IF(B17=F70,N70,IF(B17=F71,N71,IF(B17=F74,N74,IF(B17=F77,N77,IF(B17=F80,N80,IF(B17=F83,N83,IF(B17=F72,N72,IF(B17=F75,N75,IF(B17=F78,N78,IF(B17=F81,N81,IF(B17=F73,N73,IF(B17=F76,N76,IF(B17=F79,N79,IF(B17=F82,N82,IF(B17=F59,N80,IF(B17=F60,N60,IF(B17=F61,N61,IF(B17=F62,N62,IF(B17=F64,N64,IF(B17=F65,N65,IF(B17=F66,N66,IF(B17=F67,N67,IF(B17=F68,N68,IF(B17=F69,N69,IF(B17=F84,N84,IF(B17=F85,N85,IF(B17=F86,N86,IF(B17=F87,N87,IF(B17=F88,N88,IF(B17=F89,N89,IF(B17=F90,N90,IF(B17=F91,N91,)))))))))))))))))))))))))))))))))))))","v":"https://redgas.ru/download/916/"}]
["ССЫЛКА НА СКАЧИВАНИЕ 3D МОДЕЛИ",{"$f":"F45","v":"https://redgas.ru/download/1437/"},null,null,null,{"$f":"IF(B17=F57,O57,IF(B17=F58,O58,IF(B17=F59,O59,IF(B17=F63,O63,IF(B17=F67,O67,IF(B17=F70,O70,IF(B17=F71,O71,IF(B17=F74,O74,IF(B17=F77,O77,IF(B17=F80,O80,IF(B17=F83,O83,IF(B17=F72,O72,IF(B17=F75,O75,IF(B17=F78,O78,IF(B17=F81,O81,IF(B17=F73,O73,IF(B17=F76,O76,IF(B17=F79,O79,IF(B17=F82,O82,IF(B17=F59,O80,IF(B17=F60,O60,IF(B17=F61,O61,IF(B17=F62,O62,IF(B17=F64,O64,IF(B17=F65,O65,IF(B17=F66,O66,IF(B17=F67,O67,IF(B17=F68,O68,IF(B17=F69,O69,IF(B17=F84,O84,IF(B17=F85,O85,IF(B17=F86,O86,IF(B17=F87,O87,IF(B17=F88,O88,IF(B17=F89,O89,IF(B17=F90,O90,IF(B17=F91,O91,)))))))))))))))))))))))))))))))))))))","v":"https://redgas.ru/download/1437/"}]
[]
[]
[]
[]
[" "]
[]
[]
[]
["Нажимая на кнопку «ОТПРАВИТЬ ЗАПРОС» Вы выражаете свое согласие с Политикой безопасности хранения и обработки персональной информации ООО «ПЛЕКСОР» в соответствии с ФЗ «О персональных данных» № 152-ФЗ."]
["Несмотря на то, что программа подбора максимально защищена от ошибок при вводе данных ООО \"ПЛЕКСОР\" не несет ответственности за не правильный выбор оборудования при использовании программы. Для гарантированного подтверждения необходимо отправить запрос в ООО \"ПЛЕКСОР\" и получить КП с  подтверждением правильности выбора оборудования."]
[null,null,null,null,null,"Список моделей фильтров","Исполнение","Номер рег.",null,"Р вх. макс","Рвых. Мин","Рвых. Макс","Q макс","Руководство ссылка","Ссылка на архив 3D","Расход при заданных условиях"]
[null,null,null,null,1,"РЕД-1-20x32Р-1У 3/4х1 1/4\" Qmax=25 нм3/час",null,"№",{"$f":"E57","v":1},0.6,2,3,25,"https://redgas.ru/download/1401/","https://redgas.ru/download/1422/",{"$f":"'РЕД-1'!AE7","v":{"$error":"#N/A"}}]
[null,null,null,null,{"$f":"E57+1","v":2},"РЕД-2-25-Н DN25 Qmax=75 нм3/час","Н","№",{"$f":"E58","v":2},0.6,1.8,12.5,75,"https://redgas.ru/download/834/","https://redgas.ru/download/1428/",{"$f":"'РЕД-1'!AE99","v":{"$error":"#N/A"}}]
[null,null,null,null,{"$f":"E58+1","v":3},"РЕД-2-25-С1 DN25 Qmax=100 нм3/час","С1","№",3,0.6,6.4,30,100,"https://redgas.ru/download/834/","https://redgas.ru/download/1428/",{"$f":"'РЕД-1'!AE99","v":{"$error":"#N/A"}}]
[null,null,null,null,4,"РЕД-3-40-Н DN40 Qmax=250 нм3/час","Н","№",4,0.6,1.5,5.5,300,"https://redgas.ru/download/821/","https://redgas.ru/download/1431/",{"$f":"'РЕД-1'!AM60","v":{"$error":"#N/A"}}]
[null,null,null,null,5,"РЕД-3-40-С1 DN40 Qmax=300 нм3/час","С1","№",5,0.6,5,35,300,"https://redgas.ru/download/821/","https://redgas.ru/download/1431/",{"$f":"'РЕД-1'!AM60","v":{"$error":"#N/A"}}]
[null,null,null,null,6,"РЕД-3-40-С2 DN40 Qmax=250 нм3/час","С2","№",6,0.6,30,55,300,"https://redgas.ru/download/821/","https://redgas.ru/download/1431/",{"$f":"'РЕД-1'!AM60","v":{"$error":"#N/A"}}]
[null,null,null,null,7,"РЕД-3-40-С3 DN40 Qmax=240 нм3/час","С3","№",7,0.6,54,100,240,"https://redgas.ru/download/821/","https://redgas.ru/download/1431/",{"$f":"'РЕД-1'!AM60","v":{"$error":"#N/A"}}]
[null,null,null,null,8,"РЕД-4-50-Н DN50 Qmax=900 нм3/час","Н","№",8,0.6,1,10,900,"https://redgas.ru/download/700/","https://redgas.ru/download/473/",{"$f":"'РЕД-1'!AM21","v":{"$error":"#N/A"}}]
[null,null,null,null,9,"РЕД-4-50-С1 DN50 Qmax=900 нм3/час","С1","№",9,0.6,8,30,900,"https://redgas.ru/download/700/","https://redgas.ru/download/473/",{"$f":"'РЕД-1'!AM21","v":{"$error":"#N/A"}}]
[null,null,null,null,10,"РЕД-4-50-С2 DN50 Qmax=720 нм3/час","С2","№",{"$f":"E66","v":10},0.6,30,60,720,"https://redgas.ru/download/700/","https://redgas.ru/download/473/",{"$f":"'РЕД-1'!AM21","v":{"$error":"#N/A"}}]
[null,null,null,null,11,"РЕД-4-50-С3 DN50 Qmax=670 нм3/час","С3","№",11,0.6,59,100,670,"https://redgas.ru/download/700/","https://redgas.ru/download/473/",{"$f":"'РЕД-1'!AM21","v":{"$error":"#N/A"}}]
[null,null,null,null,12,"РЕД-5-50-С5.1 DN50 Qmax=1350 м.куб/час","С5.1","№",12,1.6,10,100,1350,"https://redgas.ru/download/895/","https://redgas.ru/download/1434/",{"$f":"'РЕД-1'!AK134","v":191.62499999999997}]
[null,null,null,null,13,"РЕД-5-50-С5.2 DN50 Qmax=1350 м.куб/час","С5.2","№",13,1.6,100,200,1350,"https://redgas.ru/download/895/","https://redgas.ru/download/1434/",{"$f":"'РЕД-1'!AK134","v":191.62499999999997}]
[null,null,null,null,14,"РЕД-5-50-С5.3 DN50 Qmax=1350 м.куб/час","С5.3","№",14,1.6,200,400,1350,"https://redgas.ru/download/895/","https://redgas.ru/download/1434/",{"$f":"'РЕД-1'!AK134","v":191.62499999999997}]
[null,null,null,null,15,"РЕД-6-25х65-Н DN25x65 Qmax=1150 нм3/час","Н","№",15,0.6,1.5,50,2200,"https://redgas.ru/download/916/","https://redgas.ru/download/1437/",{"$f":"'РЕД-1'!AU171","v":729.99999999999977}]
[null,null,null,null,16,"РЕД-6-25х65-С3 DN25x65 Qmax=2000 нм3/час","С3","№",16,1.6,50,100,2200,"https://redgas.ru/download/916/","https://redgas.ru/download/1437/",{"$f":"'РЕД-1'!AU171","v":729.99999999999977}]
[null,null,null,null,17,"РЕД-6-25х65-С4 DN25x65 Qmax=2200 нм3/час","С4","№",17,1.6,100,300,2200,"https://redgas.ru/download/916/","https://redgas.ru/download/1437/",{"$f":"'РЕД-1'!AU171","v":729.99999999999977}]
[null,null,null,null,18,"РЕД-6-50-Н DN50 Qmax=3430 нм3/час","Н","№",18,0.6,1.5,50,5900,"https://redgas.ru/download/916/","https://redgas.ru/download/1437/",{"$f":"'РЕД-1'!AU212","v":1824.9999999999998}]
[null,null,null,null,19,"РЕД-6-50-С3 DN50 Qmax=5300 нм3/час","С3","№",19,1.6,50,100,5900,"https://redgas.ru/download/916/","https://redgas.ru/download/1437/",{"$f":"'РЕД-1'!AU212","v":1824.9999999999998}]
[null,null,null,null,20,"РЕД-6-50-С4 DN50 Qmax=5900 нм3/час","С4","№",20,1.6,100,300,5900,"https://redgas.ru/download/916/","https://redgas.ru/download/1437/",{"$f":"'РЕД-1'!AU212","v":1824.9999999999998}]
[null,null,null,null,21,"РЕД-6-80х150-Н DN80 Qmax=6800 нм3/час","Н","№",21,0.6,1.5,50,13800,"https://redgas.ru/download/916/","https://redgas.ru/download/1437/",{"$f":"'РЕД-1'!AU253","v":3795.9999999999995}]
[null,null,null,null,22,"РЕД-6-80х150-С3 DN80 Qmax=13800 нм3/час","С3","№",22,1.6,50,100,13800,"https://redgas.ru/download/916/","https://redgas.ru/download/1437/",{"$f":"'РЕД-1'!AU253","v":3795.9999999999995}]
[null,null,null,null,23,"РЕД-6-80х150-С4 DN80 Qmax=13800 нм3/час","С4","№",23,1.6,100,300,13800,"https://redgas.ru/download/916/","https://redgas.ru/download/1437/",{"$f":"'РЕД-1'!AU253","v":3795.9999999999995}]
[null,null,null,null,24,"РЕД-6-100-Н DN100 Qmax=10500 нм3/час","Н","№",24,0.6,1.5,50,21000,"https://redgas.ru/download/916/","https://redgas.ru/download/1437/",{"$f":"'РЕД-1'!AU294","v":6423.9999999999991}]
[null,null,null,null,25,"РЕД-6-100-С3 DN100 Qmax=21000 нм3/час","С3","№",25,1.6,50,100,21000,"https://redgas.ru/download/916/","https://redgas.ru/download/1437/",{"$f":"'РЕД-1'!AU294","v":6423.9999999999991}]
[null,null,null,null,26,"РЕД-6-100-С4 DN100 Qmax=21000 нм3/час","С4","№",26,1.6,100,300,21000,"https://redgas.ru/download/916/","https://redgas.ru/download/1437/",{"$f":"'РЕД-1'!AU294","v":6423.9999999999991}]
[null,null,null,null,27,"РЕД-6-150-Н DN150 Qmax=21000 нм3/час","Н","№",27,0.6,1.5,50,21000,"https://redgas.ru/download/916/","https://redgas.ru/download/1437/",{"$f":"'РЕД-1'!AU335","v":{"$error":"#N/A"}},"DN"]
[null,null,null,null,28,"РЕД-7-50-Н(В)-Р (регулятор) DN50 Qmax=19635 нм3/час",2200,32.6,{"$f":"E84","v":28},1.6,1,800,19635,"https://redgas.ru/download/1553/",null,{"$f":"IF(B22<=F21,5.25*D21*G84,IF(B22>F21,5.25*G84*D21*SIN((3417/H84*SQRT((D21-D22)/D21))*PI()/180)))","v":3596.8930126647106},50]
[null,null,null,null,29,"РЕД-7-50-Н(В)-РП (регулятор+ПЗК) DN50 Qmax=15886 нм3/час",1780,28,{"$f":"E85","v":29},1.6,1,800,15886,"https://redgas.ru/download/1553/",null,{"$f":"IF(B22<=F21,5.25*D21*G85,IF(B22>F21,5.25*G85*D21*SIN((3417/H85*SQRT((D21-D22)/D21))*PI()/180)))","v":3281.8513617740532},50]
[null,null,null,null,30,"РЕД-7-50-Н(В)-РМ (регулятор+монитор) DN50 Qmax=15886 нм3/час",1780,28,{"$f":"E86","v":30},1.6,1,800,15886,"https://redgas.ru/download/1553/",null,{"$f":"IF(B22<=F21,5.25*D21*G86,IF(B22>F21,5.25*G86*D21*SIN((3417/H86*SQRT((D21-D22)/D21))*PI()/180)))","v":3281.8513617740532},50]
[null,null,null,null,31,"РЕД-7-50-Н(В)-РПМ (регулятор+ПЗК+монитор) DN50 Qmax=14012 нм3/час",1570,28,{"$f":"E87","v":31},1.6,1,800,14012,"https://redgas.ru/download/1553/",null,{"$f":"IF(B22<=F21,5.25*D21*G87,IF(B22>F21,5.25*G87*D21*SIN((3417/H87*SQRT((D21-D22)/D21))*PI()/180)))","v":2894.666650553519},50]
[null,null,null,null,32,"РЕД-7-100-Н(В)-Р (регулятор) DN100 Qmax=68722 нм3/час",7700,32.1,32,1.6,1,800,68722,"https://redgas.ru/download/1553/",null,{"$f":"IF(B22<=F21,5.25*D21*G88,IF(B22>F21,5.25*G88*D21*SIN((3417/H88*SQRT((D21-D22)/D21))*PI()/180)))","v":12749.442266876566},100]
[null,null,null,null,33,"РЕД-7-100-Н(В)-РП (регулятор+ПЗК) DN100 Qmax=58905 нм3/час",6600,28,33,1.6,1,800,58905,"https://redgas.ru/download/1553/",null,{"$f":"IF(B22<=F21,5.25*D21*G89,IF(B22>F21,5.25*G89*D21*SIN((3417/H89*SQRT((D21-D22)/D21))*PI()/180)))","v":12168.662352645368},100]
[null,null,null,null,34,"РЕД-7-100-Н(В)-РМ (регулятор+монитор) DN100 Qmax=58012 нм3/час",6500,28,34,1.6,1,800,58012,"https://redgas.ru/download/1553/",null,{"$f":"IF(B22<=F21,5.25*D21*G90,IF(B22>F21,5.25*G90*D21*SIN((3417/H90*SQRT((D21-D22)/D21))*PI()/180)))","v":11984.288680635589},100]
[null,null,null,null,35,"РЕД-7-100-Н(В)-РПМ (регулятор+ПЗК+монитор) DN100 Qmax=49980нм3/час",5600,28,{"$f":"E91","v":35},1.6,1,800,14012,"https://redgas.ru/download/1553/",null,{"$f":"IF(B22<=F21,5.25*D21*G91,IF(B22>F21,5.25*G91*D21*SIN((3417/H91*SQRT((D21-D22)/D21))*PI()/180)))","v":10324.925632547584},100]
[null,null,null,null,null,null,"Cg","C1"]
[]
[]
[]
[]
[]
[]
[]
[]
[]
[]
[]
[]
[]
[]
[]
[]
[]
[null,null,null,null,null,null,null,"Рвых. Мин","Рвых. Макс"]
[null,null,null,null,null,null,"Н (1-5 кПа)",1,5,"от 1 до 5"]
[null,null,null,null,null,null,"С1 (10-30 кПа)",10,30,"от 10 до 30"]
[null,null,null,null,null,null,"С2 (30-50 кПа)",30,50,"от 30 до 50"]
[null,null,null,null,null,null,"С3-(50-100 кПа)",50,100,"от 50 до 100"]
[null,null,null,null,null,null,"Н (1-50 кПа)",1,50,"от 1 до 50"]
[null,null,null,null,null,null,"С3 (50-100 кПа)",50,100,"от 50 до 100"]
[null,null,null,null,null,null,"С4 (100-300 кПа)",100,300,"от 100 до 300"]
[null,null,null,null,null,null,"С5.1 (10-100 кПа)",10,100,"от 10 до 100"]
[null,null,null,null,null,null,"С5.2 (100-200 кПа)",100,200,"от 100 до 200"]
[null,null,null,null,null,null,"С5.3 (200-400 кПа)",200,400,"от 200 до 400"]

{"sheet":"РЕД-1","index":1,"n_rows":354,"n_cols":49,"rows_kept":354,"cut":false,"hidden":true,"merged":[[160,29,160,30],[160,3,160,4],[160,5,160,6],[160,7,160,8],[123,3,123,4],[123,5,123,6],[123,7,123,8],[123,9,123,10],[123,11,123,12],[123,13,123,14],[160,9,160,10],[160,11,160,12],[160,23,160,24],[160,13,160,14],[160,15,160,16],[123,15,123,16],[123,17,123,18],[123,19,123,20],[88,27,88,28],[160,17,160,18],[160,19,160,20],[160,21,160,22],[123,25,123,26],[63,36,63,38],[63,39,63,40],[88,3,88,4],[88,5,88,6],[88,7,88,8],[102,31,102,35],[137,34,137,36],[137,37,137,41],[123,21,123,22],[123,23,123,24],[102,28,102,30],[88,9,88,10],[88,11,88,12],[88,13,88,14],[88,15,88,16],[88,17,88,18],[88,19,88,20],[88,21,88,22],[88,23,88,24],[88,25,88,26],[88,29,88,30],[24,36,24,38],[24,39,24,40],[49,13,49,14],[49,15,49,16],[49,33,49,34],[49,29,49,30],[49,17,49,18],[49,19,49,20],[49,21,49,22],[49,23,49,24],[49,25,49,26],[49,27,49,28],[201,3,201,4],[201,5,201,6],[201,7,201,8],[201,9,201,10],[201,11,201,12],[201,13,201,14],[201,15,201,16],[201,17,201,18],[201,19,201,20],[215,44,215,46],[174,44,174,46],[215,47,215,48],[201,27,201,28],[201,29,201,30],[201,31,201,32],[201,33,201,34],[201,35,201,36],[242,13,242,14],[242,15,242,16],[242,17,242,18],[242,19,242,20],[242,21,242,22],[242,41,242,42],[174,47,174,48],[201,21,201,22],[201,23,201,24],[201,25,201,26],[201,37,201,38],[201,39,201,40],[201,41,201,42],[242,3,242,4],[242,5,242,6],[242,7,242,8],[242,9,242,10],[242,11,242,12],[242,33,242,34],[242,35,242,36],[242,37,242,38],[242,39,242,40],[242,23,242,24],[242,25,242,26],[242,27,242,28],[242,29,242,30],[242,31,242,32],[256,44,256,46],[256,47,256,48],[283,3,283,4],[283,5,283,6],[283,7,283,8],[283,9,283,10],[283,11,283,12],[283,13,283,14],[283,15,283,16],[283,17,283,18],[283,19,283,20],[283,21,283,22],[283,23,283,24],[283,25,283,26],[283,27,283,28],[283,29,283,30],[283,41,283,42],[283,31,283,32],[283,33,283,34],[283,35,283,36],[283,37,283,38],[283,39,283,40],[297,44,297,46],[297,47,297,48],[324,3,324,4],[324,5,324,6],[324,7,324,8],[324,9,324,10],[324,11,324,12],[324,13,324,14],[324,15,324,16],[324,17,324,18],[324,19,324,20],[324,21,324,22],[324,23,324,24],[324,25,324,26],[324,27,324,28],[324,29,324,30],[324,31,324,32],[324,33,324,34],[324,35,324,36],[324,37,324,38],[324,39,324,40],[324,41,324,42],[338,44,338,46],[338,47,338,48],[353,3,353,4],[353,5,353,6],[353,7,353,8],[353,9,353,10],[353,11,353,12],[353,13,353,14],[353,15,353,16],[353,17,353,18],[353,19,353,20],[353,21,353,22],[353,23,353,24],[353,25,353,26],[353,37,353,38],[353,39,353,40],[353,41,353,42],[353,27,353,28],[353,29,353,30],[353,31,353,32],[353,33,353,34],[353,35,353,36],[160,31,160,32],[10,28,10,30],[10,31,10,35],[10,3,10,4],[10,5,10,6],[10,7,10,8],[10,9,10,10],[10,11,10,12],[10,13,10,14],[10,15,10,16],[10,17,10,18],[10,19,10,20],[10,21,10,22],[10,23,10,24],[10,25,10,26],[49,3,49,4],[49,5,49,6],[49,7,49,8],[49,9,49,10],[49,11,49,12],[88,31,88,32],[88,33,88,34],[160,25,160,26],[160,27,160,28]]}
["Таблицы расходов регуляторов РЕД"]
[]
[null,"Рвх",0.01,{"$f":"IF(AND(AA10>C3,AA10<E3)=TRUE,AA10,0)","v":0},0.02,{"$f":"IF(AND(AC11>E3,AC11<G3)=TRUE,AC11,0)","v":0},0.03,{"$f":"IF(AND(AC11>G3,AC11<I3)=TRUE,AC11,0)","v":0},0.04,{"$f":"IF(AND(AC11>I3,AC11<K3)=TRUE,AC11,0)","v":0},0.05,{"$f":"IF(AND(AC11>K3,AC11<M3)=TRUE,AC11,0)","v":0},7.4999999999999997E-2,{"$f":"IF(AND(AC11>M3,AC11<O3)=TRUE,AC11,0)","v":0},0.1,{"$f":"IF(AND(AC11>O3,AC11<Q3)=TRUE,AC11,0)","v":0},0.15,{"$f":"IF(AND(AC11>Q3,AC11<S3)=TRUE,AC11,0)","v":0},0.2,{"$f":"IF(AND(AC11>S3,AC11<U3)=TRUE,AC11,0)","v":0},0.3,{"$f":"IF(AND(AC11>U3,AC11<W3)=TRUE,AC11,0)","v":0},0.4,{"$f":"IF(AND(AC11>W3,AC11<Y3)=TRUE,AC11,0)","v":0},0.5,{"$f":"IF(AND(AC11>Y3,AC11<AA3)=TRUE,AC11,0)","v":0},0.6,1,"Рвх","Q","Qcрасч","Рвых","Рвых"]
["Рвых","МПа",null,null,null,null,null,null,null,null,null,null,null,null,null,null,null,null,null,null,null,null,null,null,null,null,null,{"$f":"AB3+1","v":2}]
["кПа",null,null,null,null,null,null,null,null,null,null,null,null,null,null,null,null,null,null,null,null,null,null,null,null,null,null,{"$f":"AB4+1","v":3},"МПа","нм3/час","нм3/час","кПа","кПа"]
[2,1,12,{"$f":"(E6-C6)/(E3-C3)*(D3-C3)+C6","v":9},15,{"$f":"(G6-E6)/(G3-E3)*(F3-E3)+E6","v":11},17,{"$f":"(I6-G6)/(I3-G3)*(H3-G3)+G6","v":8.0000000000000018},20,{"$f":"(K6-I6)/(K3-I3)*(J3-I3)+I6","v":0},25,{"$f":"(M6-K6)/(M3-K3)*(L3-K3)+K6","v":25},25,{"$f":"(O6-M6)/(O3-M3)*(N3-M3)+M6","v":25},25,{"$f":"(Q6-O6)/(Q3-O3)*(P3-O3)+O6","v":25},25,{"$f":"(S6-Q6)/(S3-Q3)*(R3-Q3)+Q6","v":25},25,{"$f":"(U6-S6)/(U3-S3)*(T3-S3)+S6","v":25},25,{"$f":"(W6-U6)/(W3-U3)*(V3-U3)+U6","v":25},25,{"$f":"(Y6-W6)/(Y3-W3)*(X3-W3)+W6","v":25},25,{"$f":"(AA6-Y6)/(AA3-Y3)*(Z3-Y3)+Y6","v":25},25,4]
[{"$f":"IF(AND(AN10>A6,AN10<A8)=TRUE,AN10,0)","v":0},null,{"$f":"(C8-C6)/(A8-A6)*(A7-A6)+C6","v":16},{"$f":"(E7-C7)/(E3-C3)*(D3-C3)+C7","v":17},{"$f":"(E8-E6)/(A8-A6)*(A7-A6)+E6","v":15},{"$f":"(G7-E7)/(G3-E3)*(F3-E3)+E7","v":11},{"$f":"(G8-G6)/(A8-A6)*(A7-A6)+G6","v":17},{"$f":"(I7-G7)/(I3-G3)*(H3-G3)+G7","v":8.0000000000000018},{"$f":"(I8-I6)/(A8-A6)*(A7-A6)+I6","v":20},{"$f":"(K7-I7)/(K3-I3)*(J3-I3)+I7","v":0},{"$f":"(K8-K6)/(A8-A6)*(A7-A6)+K6","v":25},{"$f":"(M7-K7)/(M3-K3)*(L3-K3)+K7","v":25},{"$f":"(M8-M6)/(A8-A6)*(A7-A6)+M6","v":25},{"$f":"(O7-M7)/(O3-M3)*(N3-M3)+M7","v":25},{"$f":"(O8-O6)/(A8-A6)*(A7-A6)+O6","v":25},{"$f":"(Q7-O7)/(Q3-O3)*(P3-O3)+O7","v":25},{"$f":"(Q8-Q6)/(A8-A6)*(A7-A6)+Q6","v":25},{"$f":"(S7-Q7)/(S3-Q3)*(R3-Q3)+Q7","v":25},{"$f":"(S8-S6)/(A8-A6)*(A7-A6)+S6","v":25},{"$f":"(U7-S7)/(U3-S3)*(T3-S3)+S7","v":25},{"$f":"(U8-U6)/(A8-A6)*(A7-A6)+U6","v":25},{"$f":"(W7-U7)/(W3-U3)*(V3-U3)+U7","v":25},25,{"$f":"(Y7-W7)/(Y3-W3)*(X3-W3)+W7","v":25},{"$f":"(Y8-Y6)/(A8-A6)*(A7-A6)+Y6","v":25},{"$f":"(AA7-Y7)/(AA3-Y3)*(Z3-Y3)+Y7","v":25},{"$f":"(AA8-AA6)/(A8-A6)*(A7-A6)+AA6","v":25},5,{"$f":"Лист1!B21","v":0.373},{"$f":"Лист1!B23","v":229.2},{"$f":"VLOOKUP(AF7,A3:AA10,HLOOKUP(AC7,A3:AA10,8,0),0)","v":{"$error":"#N/A"}},{"$f":"Лист1!B22","v":300},{"$f":"IF(AC7<A6,\"NO\",IF(AC7>A8,\"N0\",IF(VLOOKUP(AC7,A3:AA8,3,0)>AD7,\"NO\",IF(VLOOKUP(AC7,A3:AA8,17,0)<AD7,\"NO\",IF(AND(AE7>=AD7-0.1,AE7<AD7+0.1)=TRUE,AF7,\"NO\")))))","v":"NO"}]
[3,{"$f":"B6+1","v":2},10,{"$f":"(E8-C8)/(E3-C3)*(D3-C3)+C8","v":5},15,{"$f":"(G8-E8)/(G3-E3)*(F3-E3)+E8","v":11},17,{"$f":"(I8-G8)/(I3-G3)*(H3-G3)+G8","v":8.0000000000000018},20,{"$f":"(K8-I8)/(K3-I3)*(J3-I3)+I8","v":0},25,{"$f":"(M8-K8)/(M3-K3)*(L3-K3)+K8","v":25},25,{"$f":"(O8-M8)/(O3-M3)*(N3-M3)+M8","v":25},25,{"$f":"(Q8-O8)/(Q3-O3)*(P3-O3)+O8","v":25},25,{"$f":"(S8-Q8)/(S3-Q3)*(R3-Q3)+Q8","v":25},25,{"$f":"(U8-S8)/(U3-S3)*(T3-S3)+S8","v":25},25,{"$f":"(W8-U8)/(W3-U3)*(V3-U3)+U8","v":25},25,{"$f":"(Y8-W8)/(Y3-W3)*(X3-W3)+W8","v":25},25,{"$f":"(AA8-Y8)/(AA3-Y3)*(Z3-Y3)+Y8","v":25},25,{"$f":"AB7+1","v":6}]
[null,null,null,null,null,null,null,null,null,null,null,null,null,null,null,null,null,null,null,null,null,null,null,null,null,null," ",{"$f":"AB8+1","v":7},0.1,{"$f":"Лист1!B25","v":263.58}]
["COL",null,3,{"$f":"C10+1","v":4},{"$f":"D10+1","v":5},{"$f":"E10+1","v":6},{"$f":"F10+1","v":7},{"$f":"G10+1","v":8},{"$f":"H10+1","v":9},{"$f":"I10+1","v":10},{"$f":"J10+1","v":11},{"$f":"K10+1","v":12},{"$f":"L10+1","v":13},{"$f":"M10+1","v":14},{"$f":"N10+1","v":15},{"$f":"O10+1","v":16},{"$f":"P10+1","v":17},{"$f":"Q10+1","v":18},{"$f":"R10+1","v":19},{"$f":"S10+1","v":20},{"$f":"T10+1","v":21},{"$f":"U10+1","v":22},{"$f":"V10+1","v":23},{"$f":"W10+1","v":24},{"$f":"X10+1","v":25},{"$f":"Y10+1","v":26},{"$f":"Z10+1","v":27},{"$f":"AB9+1","v":8}]
[null,null,1,2,null,3,null,4,null,5,null,6,null,7,null,8,null,9,null,10,null,11,null,12,null,13,null,null,"Регулятор давления",null,null,{"$f":"Лист1!F57","v":"РЕД-1-20x32Р-1У 3/4х1 1/4\" Qmax=25 нм3/час"}]
[]
[]
[null,"Рвх",3.0000000000000001E-3,{"$f":"IF(AND(AK21>C14,AK21<E14)=TRUE,AK21,0)","v":0},5.0000000000000001E-3,{"$f":"IF(AND(AK21>E14,AK21<G14)=TRUE,AK21,0)","v":0},7.4999999999999997E-3,{"$f":"IF(AND(AK21>G14,AK21<I14)=TRUE,AK21,0)","v":0},0.01,{"$f":"IF(AND(AK21>I14,AK21<K14)=TRUE,AK21,0)","v":0},1.4999999999999999E-2,{"$f":"IF(AND(AK21>K14,AK21<M14)=TRUE,AK21,0)","v":0},0.02,{"$f":"IF(AND(AK21>M14,AK21<O14)=TRUE,AK21,0)","v":0},0.03,{"$f":"IF(AND(AK21>O14,AK21<Q14)=TRUE,AK21,0)","v":0},0.04,{"$f":"IF(AND(AK21>Q14,AK21<S14)=TRUE,AK21,0)","v":0},0.05,{"$f":"IF(AND(AK21>S14,AK21<U14)=TRUE,AK21,0)","v":0},7.4999999999999997E-2,{"$f":"IF(AND(AK21>U14,AK21<W14)=TRUE,AK21,0)","v":0},0.1,{"$f":"IF(AND(AK21>W14,AK21<Y14)=TRUE,AK21,0)","v":0},0.15,{"$f":"IF(AND(AK21>Y14,AK21<AA14)=TRUE,AK21,0)","v":0},0.2,{"$f":"IF(AND(AK21>AA14,AK21<AC14)=TRUE,AK21,0)","v":0},0.3,{"$f":"IF(AND(AK21>AC14,AK21<AE14)=TRUE,AK21,0)","v":0.373},0.4,{"$f":"IF(AND(AK21>AE14,AK21<AG14)=TRUE,AK21,0)","v":0},0.5,{"$f":"IF(AND(AK21>AG14,AK21<AI14)=TRUE,AK21,0)","v":0},0.6,1]
["Рвых","МПа",null,null,null,null,null,null,null,null,null,null,null,null,null,null,null,null,null,null,null,null,null,null,null,null,null,null,null,null,null,null,null,null,null,{"$f":"AJ14+1","v":2}]
["кПа",null,null,null,null,null,null,null,null,null,null,null,null,null,null,null,null,null,null,null,null,null,null,null,null,null,null,null,null,null,null,null,null,null,null,{"$f":"AJ15+1","v":3}]
[1,1,50,{"$f":"(E17-C17)/(E14-C14)*(D14-C14)+C17","v":5},80,{"$f":"(G17-E17)/(G14-E14)*(F14-E14)+E17","v":39.999999999999993},100,{"$f":"(I17-G17)/(I14-G14)*(H14-G14)+G17","v":40.000000000000014},120,{"$f":"(K17-I17)/(K14-I14)*(J14-I14)+I17","v":59.999999999999993},150,{"$f":"(M17-K17)/(M14-K14)*(L14-K14)+K17","v":90.000000000000014},170,{"$f":"(O17-M17)/(O14-M14)*(N14-M14)+M17","v":69.999999999999986},220,{"$f":"(Q17-O17)/(Q14-O14)*(P14-O14)+O17","v":130},250,{"$f":"(S17-Q17)/(S14-Q14)*(R14-Q14)+Q17","v":130},280,{"$f":"(U17-S17)/(U14-S14)*(T14-S14)+S17","v":159.99999999999997},340,{"$f":"(W17-U17)/(W14-U14)*(V14-U14)+U17","v":160.00000000000009},400,{"$f":"(Y17-W17)/(Y14-W14)*(X14-W14)+W17","v":199.99999999999994},500,{"$f":"(AA17-Y17)/(AA14-Y14)*(Z14-Y14)+Y17","v":200.00000000000011},600,{"$f":"(AC17-AA17)/(AC14-AA14)*(AB14-AA14)+AA17","v":500},650,{"$f":"(AE17-AC17)/(AE14-AC14)*(AD14-AC14)+AC17","v":723},750,{"$f":"(AG17-AE17)/(AG14-AE14)*(AF14-AE14)+AE17","v":149.99999999999989},900,{"$f":"(AI17-AG17)/(AI14-AG14)*(AH14-AG14)+AG17","v":900},900,4,"Рвх","Q","Qcрасч","Рвых","Рвых"]
[{"$f":"IF(AND(AN21>A17,AN21<A19)=TRUE,AN21,0)","v":0},null,{"$f":"(C19-C17)/(A19-A17)*(A18-A17)+C17","v":{"$error":"#VALUE!"}},{"$f":"(E18-C18)/(E14-C14)*(D14-C14)+C18","v":{"$error":"#VALUE!"}},{"$f":"(E19-E17)/(A19-A17)*(A18-A17)+E17","v":85},{"$f":"(G18-E18)/(G14-E14)*(F14-E14)+E18","v":55},{"$f":"(G19-G17)/(A19-A17)*(A18-A17)+G17","v":100},{"$f":"(I18-G18)/(I14-G14)*(H14-G14)+G18","v":40.000000000000014},{"$f":"(I19-I17)/(A19-A17)*(A18-A17)+I17","v":120},{"$f":"(K18-I18)/(K14-I14)*(J14-I14)+I18","v":59.999999999999993},{"$f":"(K19-K17)/(A19-A17)*(A18-A17)+K17","v":150},{"$f":"(M18-K18)/(M14-K14)*(L14-K14)+K18","v":90.000000000000014},{"$f":"(M19-M17)/(A19-A17)*(A18-A17)+M17","v":170},{"$f":"(O18-M18)/(O14-M14)*(N14-M14)+M18","v":69.999999999999986},{"$f":"(O19-O17)/(A19-A17)*(A18-A17)+O17","v":220},{"$f":"(Q18-O18)/(Q14-O14)*(P14-O14)+O18","v":130},{"$f":"(Q19-Q17)/(A19-A17)*(A18-A17)+Q17","v":250},{"$f":"(S18-Q18)/(S14-Q14)*(R14-Q14)+Q18","v":130},{"$f":"(S19-S17)/(E19-E17)*(E18-E17)+S17","v":280},{"$f":"(U18-S18)/(U14-S14)*(T14-S14)+S18","v":159.99999999999997},{"$f":"(U19-U17)/(A19-A17)*(A18-A17)+U17","v":340},{"$f":"(W18-U18)/(W14-U14)*(V14-U14)+U18","v":160.00000000000009},{"$f":"(W19-W17)/(A19-A17)*(A18-A17)+W17","v":400},{"$f":"(Y18-W18)/(Y14-W14)*(X14-W14)+W18","v":199.99999999999994},{"$f":"(Y19-Y17)/(A19-A17)*(A18-A17)+Y17","v":500},{"$f":"(AA18-Y18)/(AA14-Y14)*(Z14-Y14)+Y18","v":200.00000000000011},{"$f":"(AA19-AA17)/(E19-E17)*(E18-E17)+AA17","v":600},{"$f":"(AC18-AA18)/(AC14-AA14)*(AB14-AA14)+AA18","v":500},{"$f":"(AC19-AC17)/(A19-A17)*(A18-A17)+AC17","v":650},{"$f":"(AE18-AC18)/(AE14-AC14)*(AD14-AC14)+AC18","v":723},{"$f":"(AE19-AE17)/(A19-A17)*(A18-A17)+AE17","v":750},{"$f":"(AG18-AE18)/(AG14-AE14)*(AF14-AE14)+AE18","v":149.99999999999989},{"$f":"(AG19-AG17)/(A19-A17)*(A18-A17)+AG17","v":900},{"$f":"(AI18-AG18)/(AI14-AG14)*(AH14-AG14)+AG18","v":900},{"$f":"(AI19-AI17)/(A19-A17)*(A18-A17)+AI17","v":900},5]
[2,{"$f":"B17+1","v":2},"-",{"$f":"(E19-C19)/(E14-C14)*(D14-C14)+C19","v":{"$error":"#VALUE!"}},75,{"$f":"(G19-E19)/(G14-E14)*(F14-E14)+E19","v":24.999999999999993},100,{"$f":"(I19-G19)/(I14-G14)*(H14-G14)+G19","v":40.000000000000014},120,{"$f":"(K19-I19)/(K14-I14)*(J14-I14)+I19","v":59.999999999999993},150,{"$f":"(M19-K19)/(M14-K14)*(L14-K14)+K19","v":90.000000000000014},170,{"$f":"(O19-M19)/(O14-M14)*(N14-M14)+M19","v":69.999999999999986},220,{"$f":"(Q19-O19)/(Q14-O14)*(P14-O14)+O19","v":130},250,{"$f":"(S19-Q19)/(S14-Q14)*(R14-Q14)+Q19","v":130},280,{"$f":"(U19-S19)/(U14-S14)*(T14-S14)+S19","v":159.99999999999997},340,{"$f":"(W19-U19)/(W14-U14)*(V14-U14)+U19","v":160.00000000000009},400,{"$f":"(Y19-W19)/(Y14-W14)*(X14-W14)+W19","v":199.99999999999994},500,{"$f":"(AA19-Y19)/(AA14-Y14)*(Z14-Y14)+Y19","v":200.00000000000011},600,{"$f":"(AC19-AA19)/(AC14-AA14)*(AB14-AA14)+AA19","v":500},650,{"$f":"(AE19-AC19)/(AE14-AC14)*(AD14-AC14)+AC19","v":723},750,{"$f":"(AG19-AE19)/(AG14-AE14)*(AF14-AE14)+AE19","v":149.99999999999989},900,{"$f":"(AI19-AG19)/(AI14-AG14)*(AH14-AG14)+AG19","v":900},900,6,"МПа","нм3/час","нм3/час","кПа","кПа"]
[{"$f":"IF(AND(AN21>A19,AN21<A21)=TRUE,AN21,0)","v":0},null,{"$f":"(C21-C19)/(A21-A19)*(A20-A19)+C19","v":{"$error":"#VALUE!"}},{"$f":"(E20-C20)/(E14-C14)*(D14-C14)+C20","v":{"$error":"#VALUE!"}},{"$f":"(E21-E19)/(A21-A19)*(A20-A19)+E19","v":105},{"$f":"(G20-E20)/(G14-E14)*(F14-E14)+E20","v":75},{"$f":"(G21-G19)/(A21-A19)*(A20-A19)+G19","v":120},{"$f":"(I20-G20)/(I14-G14)*(H14-G14)+G20","v":60.000000000000014},{"$f":"(I21-I19)/(A21-A19)*(A20-A19)+I19","v":140},{"$f":"(K20-I20)/(K14-I14)*(J14-I14)+I20","v":120},{"$f":"(K21-K19)/(A21-A19)*(A20-A19)+K19","v":150},{"$f":"(M20-K20)/(M14-K14)*(L14-K14)+K20","v":90.000000000000014},{"$f":"(M21-M19)/(A21-A19)*(A20-A19)+M19","v":170},{"$f":"(O20-M20)/(O14-M14)*(N14-M14)+M20","v":69.999999999999986},{"$f":"(O21-O19)/(A21-A19)*(A20-A19)+O19","v":220},{"$f":"(Q20-O20)/(Q14-O14)*(P14-O14)+O20","v":130},{"$f":"(Q21-Q19)/(A21-A19)*(A20-A19)+Q19","v":250},{"$f":"(S20-Q20)/(S14-Q14)*(R14-Q14)+Q20","v":130},{"$f":"(S21-S19)/(E21-E19)*(E20-E19)+S19","v":280},{"$f":"(U20-S20)/(U14-S14)*(T14-S14)+S20","v":159.99999999999997},{"$f":"(U21-U19)/(G21-G19)*(G20-G19)+U19","v":340},{"$f":"(W20-U20)/(W14-U14)*(V14-U14)+U20","v":160.00000000000009},{"$f":"(W21-W19)/(I21-I19)*(I20-I19)+W19","v":400},{"$f":"(Y20-W20)/(Y14-W14)*(X14-W14)+W20","v":199.99999999999994},{"$f":"(Y21-Y19)/(A21-A19)*(A20-A19)+Y19","v":500},{"$f":"(AA20-Y20)/(AA14-Y14)*(Z14-Y14)+Y20","v":200.00000000000011},{"$f":"(AA21-AA19)/(E21-E19)*(E20-E19)+AA19","v":600},{"$f":"(AC20-AA20)/(AC14-AA14)*(AB14-AA14)+AA20","v":500},{"$f":"(AC21-AC19)/(A21-A19)*(A20-A19)+AC19","v":650},{"$f":"(AE20-AC20)/(AE14-AC14)*(AD14-AC14)+AC20","v":723},{"$f":"(AE21-AE19)/(A21-A19)*(A20-A19)+AE19","v":750},{"$f":"(AG20-AE20)/(AG14-AE14)*(AF14-AE14)+AE20","v":149.99999999999989},{"$f":"(AG21-AG19)/(E21-E19)*(E20-E19)+AG19","v":900},{"$f":"(AI20-AG20)/(AI14-AG14)*(AH14-AG14)+AG20","v":900},{"$f":"(AI21-AI19)/(A21-A19)*(A20-A19)+AI19","v":900},7]
[3,{"$f":"B19+1","v":3},"-",{"$f":"(E21-C21)/(E14-C14)*(D14-C14)+C21","v":{"$error":"#VALUE!"}},60,{"$f":"(G21-E21)/(G14-E14)*(F14-E14)+E21","v":0},90,{"$f":"(I21-G21)/(I14-G14)*(H14-G14)+G21","v":30.000000000000014},110,{"$f":"(K21-I21)/(K14-I14)*(J14-I14)+I21","v":29.999999999999986},150,{"$f":"(M21-K21)/(M14-K14)*(L14-K14)+K21","v":90.000000000000014},170,{"$f":"(O21-M21)/(O14-M14)*(N14-M14)+M21","v":69.999999999999986},220,{"$f":"(Q21-O21)/(Q14-O14)*(P14-O14)+O21","v":130},250,{"$f":"(S21-Q21)/(S14-Q14)*(R14-Q14)+Q21","v":130},280,{"$f":"(U21-S21)/(U14-S14)*(T14-S14)+S21","v":159.99999999999997},340,{"$f":"(W21-U21)/(W14-U14)*(V14-U14)+U21","v":160.00000000000009},400,{"$f":"(Y21-W21)/(Y14-W14)*(X14-W14)+W21","v":199.99999999999994},500,{"$f":"(AA21-Y21)/(AA14-Y14)*(Z14-Y14)+Y21","v":200.00000000000011},600,{"$f":"(AC21-AA21)/(AC14-AA14)*(AB14-AA14)+AA21","v":500},650,{"$f":"(AE21-AC21)/(AE14-AC14)*(AD14-AC14)+AC21","v":723},750,{"$f":"(AG21-AE21)/(AG14-AE14)*(AF14-AE14)+AE21","v":149.99999999999989},900,{"$f":"(AI21-AG21)/(AI14-AG14)*(AH14-AG14)+AG21","v":900},900,8,{"$f":"Лист1!B21","v":0.373},{"$f":"Лист1!B23","v":229.2},{"$f":"VLOOKUP(AN21,A14:AI49,HLOOKUP(AK21,A14:AI49,36,0),0)","v":{"$error":"#N/A"}},{"$f":"Лист1!B22","v":300},{"$f":"IF(AK21<A17,\"NO\",IF(AK21>A43,\"N0\",IF(VLOOKUP(AK21,A17:AI43,3,0)>AL21,\"NO\",IF(VLOOKUP(AK21,A17:AI43,17,0)<AL21,\"NO\",IF(AND(AM21>=AL21-0.1,AM21<AL21+0.1)=TRUE,AN21,\"NO\")))))","v":"NO"}]
[{"$f":"IF(AND(AN21>A21,AN21<A23)=TRUE,AN21,0)","v":0},null,{"$f":"(C23-C21)/(A23-A21)*(A22-A21)+C21","v":{"$error":"#VALUE!"}},{"$f":"(E22-C22)/(E14-C14)*(D14-C14)+C22","v":{"$error":"#VALUE!"}},{"$f":"(E23-E21)/(A23-A21)*(A22-A21)+E21","v":{"$error":"#VALUE!"}},{"$f":"(G22-E22)/(G14-E14)*(F14-E14)+E22","v":{"$error":"#VALUE!"}},{"$f":"(G23-G21)/(A23-A21)*(A22-A21)+G21","v":120},{"$f":"(I22-G22)/(I14-G14)*(H14-G14)+G22","v":60.000000000000014},{"$f":"(I23-I21)/(A23-A21)*(A22-A21)+I21","v":140},{"$f":"(K22-I22)/(K14-I14)*(J14-I14)+I22","v":59.999999999999986},{"$f":"(K23-K21)/(A23-A21)*(A22-A21)+K21","v":180},{"$f":"(M22-K22)/(M14-K14)*(L14-K14)+K22","v":210},{"$f":"(M23-M21)/(A23-A21)*(A22-A21)+M21","v":170},{"$f":"(O22-M22)/(O14-M14)*(N14-M14)+M22","v":9.9999999999999716},{"$f":"(O23-O21)/(A23-A21)*(A22-A21)+O21","v":250},{"$f":"(Q22-O22)/(Q14-O14)*(P14-O14)+O22","v":250},{"$f":"(Q23-Q21)/(A23-A21)*(A22-A21)+Q21","v":250},{"$f":"(S22-Q22)/(S14-Q14)*(R14-Q14)+Q22","v":130},{"$f":"(S23-S21)/(A23-A21)*(A22-A21)+S21","v":280},{"$f":"(U22-S22)/(U14-S14)*(T14-S14)+S22","v":159.99999999999997},{"$f":"(U23-U21)/(G23-G21)*(G22-G21)+U21","v":340},{"$f":"(W22-U22)/(W14-U14)*(V14-U14)+U22","v":160.00000000000009},{"$f":"(W23-W21)/(I23-I21)*(I22-I21)+W21","v":400},{"$f":"(Y22-W22)/(Y14-W14)*(X14-W14)+W22","v":199.99999999999994},{"$f":"(Y23-Y21)/(A23-A21)*(A22-A21)+Y21","v":500},{"$f":"(AA22-Y22)/(AA14-Y14)*(Z14-Y14)+Y22","v":200.00000000000011},{"$f":"(AA23-AA21)/(A23-A21)*(A22-A21)+AA21","v":600},{"$f":"(AC22-AA22)/(AC14-AA14)*(AB14-AA14)+AA22","v":500},{"$f":"(AC23-AC21)/(A23-A21)*(A22-A21)+AC21","v":650},{"$f":"(AE22-AC22)/(AE14-AC14)*(AD14-AC14)+AC22","v":723},{"$f":"(AE23-AE21)/(A23-A21)*(A22-A21)+AE21","v":750},{"$f":"(AG22-AE22)/(AG14-AE14)*(AF14-AE14)+AE22","v":149.99999999999989},{"$f":"(AG23-AG21)/(A23-A21)*(A22-A21)+AG21","v":900},{"$f":"(AI22-AG22)/(AI14-AG14)*(AH14-AG14)+AG22","v":900},{"$f":"(AI23-AI21)/(A23-A21)*(A22-A21)+AI21","v":900},9]
[4,{"$f":"B21+1","v":4},"-",{"$f":"(E23-C23)/(E14-C14)*(D14-C14)+C23","v":{"$error":"#VALUE!"}},"-",{"$f":"(G23-E23)/(G14-E14)*(F14-E14)+E23","v":{"$error":"#VALUE!"}},80,{"$f":"(I23-G23)/(I14-G14)*(H14-G14)+G23","v":20.000000000000014},100,{"$f":"(K23-I23)/(K14-I14)*(J14-I14)+I23","v":19.999999999999986},140,{"$f":"(M23-K23)/(M14-K14)*(L14-K14)+K23","v":50.000000000000014},170,{"$f":"(O23-M23)/(O14-M14)*(N14-M14)+M23","v":89.999999999999986},210,{"$f":"(Q23-O23)/(Q14-O14)*(P14-O14)+O23","v":90.000000000000028},250,{"$f":"(S23-Q23)/(S14-Q14)*(R14-Q14)+Q23","v":130},280,{"$f":"(U23-S23)/(U14-S14)*(T14-S14)+S23","v":159.99999999999997},340,{"$f":"(W23-U23)/(W14-U14)*(V14-U14)+U23","v":160.00000000000009},400,{"$f":"(Y23-W23)/(Y14-W14)*(X14-W14)+W23","v":199.99999999999994},500,{"$f":"(AA23-Y23)/(AA14-Y14)*(Z14-Y14)+Y23","v":200.00000000000011},600,{"$f":"(AC23-AA23)/(AC14-AA14)*(AB14-AA14)+AA23","v":500},650,{"$f":"(AE23-AC23)/(AE14-AC14)*(AD14-AC14)+AC23","v":723},750,{"$f":"(AG23-AE23)/(AG14-AE14)*(AF14-AE14)+AE23","v":149.99999999999989},900,{"$f":"(AI23-AG23)/(AI14-AG14)*(AH14-AG14)+AG23","v":900},900,10,0.1,{"$f":"Лист1!B25","v":263.58}]
[{"$f":"IF(AND(AN21>A23,AN21<A25)=TRUE,AN21,0)","v":0},null,{"$f":"(C25-C23)/(A25-A23)*(A24-A23)+C23","v":{"$error":"#VALUE!"}},{"$f":"(E24-C24)/(E14-C14)*(D14-C14)+C24","v":{"$error":"#VALUE!"}},{"$f":"(E25-E23)/(A25-A23)*(A24-A23)+E23","v":{"$error":"#VALUE!"}},{"$f":"(G24-E24)/(G14-E14)*(F14-E14)+E24","v":{"$error":"#VALUE!"}},{"$f":"(G25-G23)/(A25-A23)*(A24-A23)+G23","v":120},{"$f":"(I24-G24)/(I14-G14)*(H14-G14)+G24","v":60.000000000000014},{"$f":"(I25-I23)/(A25-A23)*(A24-A23)+I23","v":140},{"$f":"(K24-I24)/(K14-I14)*(J14-I14)+I24","v":140},{"$f":"(K25-K23)/(A25-A23)*(A24-A23)+K23","v":140},{"$f":"(M24-K24)/(M14-K14)*(L14-K14)+K24","v":-69.999999999999972},{"$f":"(M25-M23)/(A25-A23)*(A24-A23)+M23","v":210},{"$f":"(O24-M24)/(O14-M14)*(N14-M14)+M24","v":210},{"$f":"(O25-O23)/(A25-A23)*(A24-A23)+O23","v":210},{"$f":"(Q24-O24)/(Q14-O14)*(P14-O14)+O24","v":-29.999999999999943},{"$f":"(Q25-Q23)/(A25-A23)*(A24-A23)+Q23","v":290},{"$f":"(S24-Q24)/(S14-Q14)*(R14-Q14)+Q24","v":170},{"$f":"(S25-S23)/(A25-A23)*(A24-A23)+S23","v":320},{"$f":"(U24-S24)/(U14-S14)*(T14-S14)+S24","v":280},{"$f":"(U25-U23)/(G25-G23)*(G24-G23)+U23","v":340},{"$f":"(W24-U24)/(W14-U14)*(V14-U14)+U24","v":160.00000000000009},{"$f":"(W25-W23)/(I25-I23)*(I24-I23)+W23","v":400},{"$f":"(Y24-W24)/(Y14-W14)*(X14-W14)+W24","v":199.99999999999994},{"$f":"(Y25-Y23)/(A25-A23)*(A24-A23)+Y23","v":500},{"$f":"(AA24-Y24)/(AA14-Y14)*(Z14-Y14)+Y24","v":200.00000000000011},{"$f":"(AA25-AA23)/(A25-A23)*(A24-A23)+AA23","v":600},{"$f":"(AC24-AA24)/(AC14-AA14)*(AB14-AA14)+AA24","v":500},{"$f":"(AC25-AC23)/(A25-A23)*(A24-A23)+AC23","v":650},{"$f":"(AE24-AC24)/(AE14-AC14)*(AD14-AC14)+AC24","v":723},{"$f":"(AE25-AE23)/(A25-A23)*(A24-A23)+AE23","v":750},{"$f":"(AG24-AE24)/(AG14-AE14)*(AF14-AE14)+AE24","v":149.99999999999989},{"$f":"(AG25-AG23)/(A25-A23)*(A24-A23)+AG23","v":900},{"$f":"(AI24-AG24)/(AI14-AG14)*(AH14-AG14)+AG24","v":900},{"$f":"(AI25-AI23)/(A25-A23)*(A24-A23)+AI23","v":900},11]
[5,{"$f":"B23+1","v":5},"-",{"$f":"(E25-C25)/(E14-C14)*(D14-C14)+C25","v":{"$error":"#VALUE!"}},"-",{"$f":"(G25-E25)/(G14-E14)*(F14-E14)+E25","v":{"$error":"#VALUE!"}},70,{"$f":"(I25-G25)/(I14-G14)*(H14-G14)+G25","v":10.000000000000014},90,{"$f":"(K25-I25)/(K14-I14)*(J14-I14)+I25","v":-10.000000000000014},140,{"$f":"(M25-K25)/(M14-K14)*(L14-K14)+K25","v":80.000000000000014},160,{"$f":"(O25-M25)/(O14-M14)*(N14-M14)+M25","v":59.999999999999986},210,{"$f":"(Q25-O25)/(Q14-O14)*(P14-O14)+O25","v":120.00000000000001},240,{"$f":"(S25-Q25)/(S14-Q14)*(R14-Q14)+Q25","v":120.00000000000001},270,{"$f":"(U25-S25)/(U14-S14)*(T14-S14)+S25","v":129.99999999999997},340,{"$f":"(W25-U25)/(W14-U14)*(V14-U14)+U25","v":160.00000000000009},400,{"$f":"(Y25-W25)/(Y14-W14)*(X14-W14)+W25","v":199.99999999999994},500,{"$f":"(AA25-Y25)/(AA14-Y14)*(Z14-Y14)+Y25","v":200.00000000000011},600,{"$f":"(AC25-AA25)/(AC14-AA14)*(AB14-AA14)+AA25","v":500},650,{"$f":"(AE25-AC25)/(AE14-AC14)*(AD14-AC14)+AC25","v":723},750,{"$f":"(AG25-AE25)/(AG14-AE14)*(AF14-AE14)+AE25","v":149.99999999999989},900,{"$f":"(AI25-AG25)/(AI14-AG14)*(AH14-AG14)+AG25","v":900},900,12,"Регулятор давления",null,null,{"$f":"Лист1!F67","v":"РЕД-4-50-С3 DN50 Qmax=670 нм3/час"}]
[{"$f":"IF(AND(AN21>A25,AN21<A27)=TRUE,AN21,0)","v":0},null,{"$f":"(C27-C25)/(A27-A25)*(A26-A25)+C25","v":{"$error":"#VALUE!"}},{"$f":"(E26-C26)/(E14-C14)*(D14-C14)+C26","v":{"$error":"#VALUE!"}},{"$f":"(E27-E25)/(A27-A25)*(A26-A25)+E25","v":{"$error":"#VALUE!"}},{"$f":"(G26-E26)/(G14-E14)*(F14-E14)+E26","v":{"$error":"#VALUE!"}},{"$f":"(G27-G25)/(A27-A25)*(A26-A25)+G25","v":{"$error":"#VALUE!"}},{"$f":"(I26-G26)/(I14-G14)*(H14-G14)+G26","v":{"$error":"#VALUE!"}},{"$f":"(I27-I25)/(A27-A25)*(A26-A25)+I25","v":{"$error":"#VALUE!"}},{"$f":"(K26-I26)/(K14-I14)*(J14-I14)+I26","v":{"$error":"#VALUE!"}},{"$f":"(K27-K25)/(A27-A25)*(A26-A25)+K25","v":173.33333333333334},{"$f":"(M26-K26)/(M14-K14)*(L14-K14)+K26","v":163.3333333333334},{"$f":"(M27-M25)/(A27-A25)*(A26-A25)+M25","v":176.66666666666666},{"$f":"(O26-M26)/(O14-M14)*(N14-M14)+M26","v":76.666666666666643},{"$f":"(O27-O25)/(A27-A25)*(A26-A25)+O25","v":226.66666666666666},{"$f":"(Q26-O26)/(Q14-O14)*(P14-O14)+O26","v":186.66666666666663},{"$f":"(Q27-Q25)/(A27-A25)*(A26-A25)+Q25","v":240},{"$f":"(S26-Q26)/(S14-Q14)*(R14-Q14)+Q26","v":120.00000000000001},{"$f":"(S27-S25)/(A27-A25)*(A26-A25)+S25","v":270},{"$f":"(U26-S26)/(U14-S14)*(T14-S14)+S26","v":129.99999999999997},{"$f":"(U27-U25)/(A27-A25)*(A26-A25)+U25","v":340},{"$f":"(W26-U26)/(W14-U14)*(V14-U14)+U26","v":160.00000000000009},{"$f":"(W27-W25)/(A27-A25)*(A26-A25)+W25","v":400},{"$f":"(Y26-W26)/(Y14-W14)*(X14-W14)+W26","v":199.99999999999994},{"$f":"(Y27-Y25)/(A27-A25)*(A26-A25)+Y25","v":500},{"$f":"(AA26-Y26)/(AA14-Y14)*(Z14-Y14)+Y26","v":200.00000000000011},{"$f":"(AA27-AA25)/(A27-A25)*(A26-A25)+AA25","v":600},{"$f":"(AC26-AA26)/(AC14-AA14)*(AB14-AA14)+AA26","v":500},{"$f":"(AC27-AC25)/(A27-A25)*(A26-A25)+AC25","v":650},{"$f":"(AE26-AC26)/(AE14-AC14)*(AD14-AC14)+AC26","v":723},{"$f":"(AE27-AE25)/(A27-A25)*(A26-A25)+AE25","v":750},{"$f":"(AG26-AE26)/(AG14-AE14)*(AF14-AE14)+AE26","v":149.99999999999989},{"$f":"(AG27-AG25)/(A27-A25)*(A26-A25)+AG25","v":900},{"$f":"(AI26-AG26)/(AI14-AG14)*(AH14-AG14)+AG26","v":900},{"$f":"(AI27-AI25)/(A27-A25)*(A26-A25)+AI25","v":900},13]
[8,{"$f":"B25+1","v":6},"-",{"$f":"(E27-C27)/(E14-C14)*(D14-C14)+C27","v":{"$error":"#VALUE!"}},"-",{"$f":"(G27-E27)/(G14-E14)*(F14-E14)+E27","v":{"$error":"#VALUE!"}},"-",{"$f":"(I27-G27)/(I14-G14)*(H14-G14)+G27","v":{"$error":"#VALUE!"}},"-",{"$f":"(K27-I27)/(K14-I14)*(J14-I14)+I27","v":{"$error":"#VALUE!"}},120,{"$f":"(M27-K27)/(M14-K14)*(L14-K14)+K27","v":30.000000000000014},150,{"$f":"(O27-M27)/(O14-M14)*(N14-M14)+M27","v":49.999999999999986},200,{"$f":"(Q27-O27)/(Q14-O14)*(P14-O14)+O27","v":80.000000000000028},240,{"$f":"(S27-Q27)/(S14-Q14)*(R14-Q14)+Q27","v":120.00000000000001},270,{"$f":"(U27-S27)/(U14-S14)*(T14-S14)+S27","v":129.99999999999997},340,{"$f":"(W27-U27)/(W14-U14)*(V14-U14)+U27","v":160.00000000000009},400,{"$f":"(Y27-W27)/(Y14-W14)*(X14-W14)+W27","v":199.99999999999994},500,{"$f":"(AA27-Y27)/(AA14-Y14)*(Z14-Y14)+Y27","v":200.00000000000011},600,{"$f":"(AC27-AA27)/(AC14-AA14)*(AB14-AA14)+AA27","v":500},650,{"$f":"(AE27-AC27)/(AE14-AC14)*(AD14-AC14)+AC27","v":723},750,{"$f":"(AG27-AE27)/(AG14-AE14)*(AF14-AE14)+AE27","v":149.99999999999989},900,{"$f":"(AI27-AG27)/(AI14-AG14)*(AH14-AG14)+AG27","v":900},900,14]
[{"$f":"IF(AND(AN21>A27,AN21<A29)=TRUE,AN21,0)","v":0},null,{"$f":"(C29-C27)/(A29-A27)*(A28-A27)+C27","v":{"$error":"#VALUE!"}},{"$f":"(E28-C28)/(E14-C14)*(D14-C14)+C28","v":{"$error":"#VALUE!"}},{"$f":"(E29-E27)/(A29-A27)*(A28-A27)+E27","v":{"$error":"#VALUE!"}},{"$f":"(G28-E28)/(G14-E14)*(F14-E14)+E28","v":{"$error":"#VALUE!"}},{"$f":"(G29-G27)/(A29-A27)*(A28-A27)+G27","v":{"$error":"#VALUE!"}},{"$f":"(I28-G28)/(I14-G14)*(H14-G14)+G28","v":{"$error":"#VALUE!"}},{"$f":"(I29-I27)/(A29-A27)*(A28-A27)+I27","v":{"$error":"#VALUE!"}},{"$f":"(K28-I28)/(K14-I14)*(J14-I14)+I28","v":{"$error":"#VALUE!"}},{"$f":"(K29-K27)/(A29-A27)*(A28-A27)+K27","v":200},{"$f":"(M28-K28)/(M14-K14)*(L14-K14)+K28","v":230},{"$f":"(M29-M27)/(A29-A27)*(A28-A27)+M27","v":190},{"$f":"(O28-M28)/(O14-M14)*(N14-M14)+M28","v":89.999999999999986},{"$f":"(O29-O27)/(A29-A27)*(A28-A27)+O27","v":240},{"$f":"(Q28-O28)/(Q14-O14)*(P14-O14)+O28","v":120.00000000000003},{"$f":"(Q29-Q27)/(A29-A27)*(A28-A27)+Q27","v":280},{"$f":"(S28-Q28)/(S14-Q14)*(R14-Q14)+Q28","v":0},{"$f":"(S29-S27)/(A29-A27)*(A28-A27)+S27","v":350},{"$f":"(U28-S28)/(U14-S14)*(T14-S14)+S28","v":370},{"$f":"(U29-U27)/(A29-A27)*(A28-A27)+U27","v":340},{"$f":"(W28-U28)/(W14-U14)*(V14-U14)+U28","v":160.00000000000009},{"$f":"(W29-W27)/(A29-A27)*(A28-A27)+W27","v":400},{"$f":"(Y28-W28)/(Y14-W14)*(X14-W14)+W28","v":199.99999999999994},{"$f":"(Y29-Y27)/(A29-A27)*(A28-A27)+Y27","v":500},{"$f":"(AA28-Y28)/(AA14-Y14)*(Z14-Y14)+Y28","v":200.00000000000011},{"$f":"(AA29-AA27)/(A29-A27)*(A28-A27)+AA27","v":600},{"$f":"(AC28-AA28)/(AC14-AA14)*(AB14-AA14)+AA28","v":500},{"$f":"(AC29-AC27)/(A29-A27)*(A28-A27)+AC27","v":650},{"$f":"(AE28-AC28)/(AE14-AC14)*(AD14-AC14)+AC28","v":723},{"$f":"(AE29-AE27)/(A29-A27)*(A28-A27)+AE27","v":750},{"$f":"(AG28-AE28)/(AG14-AE14)*(AF14-AE14)+AE28","v":149.99999999999989},{"$f":"(AG29-AG27)/(A29-A27)*(A28-A27)+AG27","v":900},{"$f":"(AI28-AG28)/(AI14-AG14)*(AH14-AG14)+AG28","v":900},{"$f":"(AI29-AI27)/(A29-A27)*(A28-A27)+AI27","v":900},15]
[10,{"$f":"B27+1","v":7},"-",{"$f":"(E29-C29)/(E14-C14)*(D14-C14)+C29","v":{"$error":"#VALUE!"}},"-",{"$f":"(G29-E29)/(G14-E14)*(F14-E14)+E29","v":{"$error":"#VALUE!"}},"-",{"$f":"(I29-G29)/(I14-G14)*(H14-G14)+G29","v":{"$error":"#VALUE!"}},"-",{"$f":"(K29-I29)/(K14-I14)*(J14-I14)+I29","v":{"$error":"#VALUE!"}},100,{"$f":"(M29-K29)/(M14-K14)*(L14-K14)+K29","v":-19.999999999999972},140,{"$f":"(O29-M29)/(O14-M14)*(N14-M14)+M29","v":39.999999999999986},190,{"$f":"(Q29-O29)/(Q14-O14)*(P14-O14)+O29","v":70.000000000000028},230,{"$f":"(S29-Q29)/(S14-Q14)*(R14-Q14)+Q29","v":150},250,{"$f":"(U29-S29)/(U14-S14)*(T14-S14)+S29","v":69.999999999999943},340,{"$f":"(W29-U29)/(W14-U14)*(V14-U14)+U29","v":160.00000000000009},400,{"$f":"(Y29-W29)/(Y14-W14)*(X14-W14)+W29","v":199.99999999999994},500,{"$f":"(AA29-Y29)/(AA14-Y14)*(Z14-Y14)+Y29","v":200.00000000000011},600,{"$f":"(AC29-AA29)/(AC14-AA14)*(AB14-AA14)+AA29","v":500},650,{"$f":"(AE29-AC29)/(AE14-AC14)*(AD14-AC14)+AC29","v":723},750,{"$f":"(AG29-AE29)/(AG14-AE14)*(AF14-AE14)+AE29","v":149.99999999999989},900,{"$f":"(AI29-AG29)/(AI14-AG14)*(AH14-AG14)+AG29","v":900},900,16]
[{"$f":"IF(AND(AN21>A29,AN21<A31)=TRUE,AN21,0)","v":0},null,{"$f":"(C31-C29)/(A31-A29)*(A30-A29)+C29","v":{"$error":"#VALUE!"}},{"$f":"(E30-C30)/(E14-C14)*(D14-C14)+C30","v":{"$error":"#VALUE!"}},{"$f":"(E31-E29)/(A31-A29)*(A30-A29)+E29","v":{"$error":"#VALUE!"}},{"$f":"(G30-E30)/(G14-E14)*(F14-E14)+E30","v":{"$error":"#VALUE!"}},{"$f":"(G31-G29)/(A31-A29)*(A30-A29)+G29","v":{"$error":"#VALUE!"}},{"$f":"(I30-G30)/(I14-G14)*(H14-G14)+G30","v":{"$error":"#VALUE!"}},{"$f":"(I31-I29)/(A31-A29)*(A30-A29)+I29","v":{"$error":"#VALUE!"}},{"$f":"(K30-I30)/(K14-I14)*(J14-I14)+I30","v":{"$error":"#VALUE!"}},{"$f":"(K31-K29)/(A31-A29)*(A30-A29)+K29","v":{"$error":"#VALUE!"}},{"$f":"(M30-K30)/(M14-K14)*(L14-K14)+K30","v":{"$error":"#VALUE!"}},{"$f":"(M31-M29)/(A31-A29)*(A30-A29)+M29","v":220},{"$f":"(O30-M30)/(O14-M14)*(N14-M14)+M30","v":200},{"$f":"(O31-O29)/(A31-A29)*(A30-A29)+O29","v":230},{"$f":"(Q30-O30)/(Q14-O14)*(P14-O14)+O30","v":170},{"$f":"(Q31-Q29)/(A31-A29)*(A30-A29)+Q29","v":250},{"$f":"(S30-Q30)/(S14-Q14)*(R14-Q14)+Q30","v":250},{"$f":"(S31-S29)/(A31-A29)*(A30-A29)+S29","v":250},{"$f":"(U30-S30)/(U14-S14)*(T14-S14)+S30","v":29.999999999999943},{"$f":"(U31-U29)/(A31-A29)*(A30-A29)+U29","v":360},{"$f":"(W30-U30)/(W14-U14)*(V14-U14)+U30","v":180.00000000000009},{"$f":"(W31-W29)/(A31-A29)*(A30-A29)+W29","v":420},{"$f":"(Y30-W30)/(Y14-W14)*(X14-W14)+W30","v":259.99999999999994},{"$f":"(Y31-Y29)/(A31-A29)*(A30-A29)+Y29","v":500},{"$f":"(AA30-Y30)/(AA14-Y14)*(Z14-Y14)+Y30","v":200.00000000000011},{"$f":"(AA31-AA29)/(A31-A29)*(A30-A29)+AA29","v":600},{"$f":"(AC30-AA30)/(AC14-AA14)*(AB14-AA14)+AA30","v":500},{"$f":"(AC31-AC29)/(A31-A29)*(A30-A29)+AC29","v":650},{"$f":"(AE30-AC30)/(AE14-AC14)*(AD14-AC14)+AC30","v":723},{"$f":"(AE31-AE29)/(A31-A29)*(A30-A29)+AE29","v":750},{"$f":"(AG30-AE30)/(AG14-AE14)*(AF14-AE14)+AE30","v":149.99999999999989},{"$f":"(AG31-AG29)/(A31-A29)*(A30-A29)+AG29","v":900},{"$f":"(AI30-AG30)/(AI14-AG14)*(AH14-AG14)+AG30","v":900},{"$f":"(AI31-AI29)/(A31-A29)*(A30-A29)+AI29","v":900},{"$f":"AJ29+1","v":17}]
[15,{"$f":"B29+1","v":8},"-",{"$f":"(E31-C31)/(E14-C14)*(D14-C14)+C31","v":{"$error":"#VALUE!"}},"-",{"$f":"(G31-E31)/(G14-E14)*(F14-E14)+E31","v":{"$error":"#VALUE!"}},"-",{"$f":"(I31-G31)/(I14-G14)*(H14-G14)+G31","v":{"$error":"#VALUE!"}},"-",{"$f":"(K31-I31)/(K14-I14)*(J14-I14)+I31","v":{"$error":"#VALUE!"}},"-",{"$f":"(M31-K31)/(M14-K14)*(L14-K14)+K31","v":{"$error":"#VALUE!"}},100,{"$f":"(O31-M31)/(O14-M14)*(N14-M14)+M31","v":-40.000000000000028},170,{"$f":"(Q31-O31)/(Q14-O14)*(P14-O14)+O31","v":20.000000000000028},220,{"$f":"(S31-Q31)/(S14-Q14)*(R14-Q14)+Q31","v":100.00000000000001},250,{"$f":"(U31-S31)/(U14-S14)*(T14-S14)+S31","v":89.999999999999943},330,{"$f":"(W31-U31)/(W14-U14)*(V14-U14)+U31","v":150.00000000000009},390,{"$f":"(Y31-W31)/(Y14-W14)*(X14-W14)+W31","v":169.99999999999994},500,{"$f":"(AA31-Y31)/(AA14-Y14)*(Z14-Y14)+Y31","v":200.00000000000011},600,{"$f":"(AC31-AA31)/(AC14-AA14)*(AB14-AA14)+AA31","v":500},650,{"$f":"(AE31-AC31)/(AE14-AC14)*(AD14-AC14)+AC31","v":723},750,{"$f":"(AG31-AE31)/(AG14-AE14)*(AF14-AE14)+AE31","v":149.99999999999989},900,{"$f":"(AI31-AG31)/(AI14-AG14)*(AH14-AG14)+AG31","v":900},900,{"$f":"AJ30+1","v":18}]
[{"$f":"IF(AND(AN21>A31,AN21<A33)=TRUE,AN21,0)","v":0},null,{"$f":"(C33-C31)/(A33-A31)*(A32-A31)+C31","v":{"$error":"#VALUE!"}},{"$f":"(E32-C32)/(E14-C14)*(D14-C14)+C32","v":{"$error":"#VALUE!"}},{"$f":"(E33-E31)/(A33-A31)*(A32-A31)+E31","v":{"$error":"#VALUE!"}},{"$f":"(G32-E32)/(G14-E14)*(F14-E14)+E32","v":{"$error":"#VALUE!"}},{"$f":"(G33-G31)/(A33-A31)*(A32-A31)+G31","v":{"$error":"#VALUE!"}},{"$f":"(I32-G32)/(I14-G14)*(H14-G14)+G32","v":{"$error":"#VALUE!"}},{"$f":"(I33-I31)/(A33-A31)*(A32-A31)+I31","v":{"$error":"#VALUE!"}},{"$f":"(K32-I32)/(K14-I14)*(J14-I14)+I32","v":{"$error":"#VALUE!"}},{"$f":"(K33-K31)/(A33-A31)*(A32-A31)+K31","v":{"$error":"#VALUE!"}},{"$f":"(M32-K32)/(M14-K14)*(L14-K14)+K32","v":{"$error":"#VALUE!"}},{"$f":"(M33-M31)/(A33-A31)*(A32-A31)+M31","v":{"$error":"#VALUE!"}},{"$f":"(O32-M32)/(O14-M14)*(N14-M14)+M32","v":{"$error":"#VALUE!"}},{"$f":"(O33-O31)/(A33-A31)*(A32-A31)+O31","v":260},{"$f":"(Q32-O32)/(Q14-O14)*(P14-O14)+O32","v":200},{"$f":"(Q33-Q31)/(A33-A31)*(A32-A31)+Q31","v":280},{"$f":"(S32-Q32)/(S14-Q14)*(R14-Q14)+Q32","v":280},{"$f":"(S33-S31)/(A33-A31)*(A32-A31)+S31","v":280},{"$f":"(U32-S32)/(U14-S14)*(T14-S14)+S32","v":179.99999999999997},{"$f":"(U33-U31)/(A33-A31)*(A32-A31)+U31","v":330},{"$f":"(W32-U32)/(W14-U14)*(V14-U14)+U32","v":150.00000000000009},{"$f":"(W33-W31)/(A33-A31)*(A32-A31)+W31","v":390},{"$f":"(Y32-W32)/(Y14-W14)*(X14-W14)+W32","v":169.99999999999994},{"$f":"(Y33-Y31)/(A33-A31)*(A32-A31)+Y31","v":500},{"$f":"(AA32-Y32)/(AA14-Y14)*(Z14-Y14)+Y32","v":200.00000000000011},{"$f":"(AA33-AA31)/(A33-A31)*(A32-A31)+AA31","v":600},{"$f":"(AC32-AA32)/(AC14-AA14)*(AB14-AA14)+AA32","v":500},{"$f":"(AC33-AC31)/(A33-A31)*(A32-A31)+AC31","v":650},{"$f":"(AE32-AC32)/(AE14-AC14)*(AD14-AC14)+AC32","v":723},{"$f":"(AE33-AE31)/(A33-A31)*(A32-A31)+AE31","v":750},{"$f":"(AG32-AE32)/(AG14-AE14)*(AF14-AE14)+AE32","v":149.99999999999989},{"$f":"(AG33-AG31)/(A33-A31)*(A32-A31)+AG31","v":900},{"$f":"(AI32-AG32)/(AI14-AG14)*(AH14-AG14)+AG32","v":900},{"$f":"(AI33-AI31)/(A33-A31)*(A32-A31)+AI31","v":900},19]
[20,{"$f":"B31+1","v":9},"-",{"$f":"(E33-C33)/(E14-C14)*(D14-C14)+C33","v":{"$error":"#VALUE!"}},"-",{"$f":"(G33-E33)/(G14-E14)*(F14-E14)+E33","v":{"$error":"#VALUE!"}},"-",{"$f":"(I33-G33)/(I14-G14)*(H14-G14)+G33","v":{"$error":"#VALUE!"}},"-",{"$f":"(K33-I33)/(K14-I14)*(J14-I14)+I33","v":{"$error":"#VALUE!"}},"-",{"$f":"(M33-K33)/(M14-K14)*(L14-K14)+K33","v":{"$error":"#VALUE!"}},"-",{"$f":"(O33-M33)/(O14-M14)*(N14-M14)+M33","v":{"$error":"#VALUE!"}},140,{"$f":"(Q33-O33)/(Q14-O14)*(P14-O14)+O33","v":-39.999999999999972},200,{"$f":"(S33-Q33)/(S14-Q14)*(R14-Q14)+Q33","v":40.000000000000028},240,{"$f":"(U33-S33)/(U14-S14)*(T14-S14)+S33","v":59.999999999999943},330,{"$f":"(W33-U33)/(W14-U14)*(V14-U14)+U33","v":150.00000000000009},390,{"$f":"(Y33-W33)/(Y14-W14)*(X14-W14)+W33","v":169.99999999999994},500,{"$f":"(AA33-Y33)/(AA14-Y14)*(Z14-Y14)+Y33","v":200.00000000000011},600,{"$f":"(AC33-AA33)/(AC14-AA14)*(AB14-AA14)+AA33","v":500},650,{"$f":"(AE33-AC33)/(AE14-AC14)*(AD14-AC14)+AC33","v":723},750,{"$f":"(AG33-AE33)/(AG14-AE14)*(AF14-AE14)+AE33","v":149.99999999999989},900,{"$f":"(AI33-AG33)/(AI14-AG14)*(AH14-AG14)+AG33","v":900},900,20]
[{"$f":"IF(AND(AN21>A33,AN21<A35)=TRUE,AN21,0)","v":0},null,{"$f":"(C35-C33)/(A35-A33)*(A34-A33)+C33","v":{"$error":"#VALUE!"}},{"$f":"(E34-C34)/(E14-C14)*(D14-C14)+C34","v":{"$error":"#VALUE!"}},{"$f":"(E35-E33)/(A35-A33)*(A34-A33)+E33","v":{"$error":"#VALUE!"}},{"$f":"(G34-E34)/(G14-E14)*(F14-E14)+E34","v":{"$error":"#VALUE!"}},{"$f":"(G35-G33)/(A35-A33)*(A34-A33)+G33","v":{"$error":"#VALUE!"}},{"$f":"(I34-G34)/(I14-G14)*(H14-G14)+G34","v":{"$error":"#VALUE!"}},{"$f":"(I35-I33)/(A35-A33)*(A34-A33)+I33","v":{"$error":"#VALUE!"}},{"$f":"(K34-I34)/(K14-I14)*(J14-I14)+I34","v":{"$error":"#VALUE!"}},{"$f":"(K35-K33)/(A35-A33)*(A34-A33)+K33","v":{"$error":"#VALUE!"}},{"$f":"(M34-K34)/(M14-K14)*(L14-K14)+K34","v":{"$error":"#VALUE!"}},{"$f":"(M35-M33)/(A35-A33)*(A34-A33)+M33","v":{"$error":"#VALUE!"}},{"$f":"(O34-M34)/(O14-M14)*(N14-M14)+M34","v":{"$error":"#VALUE!"}},{"$f":"(O35-O33)/(A35-A33)*(A34-A33)+O33","v":{"$error":"#VALUE!"}},{"$f":"(Q34-O34)/(Q14-O14)*(P14-O14)+O34","v":{"$error":"#VALUE!"}},{"$f":"(Q35-Q33)/(A35-A33)*(A34-A33)+Q33","v":300},{"$f":"(S34-Q34)/(S14-Q14)*(R14-Q14)+Q34","v":300},{"$f":"(S35-S33)/(A35-A33)*(A34-A33)+S33","v":300},{"$f":"(U34-S34)/(U14-S14)*(T14-S14)+S34","v":159.99999999999997},{"$f":"(U35-U33)/(A35-A33)*(A34-A33)+U33","v":370},{"$f":"(W34-U34)/(W14-U14)*(V14-U14)+U34","v":250.00000000000006},{"$f":"(W35-W33)/(A35-A33)*(A34-A33)+W33","v":410},{"$f":"(Y34-W34)/(Y14-W14)*(X14-W14)+W34","v":229.99999999999994},{"$f":"(Y35-Y33)/(A35-A33)*(A34-A33)+Y33","v":500},{"$f":"(AA34-Y34)/(AA14-Y14)*(Z14-Y14)+Y34","v":200.00000000000011},{"$f":"(AA35-AA33)/(A35-A33)*(A34-A33)+AA33","v":600},{"$f":"(AC34-AA34)/(AC14-AA14)*(AB14-AA14)+AA34","v":500},{"$f":"(AC35-AC33)/(A35-A33)*(A34-A33)+AC33","v":650},{"$f":"(AE34-AC34)/(AE14-AC14)*(AD14-AC14)+AC34","v":723},{"$f":"(AE35-AE33)/(A35-A33)*(A34-A33)+AE33","v":750},{"$f":"(AG34-AE34)/(AG14-AE14)*(AF14-AE14)+AE34","v":149.99999999999989},{"$f":"(AG35-AG33)/(A35-A33)*(A34-A33)+AG33","v":900},{"$f":"(AI34-AG34)/(AI14-AG14)*(AH14-AG14)+AG34","v":900},{"$f":"(AI35-AI33)/(A35-A33)*(A34-A33)+AI33","v":900},21]
[30,{"$f":"B33+1","v":10},"-",{"$f":"(E35-C35)/(E14-C14)*(D14-C14)+C35","v":{"$error":"#VALUE!"}},"-",{"$f":"(G35-E35)/(G14-E14)*(F14-E14)+E35","v":{"$error":"#VALUE!"}},"-",{"$f":"(I35-G35)/(I14-G14)*(H14-G14)+G35","v":{"$error":"#VALUE!"}},"-",{"$f":"(K35-I35)/(K14-I14)*(J14-I14)+I35","v":{"$error":"#VALUE!"}},"-",{"$f":"(M35-K35)/(M14-K14)*(L14-K14)+K35","v":{"$error":"#VALUE!"}},"-",{"$f":"(O35-M35)/(O14-M14)*(N14-M14)+M35","v":{"$error":"#VALUE!"}},"-",{"$f":"(Q35-O35)/(Q14-O14)*(P14-O14)+O35","v":{"$error":"#VALUE!"}},150,{"$f":"(S35-Q35)/(S14-Q14)*(R14-Q14)+Q35","v":-89.999999999999972},210,{"$f":"(U35-S35)/(U14-S14)*(T14-S14)+S35","v":9.9999999999999432},310,{"$f":"(W35-U35)/(W14-U14)*(V14-U14)+U35","v":100.00000000000009},380,{"$f":"(Y35-W35)/(Y14-W14)*(X14-W14)+W35","v":139.99999999999994},500,{"$f":"(AA35-Y35)/(AA14-Y14)*(Z14-Y14)+Y35","v":200.00000000000011},600,{"$f":"(AC35-AA35)/(AC14-AA14)*(AB14-AA14)+AA35","v":500},650,{"$f":"(AE35-AC35)/(AE14-AC14)*(AD14-AC14)+AC35","v":723},750,{"$f":"(AG35-AE35)/(AG14-AE14)*(AF14-AE14)+AE35","v":149.99999999999989},900,{"$f":"(AI35-AG35)/(AI14-AG14)*(AH14-AG14)+AG35","v":900},900,22]
[{"$f":"IF(AND(AN21>A35,AN21<A37)=TRUE,AN21,0)","v":0},null,{"$f":"(C37-C35)/(A37-A35)*(A36-A35)+C35","v":{"$error":"#VALUE!"}},{"$f":"(E36-C36)/(E14-C14)*(D14-C14)+C36","v":{"$error":"#VALUE!"}},{"$f":"(E37-E35)/(A37-A35)*(A36-A35)+E35","v":{"$error":"#VALUE!"}},{"$f":"(G36-E36)/(G14-E14)*(F14-E14)+E36","v":{"$error":"#VALUE!"}},{"$f":"(G37-G35)/(A37-A35)*(A36-A35)+G35","v":{"$error":"#VALUE!"}},{"$f":"(I36-G36)/(I14-G14)*(H14-G14)+G36","v":{"$error":"#VALUE!"}},{"$f":"(I37-I35)/(A37-A35)*(A36-A35)+I35","v":{"$error":"#VALUE!"}},{"$f":"(K36-I36)/(K14-I14)*(J14-I14)+I36","v":{"$error":"#VALUE!"}},{"$f":"(K37-K35)/(A37-A35)*(A36-A35)+K35","v":{"$error":"#VALUE!"}},{"$f":"(M36-K36)/(M14-K14)*(L14-K14)+K36","v":{"$error":"#VALUE!"}},{"$f":"(M37-M35)/(A37-A35)*(A36-A35)+M35","v":{"$error":"#VALUE!"}},{"$f":"(O36-M36)/(O14-M14)*(N14-M14)+M36","v":{"$error":"#VALUE!"}},{"$f":"(O37-O35)/(A37-A35)*(A36-A35)+O35","v":{"$error":"#VALUE!"}},{"$f":"(Q36-O36)/(Q14-O14)*(P14-O14)+O36","v":{"$error":"#VALUE!"}},{"$f":"(Q37-Q35)/(A37-A35)*(A36-A35)+Q35","v":{"$error":"#VALUE!"}},{"$f":"(S36-Q36)/(S14-Q14)*(R14-Q14)+Q36","v":{"$error":"#VALUE!"}},{"$f":"(S37-S35)/(A37-A35)*(A36-A35)+S35","v":720},{"$f":"(U36-S36)/(U14-S14)*(T14-S14)+S36","v":39.999999999999773},{"$f":"(U37-U35)/(A37-A35)*(A36-A35)+U35","v":1060},{"$f":"(W36-U36)/(W14-U14)*(V14-U14)+U36","v":670.00000000000023},{"$f":"(W37-W35)/(A37-A35)*(A36-A35)+W35","v":1190},{"$f":"(Y36-W36)/(Y14-W14)*(X14-W14)+W36","v":289.99999999999977},{"$f":"(Y37-Y35)/(A37-A35)*(A36-A35)+Y35","v":1640},{"$f":"(AA36-Y36)/(AA14-Y14)*(Z14-Y14)+Y36","v":1250.0000000000002},{"$f":"(AA37-AA35)/(A37-A35)*(A36-A35)+AA35","v":1770},{"$f":"(AC36-AA36)/(AC14-AA14)*(AB14-AA14)+AA36","v":1790},{"$f":"(AC37-AC35)/(A37-A35)*(A36-A35)+AC35","v":1760},{"$f":"(AE36-AC36)/(AE14-AC14)*(AD14-AC14)+AC36","v":2073.9},{"$f":"(AE37-AE35)/(A37-A35)*(A36-A35)+AE35","v":2190},{"$f":"(AG36-AE36)/(AG14-AE14)*(AF14-AE14)+AE36","v":2790},{"$f":"(AG37-AG35)/(A37-A35)*(A36-A35)+AG35","v":2040},{"$f":"(AI36-AG36)/(AI14-AG14)*(AH14-AG14)+AG36","v":2040},{"$f":"(AI37-AI35)/(A37-A35)*(A36-A35)+AI35","v":2040},23]
[35,{"$f":"B35+1","v":11},"-",{"$f":"(E37-C37)/(E14-C14)*(D14-C14)+C37","v":{"$error":"#VALUE!"}},"-",{"$f":"(G37-E37)/(G14-E14)*(F14-E14)+E37","v":{"$error":"#VALUE!"}},"-",{"$f":"(I37-G37)/(I14-G14)*(H14-G14)+G37","v":{"$error":"#VALUE!"}},"-",{"$f":"(K37-I37)/(K14-I14)*(J14-I14)+I37","v":{"$error":"#VALUE!"}},"-",{"$f":"(M37-K37)/(M14-K14)*(L14-K14)+K37","v":{"$error":"#VALUE!"}},"-",{"$f":"(O37-M37)/(O14-M14)*(N14-M14)+M37","v":{"$error":"#VALUE!"}},"-",{"$f":"(Q37-O37)/(Q14-O14)*(P14-O14)+O37","v":{"$error":"#VALUE!"}},"-",{"$f":"(S37-Q37)/(S14-Q14)*(R14-Q14)+Q37","v":{"$error":"#VALUE!"}},125,{"$f":"(U37-S37)/(U14-S14)*(T14-S14)+S37","v":4.9999999999999716},185,{"$f":"(W37-U37)/(W14-U14)*(V14-U14)+U37","v":5.0000000000000853},245,{"$f":"(Y37-W37)/(Y14-W14)*(X14-W14)+W37","v":114.99999999999997},310,{"$f":"(AA37-Y37)/(AA14-Y14)*(Z14-Y14)+Y37","v":25.000000000000114},405,{"$f":"(AC37-AA37)/(AC14-AA14)*(AB14-AA14)+AA37","v":285},465,{"$f":"(AE37-AC37)/(AE14-AC14)*(AD14-AC14)+AC37","v":497.85},510,{"$f":"(AG37-AE37)/(AG14-AE14)*(AF14-AE14)+AE37","v":-290.00000000000023},710,{"$f":"(AI37-AG37)/(AI14-AG14)*(AH14-AG14)+AG37","v":710},710,24]
[{"$f":"IF(AND(AN21>A37,AN21<A39)=TRUE,AN21,0)","v":0},null,{"$f":"(C39-C37)/(A39-A37)*(A38-A37)+C37","v":{"$error":"#VALUE!"}},{"$f":"(E38-C38)/(E14-C14)*(D14-C14)+C38","v":{"$error":"#VALUE!"}},{"$f":"(E39-E37)/(A39-A37)*(A38-A37)+E37","v":{"$error":"#VALUE!"}},{"$f":"(G38-E38)/(G14-E14)*(F14-E14)+E38","v":{"$error":"#VALUE!"}},{"$f":"(G39-G37)/(A39-A37)*(A38-A37)+G37","v":{"$error":"#VALUE!"}},{"$f":"(I38-G38)/(I14-G14)*(H14-G14)+G38","v":{"$error":"#VALUE!"}},{"$f":"(I39-I37)/(A39-A37)*(A38-A37)+I37","v":{"$error":"#VALUE!"}},{"$f":"(K38-I38)/(K14-I14)*(J14-I14)+I38","v":{"$error":"#VALUE!"}},{"$f":"(K39-K37)/(A39-A37)*(A38-A37)+K37","v":{"$error":"#VALUE!"}},{"$f":"(M38-K38)/(M14-K14)*(L14-K14)+K38","v":{"$error":"#VALUE!"}},{"$f":"(M39-M37)/(A39-A37)*(A38-A37)+M37","v":{"$error":"#VALUE!"}},{"$f":"(O38-M38)/(O14-M14)*(N14-M14)+M38","v":{"$error":"#VALUE!"}},{"$f":"(O39-O37)/(A39-A37)*(A38-A37)+O37","v":{"$error":"#VALUE!"}},{"$f":"(Q38-O38)/(Q14-O14)*(P14-O14)+O38","v":{"$error":"#VALUE!"}},{"$f":"(Q39-Q37)/(A39-A37)*(A38-A37)+Q37","v":{"$error":"#VALUE!"}},{"$f":"(S38-Q38)/(S14-Q14)*(R14-Q14)+Q38","v":{"$error":"#VALUE!"}},{"$f":"(S39-S37)/(A39-A37)*(A38-A37)+S37","v":265},{"$f":"(U38-S38)/(U14-S14)*(T14-S14)+S38","v":355},{"$f":"(U39-U37)/(A39-A37)*(A38-A37)+U37","v":220},{"$f":"(W38-U38)/(W14-U14)*(V14-U14)+U38","v":40.000000000000085},{"$f":"(W39-W37)/(A39-A37)*(A38-A37)+W37","v":280},{"$f":"(Y38-W38)/(Y14-W14)*(X14-W14)+W38","v":149.99999999999997},{"$f":"(Y39-Y37)/(A39-A37)*(A38-A37)+Y37","v":345},{"$f":"(AA38-Y38)/(AA14-Y14)*(Z14-Y14)+Y38","v":60.000000000000114},{"$f":"(AA39-AA37)/(A39-A37)*(A38-A37)+AA37","v":440},{"$f":"(AC38-AA38)/(AC14-AA14)*(AB14-AA14)+AA38","v":320},{"$f":"(AC39-AC37)/(A39-A37)*(A38-A37)+AC37","v":500},{"$f":"(AE38-AC38)/(AE14-AC14)*(AD14-AC14)+AC38","v":558.4},{"$f":"(AE39-AE37)/(A39-A37)*(A38-A37)+AE37","v":580},{"$f":"(AG38-AE38)/(AG14-AE14)*(AF14-AE14)+AE38","v":-220.00000000000023},{"$f":"(AG39-AG37)/(A39-A37)*(A38-A37)+AG37","v":780},{"$f":"(AI38-AG38)/(AI14-AG14)*(AH14-AG14)+AG38","v":780},{"$f":"(AI39-AI37)/(A39-A37)*(A38-A37)+AI37","v":780},25]
[40,{"$f":"B37+1","v":12},"-",{"$f":"(E39-C39)/(E14-C14)*(D14-C14)+C39","v":{"$error":"#VALUE!"}},"-",{"$f":"(G39-E39)/(G14-E14)*(F14-E14)+E39","v":{"$error":"#VALUE!"}},"-",{"$f":"(I39-G39)/(I14-G14)*(H14-G14)+G39","v":{"$error":"#VALUE!"}},"-",{"$f":"(K39-I39)/(K14-I14)*(J14-I14)+I39","v":{"$error":"#VALUE!"}},"-",{"$f":"(M39-K39)/(M14-K14)*(L14-K14)+K39","v":{"$error":"#VALUE!"}},"-",{"$f":"(O39-M39)/(O14-M14)*(N14-M14)+M39","v":{"$error":"#VALUE!"}},"-",{"$f":"(Q39-O39)/(Q14-O14)*(P14-O14)+O39","v":{"$error":"#VALUE!"}},"-",{"$f":"(S39-Q39)/(S14-Q14)*(R14-Q14)+Q39","v":{"$error":"#VALUE!"}},105,{"$f":"(U39-S39)/(U14-S14)*(T14-S14)+S39","v":-45.000000000000028},180,{"$f":"(W39-U39)/(W14-U14)*(V14-U14)+U39","v":0},240,{"$f":"(Y39-W39)/(Y14-W14)*(X14-W14)+W39","v":109.99999999999997},305,{"$f":"(AA39-Y39)/(AA14-Y14)*(Z14-Y14)+Y39","v":20.000000000000114},400,{"$f":"(AC39-AA39)/(AC14-AA14)*(AB14-AA14)+AA39","v":280},460,{"$f":"(AE39-AC39)/(AE14-AC14)*(AD14-AC14)+AC39","v":489.2},500,{"$f":"(AG39-AE39)/(AG14-AE14)*(AF14-AE14)+AE39","v":-300.00000000000023},700,{"$f":"(AI39-AG39)/(AI14-AG14)*(AH14-AG14)+AG39","v":700},700,26]
[{"$f":"IF(AND(AN21>A39,AN21<A41)=TRUE,AN21,0)","v":0},null,{"$f":"(C41-C39)/(A41-A39)*(A40-A39)+C39","v":{"$error":"#VALUE!"}},{"$f":"(E40-C40)/(E14-C14)*(D14-C14)+C40","v":{"$error":"#VALUE!"}},{"$f":"(E41-E39)/(A41-A39)*(A40-A39)+E39","v":{"$error":"#VALUE!"}},{"$f":"(G40-E40)/(G14-E14)*(F14-E14)+E40","v":{"$error":"#VALUE!"}},{"$f":"(G41-G39)/(A41-A39)*(A40-A39)+G39","v":{"$error":"#VALUE!"}},{"$f":"(I40-G40)/(I14-G14)*(H14-G14)+G40","v":{"$error":"#VALUE!"}},{"$f":"(I41-I39)/(A41-A39)*(A40-A39)+I39","v":{"$error":"#VALUE!"}},{"$f":"(K40-I40)/(K14-I14)*(J14-I14)+I40","v":{"$error":"#VALUE!"}},{"$f":"(K41-K39)/(A41-A39)*(A40-A39)+K39","v":{"$error":"#VALUE!"}},{"$f":"(M40-K40)/(M14-K14)*(L14-K14)+K40","v":{"$error":"#VALUE!"}},{"$f":"(M41-M39)/(A41-A39)*(A40-A39)+M39","v":{"$error":"#VALUE!"}},{"$f":"(O40-M40)/(O14-M14)*(N14-M14)+M40","v":{"$error":"#VALUE!"}},{"$f":"(O41-O39)/(A41-A39)*(A40-A39)+O39","v":{"$error":"#VALUE!"}},{"$f":"(Q40-O40)/(Q14-O14)*(P14-O14)+O40","v":{"$error":"#VALUE!"}},{"$f":"(Q41-Q39)/(A41-A39)*(A40-A39)+Q39","v":{"$error":"#VALUE!"}},{"$f":"(S40-Q40)/(S14-Q14)*(R14-Q14)+Q40","v":{"$error":"#VALUE!"}},{"$f":"(S41-S39)/(A41-A39)*(A40-A39)+S39","v":{"$error":"#VALUE!"}},{"$f":"(U40-S40)/(U14-S14)*(T14-S14)+S40","v":{"$error":"#VALUE!"}},{"$f":"(U41-U39)/(A41-A39)*(A40-A39)+U39","v":260},{"$f":"(W40-U40)/(W14-U14)*(V14-U14)+U40","v":200.00000000000003},{"$f":"(W41-W39)/(A41-A39)*(A40-A39)+W39","v":280},{"$f":"(Y40-W40)/(Y14-W14)*(X14-W14)+W40","v":149.99999999999997},{"$f":"(Y41-Y39)/(A41-A39)*(A40-A39)+Y39","v":345},{"$f":"(AA40-Y40)/(AA14-Y14)*(Z14-Y14)+Y40","v":-299.99999999999966},{"$f":"(AA41-AA39)/(A41-A39)*(A40-A39)+AA39","v":560},{"$f":"(AC40-AA40)/(AC14-AA14)*(AB14-AA14)+AA40","v":440},{"$f":"(AC41-AC39)/(A41-A39)*(A40-A39)+AC39","v":620},{"$f":"(AE40-AC40)/(AE14-AC14)*(AD14-AC14)+AC40","v":620},{"$f":"(AE41-AE39)/(A41-A39)*(A40-A39)+AE39","v":620},{"$f":"(AG40-AE40)/(AG14-AE14)*(AF14-AE14)+AE40","v":-340.00000000000023},{"$f":"(AG41-AG39)/(A41-A39)*(A40-A39)+AG39","v":860},{"$f":"(AI40-AG40)/(AI14-AG14)*(AH14-AG14)+AG40","v":860},{"$f":"(AI41-AI39)/(A41-A39)*(A40-A39)+AI39","v":860},27]
[45,{"$f":"B39+1","v":13},"-",{"$f":"(E41-C41)/(E14-C14)*(D14-C14)+C41","v":{"$error":"#VALUE!"}},"-",{"$f":"(G41-E41)/(G14-E14)*(F14-E14)+E41","v":{"$error":"#VALUE!"}},"-",{"$f":"(I41-G41)/(I14-G14)*(H14-G14)+G41","v":{"$error":"#VALUE!"}},"-",{"$f":"(K41-I41)/(K14-I14)*(J14-I14)+I41","v":{"$error":"#VALUE!"}},"-",{"$f":"(M41-K41)/(M14-K14)*(L14-K14)+K41","v":{"$error":"#VALUE!"}},"-",{"$f":"(O41-M41)/(O14-M14)*(N14-M14)+M41","v":{"$error":"#VALUE!"}},"-",{"$f":"(Q41-O41)/(Q14-O14)*(P14-O14)+O41","v":{"$error":"#VALUE!"}},"-",{"$f":"(S41-Q41)/(S14-Q14)*(R14-Q14)+Q41","v":{"$error":"#VALUE!"}},"-",{"$f":"(U41-S41)/(U14-S14)*(T14-S14)+S41","v":{"$error":"#VALUE!"}},170,{"$f":"(W41-U41)/(W14-U14)*(V14-U14)+U41","v":-24.999999999999915},235,{"$f":"(Y41-W41)/(Y14-W14)*(X14-W14)+W41","v":104.99999999999997},300,{"$f":"(AA41-Y41)/(AA14-Y14)*(Z14-Y14)+Y41","v":60.000000000000085},380,{"$f":"(AC41-AA41)/(AC14-AA14)*(AB14-AA14)+AA41","v":260},440,{"$f":"(AE41-AC41)/(AE14-AC14)*(AD14-AC14)+AC41","v":472.85},485,{"$f":"(AG41-AE41)/(AG14-AE14)*(AF14-AE14)+AE41","v":-295.00000000000023},680,{"$f":"(AI41-AG41)/(AI14-AG14)*(AH14-AG14)+AG41","v":680},680,28]
[{"$f":"IF(AND(AN21>A41,AN21<A43)=TRUE,AN21,0)","v":0},null,{"$f":"(C43-C41)/(A43-A41)*(A42-A41)+C41","v":{"$error":"#VALUE!"}},{"$f":"(E42-C42)/(E14-C14)*(D14-C14)+C42","v":{"$error":"#VALUE!"}},{"$f":"(E43-E41)/(A43-A41)*(A42-A41)+E41","v":{"$error":"#VALUE!"}},{"$f":"(G42-E42)/(G14-E14)*(F14-E14)+E42","v":{"$error":"#VALUE!"}},{"$f":"(G43-G41)/(A43-A41)*(A42-A41)+G41","v":{"$error":"#VALUE!"}},{"$f":"(I42-G42)/(I14-G14)*(H14-G14)+G42","v":{"$error":"#VALUE!"}},{"$f":"(I43-I41)/(A43-A41)*(A42-A41)+I41","v":{"$error":"#VALUE!"}},{"$f":"(K42-I42)/(K14-I14)*(J14-I14)+I42","v":{"$error":"#VALUE!"}},{"$f":"(K43-K41)/(A43-A41)*(A42-A41)+K41","v":{"$error":"#VALUE!"}},{"$f":"(M42-K42)/(M14-K14)*(L14-K14)+K42","v":{"$error":"#VALUE!"}},{"$f":"(M43-M41)/(A43-A41)*(A42-A41)+M41","v":{"$error":"#VALUE!"}},{"$f":"(O42-M42)/(O14-M14)*(N14-M14)+M42","v":{"$error":"#VALUE!"}},{"$f":"(O43-O41)/(A43-A41)*(A42-A41)+O41","v":{"$error":"#VALUE!"}},{"$f":"(Q42-O42)/(Q14-O14)*(P14-O14)+O42","v":{"$error":"#VALUE!"}},{"$f":"(Q43-Q41)/(A43-A41)*(A42-A41)+Q41","v":{"$error":"#VALUE!"}},{"$f":"(S42-Q42)/(S14-Q14)*(R14-Q14)+Q42","v":{"$error":"#VALUE!"}},{"$f":"(S43-S41)/(A43-A41)*(A42-A41)+S41","v":{"$error":"#VALUE!"}},{"$f":"(U42-S42)/(U14-S14)*(T14-S14)+S42","v":{"$error":"#VALUE!"}},{"$f":"(U43-U41)/(A43-A41)*(A42-A41)+U41","v":260},{"$f":"(W42-U42)/(W14-U14)*(V14-U14)+U42","v":200.00000000000003},{"$f":"(W43-W41)/(A43-A41)*(A42-A41)+W41","v":280},{"$f":"(Y42-W42)/(Y14-W14)*(X14-W14)+W42","v":59.999999999999943},{"$f":"(Y43-Y41)/(A43-A41)*(A42-A41)+Y41","v":390},{"$f":"(AA42-Y42)/(AA14-Y14)*(Z14-Y14)+Y42","v":-119.99999999999983},{"$f":"(AA43-AA41)/(A43-A41)*(A42-A41)+AA41","v":560},{"$f":"(AC42-AA42)/(AC14-AA14)*(AB14-AA14)+AA42","v":620},{"$f":"(AC43-AC41)/(A43-A41)*(A42-A41)+AC41","v":530},{"$f":"(AE42-AC42)/(AE14-AC14)*(AD14-AC14)+AC42","v":595.70000000000005},{"$f":"(AE43-AE41)/(A43-A41)*(A42-A41)+AE41","v":620},{"$f":"(AG42-AE42)/(AG14-AE14)*(AF14-AE14)+AE42","v":19.999999999999886},{"$f":"(AG43-AG41)/(A43-A41)*(A42-A41)+AG41","v":770},{"$f":"(AI42-AG42)/(AI14-AG14)*(AH14-AG14)+AG42","v":770},{"$f":"(AI43-AI41)/(A43-A41)*(A42-A41)+AI41","v":770},29]
[50,{"$f":"B41+1","v":14},"-",{"$f":"(E43-C43)/(E14-C14)*(D14-C14)+C43","v":{"$error":"#VALUE!"}},"-",{"$f":"(G43-E43)/(G14-E14)*(F14-E14)+E43","v":{"$error":"#VALUE!"}},"-",{"$f":"(I43-G43)/(I14-G14)*(H14-G14)+G43","v":{"$error":"#VALUE!"}},"-",{"$f":"(K43-I43)/(K14-I14)*(J14-I14)+I43","v":{"$error":"#VALUE!"}},"-",{"$f":"(M43-K43)/(M14-K14)*(L14-K14)+K43","v":{"$error":"#VALUE!"}},"-",{"$f":"(O43-M43)/(O14-M14)*(N14-M14)+M43","v":{"$error":"#VALUE!"}},"-",{"$f":"(Q43-O43)/(Q14-O14)*(P14-O14)+O43","v":{"$error":"#VALUE!"}},"-",{"$f":"(S43-Q43)/(S14-Q14)*(R14-Q14)+Q43","v":{"$error":"#VALUE!"}},"-",{"$f":"(U43-S43)/(U14-S14)*(T14-S14)+S43","v":{"$error":"#VALUE!"}},160,{"$f":"(W43-U43)/(W14-U14)*(V14-U14)+U43","v":-49.999999999999915},230,{"$f":"(Y43-W43)/(Y14-W14)*(X14-W14)+W43","v":109.99999999999997},290,{"$f":"(AA43-Y43)/(AA14-Y14)*(Z14-Y14)+Y43","v":80.000000000000085},360,{"$f":"(AC43-AA43)/(AC14-AA14)*(AB14-AA14)+AA43","v":219.99999999999997},430,{"$f":"(AE43-AC43)/(AE14-AC14)*(AD14-AC14)+AC43","v":459.2},470,{"$f":"(AG43-AE43)/(AG14-AE14)*(AF14-AE14)+AE43","v":-330.00000000000023},670,{"$f":"(AI43-AG43)/(AI14-AG14)*(AH14-AG14)+AG43","v":670},670,30]
[{"$f":"IF(AND(AN21>A43,AN21<A45)=TRUE,AN21,0)","v":0},null,{"$f":"(C45-C43)/(A45-A43)*(A44-A43)+C43","v":{"$error":"#VALUE!"}},{"$f":"(E44-C44)/(E14-C14)*(D14-C14)+C44","v":{"$error":"#VALUE!"}},{"$f":"(E45-E43)/(A45-A43)*(A44-A43)+E43","v":{"$error":"#VALUE!"}},{"$f":"(G44-E44)/(G14-E14)*(F14-E14)+E44","v":{"$error":"#VALUE!"}},{"$f":"(G45-G43)/(A45-A43)*(A44-A43)+G43","v":{"$error":"#VALUE!"}},{"$f":"(I44-G44)/(I14-G14)*(H14-G14)+G44","v":{"$error":"#VALUE!"}},{"$f":"(I45-I43)/(A45-A43)*(A44-A43)+I43","v":{"$error":"#VALUE!"}},{"$f":"(K44-I44)/(K14-I14)*(J14-I14)+I44","v":{"$error":"#VALUE!"}},{"$f":"(K45-K43)/(A45-A43)*(A44-A43)+K43","v":{"$error":"#VALUE!"}},{"$f":"(M44-K44)/(M14-K14)*(L14-K14)+K44","v":{"$error":"#VALUE!"}},{"$f":"(M45-M43)/(A45-A43)*(A44-A43)+M43","v":{"$error":"#VALUE!"}},{"$f":"(O44-M44)/(O14-M14)*(N14-M14)+M44","v":{"$error":"#VALUE!"}},{"$f":"(O45-O43)/(A45-A43)*(A44-A43)+O43","v":{"$error":"#VALUE!"}},{"$f":"(Q44-O44)/(Q14-O14)*(P14-O14)+O44","v":{"$error":"#VALUE!"}},{"$f":"(Q45-Q43)/(A45-A43)*(A44-A43)+Q43","v":{"$error":"#VALUE!"}},{"$f":"(S44-Q44)/(S14-Q14)*(R14-Q14)+Q44","v":{"$error":"#VALUE!"}},{"$f":"(S45-S43)/(A45-A43)*(A44-A43)+S43","v":{"$error":"#VALUE!"}},{"$f":"(U44-S44)/(U14-S14)*(T14-S14)+S44","v":{"$error":"#VALUE!"}},{"$f":"(U45-U43)/(A45-A43)*(A44-A43)+U43","v":{"$error":"#VALUE!"}},{"$f":"(W44-U44)/(W14-U14)*(V14-U14)+U44","v":{"$error":"#VALUE!"}},{"$f":"(W45-W43)/(A45-A43)*(A44-A43)+W43","v":280},{"$f":"(Y44-W44)/(Y14-W14)*(X14-W14)+W44","v":260},{"$f":"(Y45-Y43)/(A45-A43)*(A44-A43)+Y43","v":290},{"$f":"(AA44-Y44)/(AA14-Y14)*(Z14-Y14)+Y44","v":80.000000000000085},{"$f":"(AA45-AA43)/(A45-A43)*(A44-A43)+AA43","v":360},{"$f":"(AC44-AA44)/(AC14-AA14)*(AB14-AA14)+AA44","v":219.99999999999997},{"$f":"(AC45-AC43)/(A45-A43)*(A44-A43)+AC43","v":430},{"$f":"(AE44-AC44)/(AE14-AC14)*(AD14-AC14)+AC44","v":459.2},{"$f":"(AE45-AE43)/(A45-A43)*(A44-A43)+AE43","v":470},{"$f":"(AG44-AE44)/(AG14-AE14)*(AF14-AE14)+AE44","v":-330.00000000000023},{"$f":"(AG45-AG43)/(A45-A43)*(A44-A43)+AG43","v":670},{"$f":"(AI44-AG44)/(AI14-AG14)*(AH14-AG14)+AG44","v":670},{"$f":"(AI45-AI43)/(A45-A43)*(A44-A43)+AI43","v":670},31]
[60,{"$f":"B43+1","v":15},"-",{"$f":"(E45-C45)/(E14-C14)*(D14-C14)+C45","v":{"$error":"#VALUE!"}},"-",{"$f":"(G45-E45)/(G14-E14)*(F14-E14)+E45","v":{"$error":"#VALUE!"}},"-",{"$f":"(I45-G45)/(I14-G14)*(H14-G14)+G45","v":{"$error":"#VALUE!"}},"-",{"$f":"(K45-I45)/(K14-I14)*(J14-I14)+I45","v":{"$error":"#VALUE!"}},"-",{"$f":"(M45-K45)/(M14-K14)*(L14-K14)+K45","v":{"$error":"#VALUE!"}},"-",{"$f":"(O45-M45)/(O14-M14)*(N14-M14)+M45","v":{"$error":"#VALUE!"}},"-",{"$f":"(Q45-O45)/(Q14-O14)*(P14-O14)+O45","v":{"$error":"#VALUE!"}},"-",{"$f":"(S45-Q45)/(S14-Q14)*(R14-Q14)+Q45","v":{"$error":"#VALUE!"}},"-",{"$f":"(U45-S45)/(U14-S14)*(T14-S14)+S45","v":{"$error":"#VALUE!"}},"-",{"$f":"(W45-U45)/(W14-U14)*(V14-U14)+U45","v":{"$error":"#VALUE!"}},220,{"$f":"(Y45-W45)/(Y14-W14)*(X14-W14)+W45","v":79.999999999999972},290,{"$f":"(AA45-Y45)/(AA14-Y14)*(Z14-Y14)+Y45","v":80.000000000000085},360,{"$f":"(AC45-AA45)/(AC14-AA14)*(AB14-AA14)+AA45","v":219.99999999999997},430,{"$f":"(AE45-AC45)/(AE14-AC14)*(AD14-AC14)+AC45","v":459.2},470,{"$f":"(AG45-AE45)/(AG14-AE14)*(AF14-AE14)+AE45","v":-330.00000000000023},670,{"$f":"(AI45-AG45)/(AI14-AG14)*(AH14-AG14)+AG45","v":670},670,32]
[{"$f":"IF(AND(AN21>A45,AN21<A47)=TRUE,AN21,0)","v":0},null,{"$f":"(C47-C45)/(A47-A45)*(A46-A45)+C45","v":{"$error":"#VALUE!"}},{"$f":"(E46-C46)/(E14-C14)*(D14-C14)+C46","v":{"$error":"#VALUE!"}},{"$f":"(E47-E45)/(A47-A45)*(A46-A45)+E45","v":{"$error":"#VALUE!"}},{"$f":"(G46-E46)/(G14-E14)*(F14-E14)+E46","v":{"$error":"#VALUE!"}},{"$f":"(G47-G45)/(A47-A45)*(A46-A45)+G45","v":{"$error":"#VALUE!"}},{"$f":"(I46-G46)/(I14-G14)*(H14-G14)+G46","v":{"$error":"#VALUE!"}},{"$f":"(I47-I45)/(A47-A45)*(A46-A45)+I45","v":{"$error":"#VALUE!"}},{"$f":"(K46-I46)/(K14-I14)*(J14-I14)+I46","v":{"$error":"#VALUE!"}},{"$f":"(K47-K45)/(A47-A45)*(A46-A45)+K45","v":{"$error":"#VALUE!"}},{"$f":"(M46-K46)/(M14-K14)*(L14-K14)+K46","v":{"$error":"#VALUE!"}},{"$f":"(M47-M45)/(A47-A45)*(A46-A45)+M45","v":{"$error":"#VALUE!"}},{"$f":"(O46-M46)/(O14-M14)*(N14-M14)+M46","v":{"$error":"#VALUE!"}},{"$f":"(O47-O45)/(A47-A45)*(A46-A45)+O45","v":{"$error":"#VALUE!"}},{"$f":"(Q46-O46)/(Q14-O14)*(P14-O14)+O46","v":{"$error":"#VALUE!"}},{"$f":"(Q47-Q45)/(A47-A45)*(A46-A45)+Q45","v":{"$error":"#VALUE!"}},{"$f":"(S46-Q46)/(S14-Q14)*(R14-Q14)+Q46","v":{"$error":"#VALUE!"}},{"$f":"(S47-S45)/(A47-A45)*(A46-A45)+S45","v":{"$error":"#VALUE!"}},{"$f":"(U46-S46)/(U14-S14)*(T14-S14)+S46","v":{"$error":"#VALUE!"}},{"$f":"(U47-U45)/(A47-A45)*(A46-A45)+U45","v":{"$error":"#VALUE!"}},{"$f":"(W46-U46)/(W14-U14)*(V14-U14)+U46","v":{"$error":"#VALUE!"}},{"$f":"(W47-W45)/(A47-A45)*(A46-A45)+W45","v":{"$error":"#VALUE!"}},{"$f":"(Y46-W46)/(Y14-W14)*(X14-W14)+W46","v":{"$error":"#VALUE!"}},{"$f":"(Y47-Y45)/(A47-A45)*(A46-A45)+Y45","v":350},{"$f":"(AA46-Y46)/(AA14-Y14)*(Z14-Y14)+Y46","v":320},{"$f":"(AA47-AA45)/(A47-A45)*(A46-A45)+AA45","v":360},{"$f":"(AC46-AA46)/(AC14-AA14)*(AB14-AA14)+AA46","v":219.99999999999997},{"$f":"(AC47-AC45)/(A47-A45)*(A46-A45)+AC45","v":430},{"$f":"(AE46-AC46)/(AE14-AC14)*(AD14-AC14)+AC46","v":459.2},{"$f":"(AE47-AE45)/(A47-A45)*(A46-A45)+AE45","v":470},{"$f":"(AG46-AE46)/(AG14-AE14)*(AF14-AE14)+AE46","v":-330.00000000000023},{"$f":"(AG47-AG45)/(A47-A45)*(A46-A45)+AG45","v":670},{"$f":"(AI46-AG46)/(AI14-AG14)*(AH14-AG14)+AG46","v":670},{"$f":"(AI47-AI45)/(A47-A45)*(A46-A45)+AI45","v":670},33]
[100,{"$f":"B45+1","v":16},"-",{"$f":"(E47-C47)/(E18-C18)*(D18-C18)+C47","v":{"$error":"#VALUE!"}},"-",{"$f":"(G47-E47)/(G14-E14)*(F14-E14)+E47","v":{"$error":"#VALUE!"}},"-",{"$f":"(I47-G47)/(I14-G14)*(H14-G14)+G47","v":{"$error":"#VALUE!"}},"-",{"$f":"(K47-I47)/(K14-I14)*(J14-I14)+I47","v":{"$error":"#VALUE!"}},"-",{"$f":"(M47-K47)/(M14-K14)*(L14-K14)+K47","v":{"$error":"#VALUE!"}},"-",{"$f":"(O47-M47)/(O14-M14)*(N14-M14)+M47","v":{"$error":"#VALUE!"}},"-",{"$f":"(Q47-O47)/(Q14-O14)*(P14-O14)+O47","v":{"$error":"#VALUE!"}},"-",{"$f":"(S47-Q47)/(S14-Q14)*(R14-Q14)+Q47","v":{"$error":"#VALUE!"}},"-",{"$f":"(U47-S47)/(U14-S14)*(T14-S14)+S47","v":{"$error":"#VALUE!"}},"-",{"$f":"(W47-U47)/(W14-U14)*(V14-U14)+U47","v":{"$error":"#VALUE!"}},"-",{"$f":"(Y47-W47)/(Y14-W14)*(X14-W14)+W47","v":{"$error":"#VALUE!"}},250,{"$f":"(AA47-Y47)/(AA14-Y14)*(Z14-Y14)+Y47","v":-79.999999999999829},360,{"$f":"(AC47-AA47)/(AC14-AA14)*(AB14-AA14)+AA47","v":219.99999999999997},430,{"$f":"(AE47-AC47)/(AE14-AC14)*(AD14-AC14)+AC47","v":459.2},470,{"$f":"(AG47-AE47)/(AG14-AE14)*(AF14-AE14)+AE47","v":-330.00000000000023},670,{"$f":"(AI47-AG47)/(AI14-AG14)*(AH14-AG14)+AG47","v":670},670,34]
[null,null,null,null,null,null,null,null,null,null,null,null,null,null,null,null,null,null,null,null,null,null,null,null,null,null,null,null,null,null,null,null,null,null,null,35]
["COL",null,3,{"$f":"C49+1","v":4},{"$f":"D49+1","v":5},6,7,8,9,10,11,12,13,14,15,16,17,18,{"$f":"R49+1","v":19},20,21,22,23,24,25,26,27,28,29,30,31,32,33,34,35,36]
[null,null,1,2,null,3,null,4,null,5,null,6,null,7,null,8,null,9,null,10,null,11,null,12,null,13,null,14,null,15,null,null,null,17]
[]
[]
[null,"Рвх",3.0000000000000001E-3,{"$f":"IF(AND(AK60>C53,AK60<E53)=TRUE,AK60,0)","v":0},5.0000000000000001E-3,{"$f":"IF(AND(AK60>E53,AK60<G53)=TRUE,AK60,0)","v":0},7.4999999999999997E-3,{"$f":"IF(AND(AK60>G53,AK60<I53)=TRUE,AK60,0)","v":0},0.01,{"$f":"IF(AND(AK60>I53,AK60<K53)=TRUE,AK60,0)","v":0},1.4999999999999999E-2,{"$f":"IF(AND(AK60>K53,AK60<M53)=TRUE,AK60,0)","v":0},0.02,{"$f":"IF(AND(AK60>M53,AK60<O53)=TRUE,AK60,0)","v":0},0.03,{"$f":"IF(AND(AK60>O53,AK60<Q53)=TRUE,AK60,0)","v":0},0.04,{"$f":"IF(AND(AK60>Q53,AK60<S53)=TRUE,AK60,0)","v":0},0.05,{"$f":"IF(AND(AK60>S53,AK60<U53)=TRUE,AK60,0)","v":0},7.4999999999999997E-2,{"$f":"IF(AND(AK60>U53,AK60<W53)=TRUE,AK60,0)","v":0},0.1,{"$f":"IF(AND(AK60>W53,AK60<Y53)=TRUE,AK60,0)","v":0},0.15,{"$f":"IF(AND(AK60>Y53,AK60<AA53)=TRUE,AK60,0)","v":0},0.2,{"$f":"IF(AND(AK60>AA53,AK60<AC53)=TRUE,AK60,0)","v":0},0.3,{"$f":"IF(AND(AK60>AC53,AK60<AE53)=TRUE,AK60,0)","v":0.373},0.4,{"$f":"IF(AND(AK60>AE53,AK60<AG53)=TRUE,AK60,0)","v":0},0.5,{"$f":"IF(AND(AK60>AG53,AK60<AI53)=TRUE,AK60,0)","v":0},0.6,1]
["Рвых","МПа",null,null,null,null,null,null,null,null,null,null,null,null,null,null,null,null,null,null,null,null,null,null,null,null,null,null,null,null,null,null,null,null,null,{"$f":"AJ53+1","v":2}]
["кПа",null,null,null,null,null,null,null,null,null,null,null,null,null,null,null,null,null,null,null,null,null,null,null,null,null,null,null,null,null,null,null,null,null,null,{"$f":"AJ54+1","v":3}]
[1,1,12,{"$f":"(E56-C56)/(E53-C53)*(D53-C53)+C56","v":7.5},15,{"$f":"(G56-E56)/(G53-E53)*(F53-E53)+E56","v":4.9999999999999982},20,{"$f":"(I56-G56)/(I53-G53)*(H53-G53)+G56","v":-9.9999999999999929},30,{"$f":"(K56-I56)/(K53-I53)*(J53-I53)+I56","v":9.9999999999999964},40,{"$f":"(M56-K56)/(M53-K53)*(L53-K53)+K56","v":10.000000000000007},50,{"$f":"(O56-M56)/(O53-M53)*(N53-M53)+M56","v":19.999999999999996},65,{"$f":"(Q56-O56)/(Q53-O53)*(P53-O53)+O56","v":20.000000000000007},80,{"$f":"(S56-Q56)/(S53-Q53)*(R53-Q53)+Q56","v":0},100,{"$f":"(U56-S56)/(U53-S53)*(T53-S53)+S56","v":59.999999999999986},120,{"$f":"(W56-U56)/(W53-U53)*(V53-U53)+U56","v":120},120,{"$f":"(Y56-W56)/(Y53-W53)*(X53-W53)+W56","v":19.999999999999972},170,{"$f":"(AA56-Y56)/(AA53-Y53)*(Z53-Y53)+Y56","v":80.000000000000043},200,{"$f":"(AC56-AA56)/(AC53-AA53)*(AB53-AA53)+AA56","v":99.999999999999972},250,{"$f":"(AE56-AC56)/(AE53-AC53)*(AD53-AC53)+AC56","v":250},250,{"$f":"(AG56-AE56)/(AG53-AE53)*(AF53-AE53)+AE56","v":250},250,{"$f":"(AI56-AG56)/(AI53-AG53)*(AH53-AG53)+AG56","v":250},250,4,"Рвх","Q","Qcрасч","Рвых","Рвых"]
[{"$f":"IF(AND(AN60>A56,AN60<A58)=TRUE,AN60,0)","v":0},null,{"$f":"(C58-C56)/(A58-A56)*(A57-A56)+C56","v":{"$error":"#VALUE!"}},{"$f":"(E57-C57)/(E53-C53)*(D53-C53)+C57","v":{"$error":"#VALUE!"}},{"$f":"(E58-E56)/(A58-A56)*(A57-A56)+E56","v":15},{"$f":"(G57-E57)/(G53-E53)*(F53-E53)+E57","v":4.9999999999999982},{"$f":"(G58-G56)/(A58-A56)*(A57-A56)+G56","v":20},{"$f":"(I57-G57)/(I53-G53)*(H53-G53)+G57","v":-9.9999999999999929},{"$f":"(I58-I56)/(A58-A56)*(A57-A56)+I56","v":30},{"$f":"(K57-I57)/(K53-I53)*(J53-I53)+I57","v":9.9999999999999964},{"$f":"(K58-K56)/(A58-A56)*(A57-A56)+K56","v":40},{"$f":"(M57-K57)/(M53-K53)*(L53-K53)+K57","v":10.000000000000007},{"$f":"(M58-M56)/(A58-A56)*(A57-A56)+M56","v":50},{"$f":"(O57-M57)/(O53-M53)*(N53-M53)+M57","v":19.999999999999996},{"$f":"(O58-O56)/(A58-A56)*(A57-A56)+O56","v":65},{"$f":"(Q57-O57)/(Q53-O53)*(P53-O53)+O57","v":20.000000000000007},{"$f":"(Q58-Q56)/(A58-A56)*(A57-A56)+Q56","v":80},{"$f":"(S57-Q57)/(S53-Q53)*(R53-Q53)+Q57","v":0},{"$f":"(S58-S56)/(A58-A56)*(A57-A56)+S56","v":100},{"$f":"(U57-S57)/(U53-S53)*(T53-S53)+S57","v":59.999999999999986},{"$f":"(U58-U56)/(A58-A56)*(A57-A56)+U56","v":120},{"$f":"(W57-U57)/(W53-U53)*(V53-U53)+U57","v":120},{"$f":"(W58-W56)/(A58-A56)*(A57-A56)+W56","v":120},{"$f":"(Y57-W57)/(Y53-W53)*(X53-W53)+W57","v":19.999999999999972},{"$f":"(Y58-Y56)/(A58-A56)*(A57-A56)+Y56","v":170},{"$f":"(AA57-Y57)/(AA53-Y53)*(Z53-Y53)+Y57","v":80.000000000000043},{"$f":"(AA58-AA56)/(A58-A56)*(A57-A56)+AA56","v":200},{"$f":"(AC57-AA57)/(AC53-AA53)*(AB53-AA53)+AA57","v":99.999999999999972},{"$f":"(AC58-AC56)/(A58-A56)*(A57-A56)+AC56","v":250},{"$f":"(AE57-AC57)/(AE53-AC53)*(AD53-AC53)+AC57","v":250},{"$f":"(AE58-AE56)/(A58-A56)*(A57-A56)+AE56","v":250},{"$f":"(AG57-AE57)/(AG53-AE53)*(AF53-AE53)+AE57","v":250},{"$f":"(AG58-AG56)/(A58-A56)*(A57-A56)+AG56","v":250},{"$f":"(AI57-AG57)/(AI53-AG53)*(AH53-AG53)+AG57","v":250},{"$f":"(AI58-AI56)/(A58-A56)*(A57-A56)+AI56","v":250},5]
[2,{"$f":"B56+1","v":2},"-",{"$f":"(E58-C58)/(E53-C53)*(D53-C53)+C58","v":{"$error":"#VALUE!"}},15,{"$f":"(G58-E58)/(G53-E53)*(F53-E53)+E58","v":4.9999999999999982},20,{"$f":"(I58-G58)/(I53-G53)*(H53-G53)+G58","v":-9.9999999999999929},30,{"$f":"(K58-I58)/(K53-I53)*(J53-I53)+I58","v":9.9999999999999964},40,{"$f":"(M58-K58)/(M53-K53)*(L53-K53)+K58","v":10.000000000000007},50,{"$f":"(O58-M58)/(O53-M53)*(N53-M53)+M58","v":19.999999999999996},65,{"$f":"(Q58-O58)/(Q53-O53)*(P53-O53)+O58","v":20.000000000000007},80,{"$f":"(S58-Q58)/(S53-Q53)*(R53-Q53)+Q58","v":0},100,{"$f":"(U58-S58)/(U53-S53)*(T53-S53)+S58","v":59.999999999999986},120,{"$f":"(W58-U58)/(W53-U53)*(V53-U53)+U58","v":120},120,{"$f":"(Y58-W58)/(Y53-W53)*(X53-W53)+W58","v":19.999999999999972},170,{"$f":"(AA58-Y58)/(AA53-Y53)*(Z53-Y53)+Y58","v":80.000000000000043},200,{"$f":"(AC58-AA58)/(AC53-AA53)*(AB53-AA53)+AA58","v":99.999999999999972},250,{"$f":"(AE58-AC58)/(AE53-AC53)*(AD53-AC53)+AC58","v":250},250,{"$f":"(AG58-AE58)/(AG53-AE53)*(AF53-AE53)+AE58","v":250},250,{"$f":"(AI58-AG58)/(AI53-AG53)*(AH53-AG53)+AG58","v":250},250,6,"МПа","нм3/час","нм3/час","кПа","кПа"]
[{"$f":"IF(AND(AN60>A58,AN60<A60)=TRUE,AN60,0)","v":0},null,{"$f":"(C60-C58)/(A60-A58)*(A59-A58)+C58","v":{"$error":"#VALUE!"}},{"$f":"(E59-C59)/(E53-C53)*(D53-C53)+C59","v":{"$error":"#VALUE!"}},{"$f":"(E60-E58)/(A60-A58)*(A59-A58)+E58","v":21},{"$f":"(G59-E59)/(G53-E53)*(F53-E53)+E59","v":23},{"$f":"(G60-G58)/(A60-A58)*(A59-A58)+G58","v":20},{"$f":"(I59-G59)/(I53-G53)*(H53-G53)+G59","v":-9.9999999999999929},{"$f":"(I60-I58)/(A60-A58)*(A59-A58)+I58","v":30},{"$f":"(K59-I59)/(K53-I53)*(J53-I53)+I59","v":9.9999999999999964},{"$f":"(K60-K58)/(A60-A58)*(A59-A58)+K58","v":40},{"$f":"(M59-K59)/(M53-K53)*(L53-K53)+K59","v":10.000000000000007},{"$f":"(M60-M58)/(A60-A58)*(A59-A58)+M58","v":50},{"$f":"(O59-M59)/(O53-M53)*(N53-M53)+M59","v":19.999999999999996},{"$f":"(O60-O58)/(A60-A58)*(A59-A58)+O58","v":65},{"$f":"(Q59-O59)/(Q53-O53)*(P53-O53)+O59","v":20.000000000000007},{"$f":"(Q60-Q58)/(A60-A58)*(A59-A58)+Q58","v":80},{"$f":"(S59-Q59)/(S53-Q53)*(R53-Q53)+Q59","v":0},{"$f":"(S60-S58)/(E60-E58)*(E59-E58)+S58","v":100},{"$f":"(U59-S59)/(U53-S53)*(T53-S53)+S59","v":59.999999999999986},{"$f":"(U60-U58)/(A60-A58)*(A59-A58)+U58","v":120},{"$f":"(W59-U59)/(W53-U53)*(V53-U53)+U59","v":120},{"$f":"(W60-W58)/(A60-A58)*(A59-A58)+W58","v":120},{"$f":"(Y59-W59)/(Y53-W53)*(X53-W53)+W59","v":19.999999999999972},{"$f":"(Y60-Y58)/(A60-A58)*(A59-A58)+Y58","v":170},{"$f":"(AA59-Y59)/(AA53-Y53)*(Z53-Y53)+Y59","v":80.000000000000043},{"$f":"(AA60-AA58)/(E60-E58)*(E59-E58)+AA58","v":200},{"$f":"(AC59-AA59)/(AC53-AA53)*(AB53-AA53)+AA59","v":99.999999999999972},{"$f":"(AC60-AC58)/(A60-A58)*(A59-A58)+AC58","v":250},{"$f":"(AE59-AC59)/(AE53-AC53)*(AD53-AC53)+AC59","v":250},{"$f":"(AE60-AE58)/(A60-A58)*(A59-A58)+AE58","v":250},{"$f":"(AG59-AE59)/(AG53-AE53)*(AF53-AE53)+AE59","v":250},{"$f":"(AG60-AG58)/(E60-E58)*(E59-E58)+AG58","v":250},{"$f":"(AI59-AG59)/(AI53-AG53)*(AH53-AG53)+AG59","v":250},{"$f":"(AI60-AI58)/(A60-A58)*(A59-A58)+AI58","v":250},7]
[3,{"$f":"B58+1","v":3},"-",{"$f":"(E60-C60)/(E53-C53)*(D53-C53)+C60","v":{"$error":"#VALUE!"}},12,{"$f":"(G60-E60)/(G53-E53)*(F53-E53)+E60","v":-4.0000000000000036},20,{"$f":"(I60-G60)/(I53-G53)*(H53-G53)+G60","v":-9.9999999999999929},30,{"$f":"(K60-I60)/(K53-I53)*(J53-I53)+I60","v":9.9999999999999964},40,{"$f":"(M60-K60)/(M53-K53)*(L53-K53)+K60","v":10.000000000000007},50,{"$f":"(O60-M60)/(O53-M53)*(N53-M53)+M60","v":19.999999999999996},65,{"$f":"(Q60-O60)/(Q53-O53)*(P53-O53)+O60","v":20.000000000000007},80,{"$f":"(S60-Q60)/(S53-Q53)*(R53-Q53)+Q60","v":0},100,{"$f":"(U60-S60)/(U53-S53)*(T53-S53)+S60","v":59.999999999999986},120,{"$f":"(W60-U60)/(W53-U53)*(V53-U53)+U60","v":120},120,{"$f":"(Y60-W60)/(Y53-W53)*(X53-W53)+W60","v":19.999999999999972},170,{"$f":"(AA60-Y60)/(AA53-Y53)*(Z53-Y53)+Y60","v":80.000000000000043},200,{"$f":"(AC60-AA60)/(AC53-AA53)*(AB53-AA53)+AA60","v":99.999999999999972},250,{"$f":"(AE60-AC60)/(AE53-AC53)*(AD53-AC53)+AC60","v":250},250,{"$f":"(AG60-AE60)/(AG53-AE53)*(AF53-AE53)+AE60","v":250},250,{"$f":"(AI60-AG60)/(AI53-AG53)*(AH53-AG53)+AG60","v":250},250,8,{"$f":"AK21","v":0.373},{"$f":"AL21","v":229.2},{"$f":"VLOOKUP(AN60,A53:AI88,HLOOKUP(AK60,A53:AI88,36,0),0)","v":{"$error":"#N/A"}},{"$f":"AN21","v":300},{"$f":"IF(AK60<A56,\"NO\",IF(AK60>A82,\"N0\",IF(VLOOKUP(AK60,A56:AI82,3,0)>AL60,\"NO\",IF(VLOOKUP(AK60,A56:AI82,17,0)<AL60,\"NO\",IF(AND(AM60>=AL60-0.1,AM60<AL60+0.1)=TRUE,AN60,\"NO\")))))","v":"NO"}]
[{"$f":"IF(AND(AN60>A60,AN60<A62)=TRUE,AN60,0)","v":0},null,{"$f":"(C62-C60)/(A62-A60)*(A61-A60)+C60","v":{"$error":"#VALUE!"}},{"$f":"(E61-C61)/(E53-C53)*(D53-C53)+C61","v":{"$error":"#VALUE!"}},{"$f":"(E62-E60)/(A62-A60)*(A61-A60)+E60","v":{"$error":"#VALUE!"}},{"$f":"(G61-E61)/(G53-E53)*(F53-E53)+E61","v":{"$error":"#VALUE!"}},{"$f":"(G62-G60)/(A62-A60)*(A61-A60)+G60","v":35},{"$f":"(I61-G61)/(I53-G53)*(H53-G53)+G61","v":5.0000000000000071},{"$f":"(I62-I60)/(A62-A60)*(A61-A60)+I60","v":45},{"$f":"(K61-I61)/(K53-I53)*(J53-I53)+I61","v":55},{"$f":"(K62-K60)/(A62-A60)*(A61-A60)+K60","v":40},{"$f":"(M61-K61)/(M53-K53)*(L53-K53)+K61","v":10.000000000000007},{"$f":"(M62-M60)/(A62-A60)*(A61-A60)+M60","v":50},{"$f":"(O61-M61)/(O53-M53)*(N53-M53)+M61","v":19.999999999999996},{"$f":"(O62-O60)/(A62-A60)*(A61-A60)+O60","v":65},{"$f":"(Q61-O61)/(Q53-O53)*(P53-O53)+O61","v":20.000000000000007},{"$f":"(Q62-Q60)/(A62-A60)*(A61-A60)+Q60","v":80},{"$f":"(S61-Q61)/(S53-Q53)*(R53-Q53)+Q61","v":0},{"$f":"(S62-S60)/(A62-A60)*(A61-A60)+S60","v":100},{"$f":"(U61-S61)/(U53-S53)*(T53-S53)+S61","v":59.999999999999986},{"$f":"(U62-U60)/(G62-G60)*(G61-G60)+U60","v":120},{"$f":"(W61-U61)/(W53-U53)*(V53-U53)+U61","v":120},{"$f":"(W62-W60)/(I62-I60)*(I61-I60)+W60","v":120},{"$f":"(Y61-W61)/(Y53-W53)*(X53-W53)+W61","v":19.999999999999972},{"$f":"(Y62-Y60)/(A62-A60)*(A61-A60)+Y60","v":170},{"$f":"(AA61-Y61)/(AA53-Y53)*(Z53-Y53)+Y61","v":80.000000000000043},{"$f":"(AA62-AA60)/(A62-A60)*(A61-A60)+AA60","v":200},{"$f":"(AC61-AA61)/(AC53-AA53)*(AB53-AA53)+AA61","v":99.999999999999972},{"$f":"(AC62-AC60)/(A62-A60)*(A61-A60)+AC60","v":250},{"$f":"(AE61-AC61)/(AE53-AC53)*(AD53-AC53)+AC61","v":250},{"$f":"(AE62-AE60)/(A62-A60)*(A61-A60)+AE60","v":250},{"$f":"(AG61-AE61)/(AG53-AE53)*(AF53-AE53)+AE61","v":250},{"$f":"(AG62-AG60)/(A62-A60)*(A61-A60)+AG60","v":250},{"$f":"(AI61-AG61)/(AI53-AG53)*(AH53-AG53)+AG61","v":250},{"$f":"(AI62-AI60)/(A62-A60)*(A61-A60)+AI60","v":250},9]
[4,{"$f":"B60+1","v":4},"-",{"$f":"(E62-C62)/(E53-C53)*(D53-C53)+C62","v":{"$error":"#VALUE!"}},"-",{"$f":"(G62-E62)/(G53-E53)*(F53-E53)+E62","v":{"$error":"#VALUE!"}},15,{"$f":"(I62-G62)/(I53-G53)*(H53-G53)+G62","v":-14.999999999999993},25,{"$f":"(K62-I62)/(K53-I53)*(J53-I53)+I62","v":-5.0000000000000036},40,{"$f":"(M62-K62)/(M53-K53)*(L53-K53)+K62","v":10.000000000000007},50,{"$f":"(O62-M62)/(O53-M53)*(N53-M53)+M62","v":19.999999999999996},65,{"$f":"(Q62-O62)/(Q53-O53)*(P53-O53)+O62","v":20.000000000000007},80,{"$f":"(S62-Q62)/(S53-Q53)*(R53-Q53)+Q62","v":0},100,{"$f":"(U62-S62)/(U53-S53)*(T53-S53)+S62","v":59.999999999999986},120,{"$f":"(W62-U62)/(W53-U53)*(V53-U53)+U62","v":120},120,{"$f":"(Y62-W62)/(Y53-W53)*(X53-W53)+W62","v":19.999999999999972},170,{"$f":"(AA62-Y62)/(AA53-Y53)*(Z53-Y53)+Y62","v":80.000000000000043},200,{"$f":"(AC62-AA62)/(AC53-AA53)*(AB53-AA53)+AA62","v":99.999999999999972},250,{"$f":"(AE62-AC62)/(AE53-AC53)*(AD53-AC53)+AC62","v":250},250,{"$f":"(AG62-AE62)/(AG53-AE53)*(AF53-AE53)+AE62","v":250},250,{"$f":"(AI62-AG62)/(AI53-AG53)*(AH53-AG53)+AG62","v":250},250,10,0.1,{"$f":"AL23","v":263.58}]
[{"$f":"IF(AND(AN60>A62,AN60<A64)=TRUE,AN60,0)","v":0},null,{"$f":"(C64-C62)/(A64-A62)*(A63-A62)+C62","v":{"$error":"#VALUE!"}},{"$f":"(E63-C63)/(E53-C53)*(D53-C53)+C63","v":{"$error":"#VALUE!"}},{"$f":"(E64-E62)/(A64-A62)*(A63-A62)+E62","v":{"$error":"#VALUE!"}},{"$f":"(G63-E63)/(G53-E53)*(F53-E53)+E63","v":{"$error":"#VALUE!"}},{"$f":"(G64-G62)/(A64-A62)*(A63-A62)+G62","v":15},{"$f":"(I63-G63)/(I53-G53)*(H53-G53)+G63","v":-74.999999999999986},{"$f":"(I64-I62)/(A64-A62)*(A63-A62)+I62","v":45},{"$f":"(K63-I63)/(K53-I53)*(J53-I53)+I63","v":55},{"$f":"(K64-K62)/(A64-A62)*(A63-A62)+K62","v":40},{"$f":"(M63-K63)/(M53-K53)*(L53-K53)+K63","v":10.000000000000007},{"$f":"(M64-M62)/(A64-A62)*(A63-A62)+M62","v":50},{"$f":"(O63-M63)/(O53-M53)*(N53-M53)+M63","v":19.999999999999996},{"$f":"(O64-O62)/(A64-A62)*(A63-A62)+O62","v":65},{"$f":"(Q63-O63)/(Q53-O53)*(P53-O53)+O63","v":20.000000000000007},{"$f":"(Q64-Q62)/(A64-A62)*(A63-A62)+Q62","v":80},{"$f":"(S63-Q63)/(S53-Q53)*(R53-Q53)+Q63","v":0},{"$f":"(S64-S62)/(A64-A62)*(A63-A62)+S62","v":100},{"$f":"(U63-S63)/(U53-S53)*(T53-S53)+S63","v":59.999999999999986},{"$f":"(U64-U62)/(A64-A62)*(A63-A62)+U62","v":120},{"$f":"(W63-U63)/(W53-U53)*(V53-U53)+U63","v":120},{"$f":"(W64-W62)/(I64-I62)*(I63-I62)+W62","v":120},{"$f":"(Y63-W63)/(Y53-W53)*(X53-W53)+W63","v":19.999999999999972},{"$f":"(Y64-Y62)/(A64-A62)*(A63-A62)+Y62","v":170},{"$f":"(AA63-Y63)/(AA53-Y53)*(Z53-Y53)+Y63","v":80.000000000000043},{"$f":"(AA64-AA62)/(A64-A62)*(A63-A62)+AA62","v":200},{"$f":"(AC63-AA63)/(AC53-AA53)*(AB53-AA53)+AA63","v":99.999999999999972},{"$f":"(AC64-AC62)/(A64-A62)*(A63-A62)+AC62","v":250},{"$f":"(AE63-AC63)/(AE53-AC53)*(AD53-AC53)+AC63","v":250},{"$f":"(AE64-AE62)/(A64-A62)*(A63-A62)+AE62","v":250},{"$f":"(AG63-AE63)/(AG53-AE53)*(AF53-AE53)+AE63","v":250},{"$f":"(AG64-AG62)/(A64-A62)*(A63-A62)+AG62","v":250},{"$f":"(AI63-AG63)/(AI53-AG53)*(AH53-AG53)+AG63","v":250},{"$f":"(AI64-AI62)/(A64-A62)*(A63-A62)+AI62","v":250},11]
[5,{"$f":"B62+1","v":5},"-",{"$f":"(E64-C64)/(E53-C53)*(D53-C53)+C64","v":{"$error":"#VALUE!"}},"-",{"$f":"(G64-E64)/(G53-E53)*(F53-E53)+E64","v":{"$error":"#VALUE!"}},15,{"$f":"(I64-G64)/(I53-G53)*(H53-G53)+G64","v":0},20,{"$f":"(K64-I64)/(K53-I53)*(J53-I53)+I64","v":-20.000000000000007},40,{"$f":"(M64-K64)/(M53-K53)*(L53-K53)+K64","v":10.000000000000007},50,{"$f":"(O64-M64)/(O53-M53)*(N53-M53)+M64","v":19.999999999999996},65,{"$f":"(Q64-O64)/(Q53-O53)*(P53-O53)+O64","v":20.000000000000007},80,{"$f":"(S64-Q64)/(S53-Q53)*(R53-Q53)+Q64","v":0},100,{"$f":"(U64-S64)/(U53-S53)*(T53-S53)+S64","v":59.999999999999986},120,{"$f":"(W64-U64)/(W53-U53)*(V53-U53)+U64","v":120},120,{"$f":"(Y64-W64)/(Y53-W53)*(X53-W53)+W64","v":19.999999999999972},170,{"$f":"(AA64-Y64)/(AA53-Y53)*(Z53-Y53)+Y64","v":80.000000000000043},200,{"$f":"(AC64-AA64)/(AC53-AA53)*(AB53-AA53)+AA64","v":99.999999999999972},250,{"$f":"(AE64-AC64)/(AE53-AC53)*(AD53-AC53)+AC64","v":250},250,{"$f":"(AG64-AE64)/(AG53-AE53)*(AF53-AE53)+AE64","v":250},250,{"$f":"(AI64-AG64)/(AI53-AG53)*(AH53-AG53)+AG64","v":250},250,12,"Регулятор давления",null,null,{"$f":"Лист1!F63","v":"РЕД-3-40-С3 DN40 Qmax=240 нм3/час"}]
[{"$f":"IF(AND(AN60>A64,AN60<A66)=TRUE,AN60,0)","v":0},null,{"$f":"(C66-C64)/(A66-A64)*(A65-A64)+C64","v":{"$error":"#VALUE!"}},{"$f":"(E65-C65)/(E53-C53)*(D53-C53)+C65","v":{"$error":"#VALUE!"}},{"$f":"(E66-E64)/(A66-A64)*(A65-A64)+E64","v":{"$error":"#VALUE!"}},{"$f":"(G65-E65)/(G53-E53)*(F53-E53)+E65","v":{"$error":"#VALUE!"}},{"$f":"(G66-G64)/(A66-A64)*(A65-A64)+G64","v":{"$error":"#VALUE!"}},{"$f":"(I65-G65)/(I53-G53)*(H53-G53)+G65","v":{"$error":"#VALUE!"}},{"$f":"(I66-I64)/(A66-A64)*(A65-A64)+I64","v":30},{"$f":"(K65-I65)/(K53-I53)*(J53-I53)+I65","v":-30.000000000000007},{"$f":"(K66-K64)/(A66-A64)*(A65-A64)+K64","v":60},{"$f":"(M65-K65)/(M53-K53)*(L53-K53)+K65","v":60},{"$f":"(M66-M64)/(A66-A64)*(A65-A64)+M64","v":60},{"$f":"(O65-M65)/(O53-M53)*(N53-M53)+M65","v":29.999999999999996},{"$f":"(O66-O64)/(A66-A64)*(A65-A64)+O64","v":75},{"$f":"(Q65-O65)/(Q53-O53)*(P53-O53)+O65","v":60},{"$f":"(Q66-Q64)/(A66-A64)*(A65-A64)+Q64","v":80},{"$f":"(S65-Q65)/(S53-Q53)*(R53-Q53)+Q65","v":0},{"$f":"(S66-S64)/(A66-A64)*(A65-A64)+S64","v":100},{"$f":"(U65-S65)/(U53-S53)*(T53-S53)+S65","v":59.999999999999986},{"$f":"(U66-U64)/(A66-A64)*(A65-A64)+U64","v":120},{"$f":"(W65-U65)/(W53-U53)*(V53-U53)+U65","v":120},{"$f":"(W66-W64)/(A66-A64)*(A65-A64)+W64","v":120},{"$f":"(Y65-W65)/(Y53-W53)*(X53-W53)+W65","v":19.999999999999972},{"$f":"(Y66-Y64)/(A66-A64)*(A65-A64)+Y64","v":170},{"$f":"(AA65-Y65)/(AA53-Y53)*(Z53-Y53)+Y65","v":80.000000000000043},{"$f":"(AA66-AA64)/(A66-A64)*(A65-A64)+AA64","v":200},{"$f":"(AC65-AA65)/(AC53-AA53)*(AB53-AA53)+AA65","v":99.999999999999972},{"$f":"(AC66-AC64)/(A66-A64)*(A65-A64)+AC64","v":250},{"$f":"(AE65-AC65)/(AE53-AC53)*(AD53-AC53)+AC65","v":250},{"$f":"(AE66-AE64)/(A66-A64)*(A65-A64)+AE64","v":250},{"$f":"(AG65-AE65)/(AG53-AE53)*(AF53-AE53)+AE65","v":250},{"$f":"(AG66-AG64)/(A66-A64)*(A65-A64)+AG64","v":250},{"$f":"(AI65-AG65)/(AI53-AG53)*(AH53-AG53)+AG65","v":250},{"$f":"(AI66-AI64)/(A66-A64)*(A65-A64)+AI64","v":250},13]
[7.5,{"$f":"B64+1","v":6},"-",{"$f":"(E66-C66)/(E53-C53)*(D53-C53)+C66","v":{"$error":"#VALUE!"}},"-",{"$f":"(G66-E66)/(G53-E53)*(F53-E53)+E66","v":{"$error":"#VALUE!"}},"-",{"$f":"(I66-G66)/(I53-G53)*(H53-G53)+G66","v":{"$error":"#VALUE!"}},15,{"$f":"(K66-I66)/(K53-I53)*(J53-I53)+I66","v":-15.000000000000004},30,{"$f":"(M66-K66)/(M53-K53)*(L53-K53)+K66","v":-14.999999999999993},45,{"$f":"(O66-M66)/(O53-M53)*(N53-M53)+M66","v":14.999999999999996},60,{"$f":"(Q66-O66)/(Q53-O53)*(P53-O53)+O66","v":0},80,{"$f":"(S66-Q66)/(S53-Q53)*(R53-Q53)+Q66","v":0},100,{"$f":"(U66-S66)/(U53-S53)*(T53-S53)+S66","v":59.999999999999986},120,{"$f":"(W66-U66)/(W53-U53)*(V53-U53)+U66","v":120},120,{"$f":"(Y66-W66)/(Y53-W53)*(X53-W53)+W66","v":19.999999999999972},170,{"$f":"(AA66-Y66)/(AA53-Y53)*(Z53-Y53)+Y66","v":80.000000000000043},200,{"$f":"(AC66-AA66)/(AC53-AA53)*(AB53-AA53)+AA66","v":99.999999999999972},250,{"$f":"(AE66-AC66)/(AE53-AC53)*(AD53-AC53)+AC66","v":250},250,{"$f":"(AG66-AE66)/(AG53-AE53)*(AF53-AE53)+AE66","v":250},250,{"$f":"(AI66-AG66)/(AI53-AG53)*(AH53-AG53)+AG66","v":250},250,14]
[{"$f":"IF(AND(AN60>A66,AN60<A68)=TRUE,AN60,0)","v":0},null,{"$f":"(C68-C66)/(A68-A66)*(A67-A66)+C66","v":{"$error":"#VALUE!"}},{"$f":"(E67-C67)/(E53-C53)*(D53-C53)+C67","v":{"$error":"#VALUE!"}},{"$f":"(E68-E66)/(A68-A66)*(A67-A66)+E66","v":{"$error":"#VALUE!"}},{"$f":"(G67-E67)/(G53-E53)*(F53-E53)+E67","v":{"$error":"#VALUE!"}},{"$f":"(G68-G66)/(A68-A66)*(A67-A66)+G66","v":{"$error":"#VALUE!"}},{"$f":"(I67-G67)/(I53-G53)*(H53-G53)+G67","v":{"$error":"#VALUE!"}},{"$f":"(I68-I66)/(A68-A66)*(A67-A66)+I66","v":{"$error":"#VALUE!"}},{"$f":"(K67-I67)/(K53-I53)*(J53-I53)+I67","v":{"$error":"#VALUE!"}},{"$f":"(K68-K66)/(A68-A66)*(A67-A66)+K66","v":60},{"$f":"(M67-K67)/(M53-K53)*(L53-K53)+K67","v":-29.999999999999986},{"$f":"(M68-M66)/(A68-A66)*(A67-A66)+M66","v":90},{"$f":"(O67-M67)/(O53-M53)*(N53-M53)+M67","v":90},{"$f":"(O68-O66)/(A68-A66)*(A67-A66)+O66","v":90},{"$f":"(Q67-O67)/(Q53-O53)*(P53-O53)+O67","v":120},{"$f":"(Q68-Q66)/(A68-A66)*(A67-A66)+Q66","v":80},{"$f":"(S67-Q67)/(S53-Q53)*(R53-Q53)+Q67","v":0},{"$f":"(S68-S66)/(A68-A66)*(A67-A66)+S66","v":100},{"$f":"(U67-S67)/(U53-S53)*(T53-S53)+S67","v":59.999999999999986},{"$f":"(U68-U66)/(A68-A66)*(A67-A66)+U66","v":120},{"$f":"(W67-U67)/(W53-U53)*(V53-U53)+U67","v":120},{"$f":"(W68-W66)/(A68-A66)*(A67-A66)+W66","v":120},{"$f":"(Y67-W67)/(Y53-W53)*(X53-W53)+W67","v":19.999999999999972},{"$f":"(Y68-Y66)/(A68-A66)*(A67-A66)+Y66","v":170},{"$f":"(AA67-Y67)/(AA53-Y53)*(Z53-Y53)+Y67","v":80.000000000000043},{"$f":"(AA68-AA66)/(A68-A66)*(A67-A66)+AA66","v":200},{"$f":"(AC67-AA67)/(AC53-AA53)*(AB53-AA53)+AA67","v":99.999999999999972},{"$f":"(AC68-AC66)/(A68-A66)*(A67-A66)+AC66","v":250},{"$f":"(AE67-AC67)/(AE53-AC53)*(AD53-AC53)+AC67","v":184.3},{"$f":"(AE68-AE66)/(A68-A66)*(A67-A66)+AE66","v":160},{"$f":"(AG67-AE67)/(AG53-AE53)*(AF53-AE53)+AE67","v":400.00000000000006},{"$f":"(AG68-AG66)/(A68-A66)*(A67-A66)+AG66","v":100},{"$f":"(AI67-AG67)/(AI53-AG53)*(AH53-AG53)+AG67","v":100},{"$f":"(AI68-AI66)/(A68-A66)*(A67-A66)+AI66","v":100},15]
[10,{"$f":"B66+1","v":7},"-",{"$f":"(E68-C68)/(E53-C53)*(D53-C53)+C68","v":{"$error":"#VALUE!"}},"-",{"$f":"(G68-E68)/(G53-E53)*(F53-E53)+E68","v":{"$error":"#VALUE!"}},"-",{"$f":"(I68-G68)/(I53-G53)*(H53-G53)+G68","v":{"$error":"#VALUE!"}},"-",{"$f":"(K68-I68)/(K53-I53)*(J53-I53)+I68","v":{"$error":"#VALUE!"}},20,{"$f":"(M68-K68)/(M53-K53)*(L53-K53)+K68","v":-9.9999999999999929},30,{"$f":"(O68-M68)/(O53-M53)*(N53-M53)+M68","v":-10.000000000000007},50,{"$f":"(Q68-O68)/(Q53-O53)*(P53-O53)+O68","v":-39.999999999999986},80,{"$f":"(S68-Q68)/(S53-Q53)*(R53-Q53)+Q68","v":0},100,{"$f":"(U68-S68)/(U53-S53)*(T53-S53)+S68","v":59.999999999999986},120,{"$f":"(W68-U68)/(W53-U53)*(V53-U53)+U68","v":120},120,{"$f":"(Y68-W68)/(Y53-W53)*(X53-W53)+W68","v":19.999999999999972},170,{"$f":"(AA68-Y68)/(AA53-Y53)*(Z53-Y53)+Y68","v":80.000000000000043},200,{"$f":"(AC68-AA68)/(AC53-AA53)*(AB53-AA53)+AA68","v":99.999999999999972},250,{"$f":"(AE68-AC68)/(AE53-AC53)*(AD53-AC53)+AC68","v":271.89999999999998},280,{"$f":"(AG68-AE68)/(AG53-AE53)*(AF53-AE53)+AE68","v":199.99999999999997},300,{"$f":"(AI68-AG68)/(AI53-AG53)*(AH53-AG53)+AG68","v":300},300,16]
[{"$f":"IF(AND(AN60>A68,AN60<A70)=TRUE,AN60,0)","v":0},null,{"$f":"(C70-C68)/(A70-A68)*(A69-A68)+C68","v":{"$error":"#VALUE!"}},{"$f":"(E69-C69)/(E53-C53)*(D53-C53)+C69","v":{"$error":"#VALUE!"}},{"$f":"(E70-E68)/(A70-A68)*(A69-A68)+E68","v":{"$error":"#VALUE!"}},{"$f":"(G69-E69)/(G53-E53)*(F53-E53)+E69","v":{"$error":"#VALUE!"}},{"$f":"(G70-G68)/(A70-A68)*(A69-A68)+G68","v":{"$error":"#VALUE!"}},{"$f":"(I69-G69)/(I53-G53)*(H53-G53)+G69","v":{"$error":"#VALUE!"}},{"$f":"(I70-I68)/(A70-A68)*(A69-A68)+I68","v":{"$error":"#VALUE!"}},{"$f":"(K69-I69)/(K53-I53)*(J53-I53)+I69","v":{"$error":"#VALUE!"}},{"$f":"(K70-K68)/(A70-A68)*(A69-A68)+K68","v":{"$error":"#VALUE!"}},{"$f":"(M69-K69)/(M53-K53)*(L53-K53)+K69","v":{"$error":"#VALUE!"}},{"$f":"(M70-M68)/(A70-A68)*(A69-A68)+M68","v":50},{"$f":"(O69-M69)/(O53-M53)*(N53-M53)+M69","v":9.9999999999999929},{"$f":"(O70-O68)/(A70-A68)*(A69-A68)+O68","v":70},{"$f":"(Q69-O69)/(Q53-O53)*(P53-O53)+O69","v":-19.999999999999986},{"$f":"(Q70-Q68)/(A70-A68)*(A69-A68)+Q68","v":100},{"$f":"(S69-Q69)/(S53-Q53)*(R53-Q53)+Q69","v":100},{"$f":"(S70-S68)/(A70-A68)*(A69-A68)+S68","v":100},{"$f":"(U69-S69)/(U53-S53)*(T53-S53)+S69","v":59.999999999999986},{"$f":"(U70-U68)/(A70-A68)*(A69-A68)+U68","v":120},{"$f":"(W69-U69)/(W53-U53)*(V53-U53)+U69","v":120},{"$f":"(W70-W68)/(A70-A68)*(A69-A68)+W68","v":120},{"$f":"(Y69-W69)/(Y53-W53)*(X53-W53)+W69","v":19.999999999999972},{"$f":"(Y70-Y68)/(A70-A68)*(A69-A68)+Y68","v":170},{"$f":"(AA69-Y69)/(AA53-Y53)*(Z53-Y53)+Y69","v":80.000000000000043},{"$f":"(AA70-AA68)/(A70-A68)*(A69-A68)+AA68","v":200},{"$f":"(AC69-AA69)/(AC53-AA53)*(AB53-AA53)+AA69","v":99.999999999999972},{"$f":"(AC70-AC68)/(A70-A68)*(A69-A68)+AC68","v":250},{"$f":"(AE69-AC69)/(AE53-AC53)*(AD53-AC53)+AC69","v":271.89999999999998},{"$f":"(AE70-AE68)/(A70-A68)*(A69-A68)+AE68","v":280},{"$f":"(AG69-AE69)/(AG53-AE53)*(AF53-AE53)+AE69","v":199.99999999999997},{"$f":"(AG70-AG68)/(A70-A68)*(A69-A68)+AG68","v":300},{"$f":"(AI69-AG69)/(AI53-AG53)*(AH53-AG53)+AG69","v":300},{"$f":"(AI70-AI68)/(A70-A68)*(A69-A68)+AI68","v":300},{"$f":"AJ68+1","v":17}]
[15,{"$f":"B68+1","v":8},"-",{"$f":"(E70-C70)/(E53-C53)*(D53-C53)+C70","v":{"$error":"#VALUE!"}},"-",{"$f":"(G70-E70)/(G53-E53)*(F53-E53)+E70","v":{"$error":"#VALUE!"}},"-",{"$f":"(I70-G70)/(I53-G53)*(H53-G53)+G70","v":{"$error":"#VALUE!"}},"-",{"$f":"(K70-I70)/(K53-I53)*(J53-I53)+I70","v":{"$error":"#VALUE!"}},"-",{"$f":"(M70-K70)/(M53-K53)*(L53-K53)+K70","v":{"$error":"#VALUE!"}},20,{"$f":"(O70-M70)/(O53-M53)*(N53-M53)+M70","v":-20.000000000000007},40,{"$f":"(Q70-O70)/(Q53-O53)*(P53-O53)+O70","v":-49.999999999999986},70,{"$f":"(S70-Q70)/(S53-Q53)*(R53-Q53)+Q70","v":-49.999999999999986},100,{"$f":"(U70-S70)/(U53-S53)*(T53-S53)+S70","v":59.999999999999986},120,{"$f":"(W70-U70)/(W53-U53)*(V53-U53)+U70","v":120},120,{"$f":"(Y70-W70)/(Y53-W53)*(X53-W53)+W70","v":19.999999999999972},170,{"$f":"(AA70-Y70)/(AA53-Y53)*(Z53-Y53)+Y70","v":80.000000000000043},200,{"$f":"(AC70-AA70)/(AC53-AA53)*(AB53-AA53)+AA70","v":99.999999999999972},250,{"$f":"(AE70-AC70)/(AE53-AC53)*(AD53-AC53)+AC70","v":271.89999999999998},280,{"$f":"(AG70-AE70)/(AG53-AE53)*(AF53-AE53)+AE70","v":199.99999999999997},300,{"$f":"(AI70-AG70)/(AI53-AG53)*(AH53-AG53)+AG70","v":300},300,{"$f":"AJ69+1","v":18}]
[{"$f":"IF(AND(AN60>A70,AN60<A72)=TRUE,AN60,0)","v":0},null,{"$f":"(C72-C70)/(A72-A70)*(A71-A70)+C70","v":{"$error":"#VALUE!"}},{"$f":"(E71-C71)/(E53-C53)*(D53-C53)+C71","v":{"$error":"#VALUE!"}},{"$f":"(E72-E70)/(A72-A70)*(A71-A70)+E70","v":{"$error":"#VALUE!"}},{"$f":"(G71-E71)/(G53-E53)*(F53-E53)+E71","v":{"$error":"#VALUE!"}},{"$f":"(G72-G70)/(A72-A70)*(A71-A70)+G70","v":{"$error":"#VALUE!"}},{"$f":"(I71-G71)/(I53-G53)*(H53-G53)+G71","v":{"$error":"#VALUE!"}},{"$f":"(I72-I70)/(A72-A70)*(A71-A70)+I70","v":{"$error":"#VALUE!"}},{"$f":"(K71-I71)/(K53-I53)*(J53-I53)+I71","v":{"$error":"#VALUE!"}},{"$f":"(K72-K70)/(A72-A70)*(A71-A70)+K70","v":{"$error":"#VALUE!"}},{"$f":"(M71-K71)/(M53-K53)*(L53-K53)+K71","v":{"$error":"#VALUE!"}},{"$f":"(M72-M70)/(A72-A70)*(A71-A70)+M70","v":{"$error":"#VALUE!"}},{"$f":"(O71-M71)/(O53-M53)*(N53-M53)+M71","v":{"$error":"#VALUE!"}},{"$f":"(O72-O70)/(A72-A70)*(A71-A70)+O70","v":70},{"$f":"(Q71-O71)/(Q53-O53)*(P53-O53)+O71","v":-19.999999999999986},{"$f":"(Q72-Q70)/(A72-A70)*(A71-A70)+Q70","v":100},{"$f":"(S71-Q71)/(S53-Q53)*(R53-Q53)+Q71","v":100},{"$f":"(S72-S70)/(A72-A70)*(A71-A70)+S70","v":100},{"$f":"(U71-S71)/(U53-S53)*(T53-S53)+S71","v":59.999999999999986},{"$f":"(U72-U70)/(A72-A70)*(A71-A70)+U70","v":120},{"$f":"(W71-U71)/(W53-U53)*(V53-U53)+U71","v":120},{"$f":"(W72-W70)/(A72-A70)*(A71-A70)+W70","v":120},{"$f":"(Y71-W71)/(Y53-W53)*(X53-W53)+W71","v":19.999999999999972},{"$f":"(Y72-Y70)/(A72-A70)*(A71-A70)+Y70","v":170},{"$f":"(AA71-Y71)/(AA53-Y53)*(Z53-Y53)+Y71","v":80.000000000000043},{"$f":"(AA72-AA70)/(A72-A70)*(A71-A70)+AA70","v":200},{"$f":"(AC71-AA71)/(AC53-AA53)*(AB53-AA53)+AA71","v":99.999999999999972},{"$f":"(AC72-AC70)/(A72-A70)*(A71-A70)+AC70","v":250},{"$f":"(AE71-AC71)/(AE53-AC53)*(AD53-AC53)+AC71","v":271.89999999999998},{"$f":"(AE72-AE70)/(A72-A70)*(A71-A70)+AE70","v":280},{"$f":"(AG71-AE71)/(AG53-AE53)*(AF53-AE53)+AE71","v":199.99999999999997},{"$f":"(AG72-AG70)/(A72-A70)*(A71-A70)+AG70","v":300},{"$f":"(AI71-AG71)/(AI53-AG53)*(AH53-AG53)+AG71","v":300},{"$f":"(AI72-AI70)/(A72-A70)*(A71-A70)+AI70","v":300},19]
[20,{"$f":"B70+1","v":9},"-",{"$f":"(E72-C72)/(E53-C53)*(D53-C53)+C72","v":{"$error":"#VALUE!"}},"-",{"$f":"(G72-E72)/(G53-E53)*(F53-E53)+E72","v":{"$error":"#VALUE!"}},"-",{"$f":"(I72-G72)/(I53-G53)*(H53-G53)+G72","v":{"$error":"#VALUE!"}},"-",{"$f":"(K72-I72)/(K53-I53)*(J53-I53)+I72","v":{"$error":"#VALUE!"}},"-",{"$f":"(M72-K72)/(M53-K53)*(L53-K53)+K72","v":{"$error":"#VALUE!"}},"-",{"$f":"(O72-M72)/(O53-M53)*(N53-M53)+M72","v":{"$error":"#VALUE!"}},30,{"$f":"(Q72-O72)/(Q53-O53)*(P53-O53)+O72","v":-59.999999999999986},60,{"$f":"(S72-Q72)/(S53-Q53)*(R53-Q53)+Q72","v":-99.999999999999972},100,{"$f":"(U72-S72)/(U53-S53)*(T53-S53)+S72","v":59.999999999999986},120,{"$f":"(W72-U72)/(W53-U53)*(V53-U53)+U72","v":120},120,{"$f":"(Y72-W72)/(Y53-W53)*(X53-W53)+W72","v":19.999999999999972},170,{"$f":"(AA72-Y72)/(AA53-Y53)*(Z53-Y53)+Y72","v":80.000000000000043},200,{"$f":"(AC72-AA72)/(AC53-AA53)*(AB53-AA53)+AA72","v":99.999999999999972},250,{"$f":"(AE72-AC72)/(AE53-AC53)*(AD53-AC53)+AC72","v":271.89999999999998},280,{"$f":"(AG72-AE72)/(AG53-AE53)*(AF53-AE53)+AE72","v":199.99999999999997},300,{"$f":"(AI72-AG72)/(AI53-AG53)*(AH53-AG53)+AG72","v":300},300,20]
[{"$f":"IF(AND(AN60>A72,AN60<A74)=TRUE,AN60,0)","v":0},null,{"$f":"(C74-C72)/(A74-A72)*(A73-A72)+C72","v":{"$error":"#VALUE!"}},{"$f":"(E73-C73)/(E53-C53)*(D53-C53)+C73","v":{"$error":"#VALUE!"}},{"$f":"(E74-E72)/(A74-A72)*(A73-A72)+E72","v":{"$error":"#VALUE!"}},{"$f":"(G73-E73)/(G53-E53)*(F53-E53)+E73","v":{"$error":"#VALUE!"}},{"$f":"(G74-G72)/(A74-A72)*(A73-A72)+G72","v":{"$error":"#VALUE!"}},{"$f":"(I73-G73)/(I53-G53)*(H53-G53)+G73","v":{"$error":"#VALUE!"}},{"$f":"(I74-I72)/(A74-A72)*(A73-A72)+I72","v":{"$error":"#VALUE!"}},{"$f":"(K73-I73)/(K53-I53)*(J53-I53)+I73","v":{"$error":"#VALUE!"}},{"$f":"(K74-K72)/(A74-A72)*(A73-A72)+K72","v":{"$error":"#VALUE!"}},{"$f":"(M73-K73)/(M53-K53)*(L53-K53)+K73","v":{"$error":"#VALUE!"}},{"$f":"(M74-M72)/(A74-A72)*(A73-A72)+M72","v":{"$error":"#VALUE!"}},{"$f":"(O73-M73)/(O53-M53)*(N53-M53)+M73","v":{"$error":"#VALUE!"}},{"$f":"(O74-O72)/(A74-A72)*(A73-A72)+O72","v":{"$error":"#VALUE!"}},{"$f":"(Q73-O73)/(Q53-O53)*(P53-O53)+O73","v":{"$error":"#VALUE!"}},{"$f":"(Q74-Q72)/(A74-A72)*(A73-A72)+Q72","v":80},{"$f":"(S73-Q73)/(S53-Q53)*(R53-Q53)+Q73","v":-159.99999999999997},{"$f":"(S74-S72)/(A74-A72)*(A73-A72)+S72","v":140},{"$f":"(U73-S73)/(U53-S53)*(T53-S53)+S73","v":140},{"$f":"(U74-U72)/(A74-A72)*(A73-A72)+U72","v":140},{"$f":"(W73-U73)/(W53-U53)*(V53-U53)+U73","v":140},{"$f":"(W74-W72)/(A74-A72)*(A73-A72)+W72","v":140},{"$f":"(Y73-W73)/(Y53-W53)*(X53-W53)+W73","v":79.999999999999986},{"$f":"(Y74-Y72)/(A74-A72)*(A73-A72)+Y72","v":170},{"$f":"(AA73-Y73)/(AA53-Y53)*(Z53-Y53)+Y73","v":80.000000000000043},{"$f":"(AA74-AA72)/(A74-A72)*(A73-A72)+AA72","v":200},{"$f":"(AC73-AA73)/(AC53-AA53)*(AB53-AA53)+AA73","v":99.999999999999972},{"$f":"(AC74-AC72)/(A74-A72)*(A73-A72)+AC72","v":250},{"$f":"(AE73-AC73)/(AE53-AC53)*(AD53-AC53)+AC73","v":271.89999999999998},{"$f":"(AE74-AE72)/(A74-A72)*(A73-A72)+AE72","v":280},{"$f":"(AG73-AE73)/(AG53-AE53)*(AF53-AE53)+AE73","v":199.99999999999997},{"$f":"(AG74-AG72)/(A74-A72)*(A73-A72)+AG72","v":300},{"$f":"(AI73-AG73)/(AI53-AG53)*(AH53-AG53)+AG73","v":300},{"$f":"(AI74-AI72)/(A74-A72)*(A73-A72)+AI72","v":300},21]
[30,{"$f":"B72+1","v":10},"-",{"$f":"(E74-C74)/(E53-C53)*(D53-C53)+C74","v":{"$error":"#VALUE!"}},"-",{"$f":"(G74-E74)/(G53-E53)*(F53-E53)+E74","v":{"$error":"#VALUE!"}},"-",{"$f":"(I74-G74)/(I53-G53)*(H53-G53)+G74","v":{"$error":"#VALUE!"}},"-",{"$f":"(K74-I74)/(K53-I53)*(J53-I53)+I74","v":{"$error":"#VALUE!"}},"-",{"$f":"(M74-K74)/(M53-K53)*(L53-K53)+K74","v":{"$error":"#VALUE!"}},"-",{"$f":"(O74-M74)/(O53-M53)*(N53-M53)+M74","v":{"$error":"#VALUE!"}},"-",{"$f":"(Q74-O74)/(Q53-O53)*(P53-O53)+O74","v":{"$error":"#VALUE!"}},50,{"$f":"(S74-Q74)/(S53-Q53)*(R53-Q53)+Q74","v":-69.999999999999986},80,{"$f":"(U74-S74)/(U53-S53)*(T53-S53)+S74","v":19.999999999999986},110,{"$f":"(W74-U74)/(W53-U53)*(V53-U53)+U74","v":110},110,{"$f":"(Y74-W74)/(Y53-W53)*(X53-W53)+W74","v":-10.000000000000028},170,{"$f":"(AA74-Y74)/(AA53-Y53)*(Z53-Y53)+Y74","v":80.000000000000043},200,{"$f":"(AC74-AA74)/(AC53-AA53)*(AB53-AA53)+AA74","v":99.999999999999972},250,{"$f":"(AE74-AC74)/(AE53-AC53)*(AD53-AC53)+AC74","v":271.89999999999998},280,{"$f":"(AG74-AE74)/(AG53-AE53)*(AF53-AE53)+AE74","v":199.99999999999997},300,{"$f":"(AI74-AG74)/(AI53-AG53)*(AH53-AG53)+AG74","v":300},300,22]
[{"$f":"IF(AND(AN60>A74,AN60<A76)=TRUE,AN60,0)","v":0},null,{"$f":"(C76-C74)/(A76-A74)*(A75-A74)+C74","v":{"$error":"#VALUE!"}},{"$f":"(E75-C75)/(E53-C53)*(D53-C53)+C75","v":{"$error":"#VALUE!"}},{"$f":"(E76-E74)/(A76-A74)*(A75-A74)+E74","v":{"$error":"#VALUE!"}},{"$f":"(G75-E75)/(G53-E53)*(F53-E53)+E75","v":{"$error":"#VALUE!"}},{"$f":"(G76-G74)/(A76-A74)*(A75-A74)+G74","v":{"$error":"#VALUE!"}},{"$f":"(I75-G75)/(I53-G53)*(H53-G53)+G75","v":{"$error":"#VALUE!"}},{"$f":"(I76-I74)/(A76-A74)*(A75-A74)+I74","v":{"$error":"#VALUE!"}},{"$f":"(K75-I75)/(K53-I53)*(J53-I53)+I75","v":{"$error":"#VALUE!"}},{"$f":"(K76-K74)/(A76-A74)*(A75-A74)+K74","v":{"$error":"#VALUE!"}},{"$f":"(M75-K75)/(M53-K53)*(L53-K53)+K75","v":{"$error":"#VALUE!"}},{"$f":"(M76-M74)/(A76-A74)*(A75-A74)+M74","v":{"$error":"#VALUE!"}},{"$f":"(O75-M75)/(O53-M53)*(N53-M53)+M75","v":{"$error":"#VALUE!"}},{"$f":"(O76-O74)/(A76-A74)*(A75-A74)+O74","v":{"$error":"#VALUE!"}},{"$f":"(Q75-O75)/(Q53-O53)*(P53-O53)+O75","v":{"$error":"#VALUE!"}},{"$f":"(Q76-Q74)/(A76-A74)*(A75-A74)+Q74","v":{"$error":"#VALUE!"}},{"$f":"(S75-Q75)/(S53-Q53)*(R53-Q53)+Q75","v":{"$error":"#VALUE!"}},{"$f":"(S76-S74)/(A76-A74)*(A75-A74)+S74","v":320},{"$f":"(U75-S75)/(U53-S53)*(T53-S53)+S75","v":139.99999999999994},{"$f":"(U76-U74)/(A76-A74)*(A75-A74)+U74","v":410},{"$f":"(W75-U75)/(W53-U53)*(V53-U53)+U75","v":769.99999999999977},{"$f":"(W76-W74)/(A76-A74)*(A75-A74)+W74","v":290},{"$f":"(Y75-W75)/(Y53-W53)*(X53-W53)+W75","v":49.999999999999943},{"$f":"(Y76-Y74)/(A76-A74)*(A75-A74)+Y74","v":410},{"$f":"(AA75-Y75)/(AA53-Y53)*(Z53-Y53)+Y75","v":499.99999999999994},{"$f":"(AA76-AA74)/(A76-A74)*(A75-A74)+AA74","v":380},{"$f":"(AC75-AA75)/(AC53-AA53)*(AB53-AA53)+AA75","v":39.999999999999886},{"$f":"(AC76-AC74)/(A76-A74)*(A75-A74)+AC74","v":550},{"$f":"(AE75-AC75)/(AE53-AC53)*(AD53-AC53)+AC75","v":571.9},{"$f":"(AE76-AE74)/(A76-A74)*(A75-A74)+AE74","v":580},{"$f":"(AG75-AE75)/(AG53-AE53)*(AF53-AE53)+AE75","v":500},{"$f":"(AG76-AG74)/(A76-A74)*(A75-A74)+AG74","v":600},{"$f":"(AI75-AG75)/(AI53-AG53)*(AH53-AG53)+AG75","v":600},{"$f":"(AI76-AI74)/(A76-A74)*(A75-A74)+AI74","v":600},23]
[35,{"$f":"B74+1","v":11},"-",{"$f":"(E76-C76)/(E53-C53)*(D53-C53)+C76","v":{"$error":"#VALUE!"}},"-",{"$f":"(G76-E76)/(G53-E53)*(F53-E53)+E76","v":{"$error":"#VALUE!"}},"-",{"$f":"(I76-G76)/(I53-G53)*(H53-G53)+G76","v":{"$error":"#VALUE!"}},"-",{"$f":"(K76-I76)/(K53-I53)*(J53-I53)+I76","v":{"$error":"#VALUE!"}},"-",{"$f":"(M76-K76)/(M53-K53)*(L53-K53)+K76","v":{"$error":"#VALUE!"}},"-",{"$f":"(O76-M76)/(O53-M53)*(N53-M53)+M76","v":{"$error":"#VALUE!"}},"-",{"$f":"(Q76-O76)/(Q53-O53)*(P53-O53)+O76","v":{"$error":"#VALUE!"}},"-",{"$f":"(S76-Q76)/(S53-Q53)*(R53-Q53)+Q76","v":{"$error":"#VALUE!"}},40,{"$f":"(U76-S76)/(U53-S53)*(T53-S53)+S76","v":0},60,{"$f":"(W76-U76)/(W53-U53)*(V53-U53)+U76","v":0},80,{"$f":"(Y76-W76)/(Y53-W53)*(X53-W53)+W76","v":-20.000000000000028},130,{"$f":"(AA76-Y76)/(AA53-Y53)*(Z53-Y53)+Y76","v":10.000000000000043},170,{"$f":"(AC76-AA76)/(AC53-AA53)*(AB53-AA53)+AA76","v":109.99999999999999},200,{"$f":"(AE76-AC76)/(AE53-AC53)*(AD53-AC53)+AC76","v":221.9},230,{"$f":"(AG76-AE76)/(AG53-AE53)*(AF53-AE53)+AE76","v":149.99999999999997},250,{"$f":"(AI76-AG76)/(AI53-AG53)*(AH53-AG53)+AG76","v":250},250,24]
[{"$f":"IF(AND(AN60>A76,AN60<A78)=TRUE,AN60,0)","v":0},null,{"$f":"(C78-C76)/(A78-A76)*(A77-A76)+C76","v":{"$error":"#VALUE!"}},{"$f":"(E77-C77)/(E53-C53)*(D53-C53)+C77","v":{"$error":"#VALUE!"}},{"$f":"(E78-E76)/(A78-A76)*(A77-A76)+E76","v":{"$error":"#VALUE!"}},{"$f":"(G77-E77)/(G53-E53)*(F53-E53)+E77","v":{"$error":"#VALUE!"}},{"$f":"(G78-G76)/(A78-A76)*(A77-A76)+G76","v":{"$error":"#VALUE!"}},{"$f":"(I77-G77)/(I53-G53)*(H53-G53)+G77","v":{"$error":"#VALUE!"}},{"$f":"(I78-I76)/(A78-A76)*(A77-A76)+I76","v":{"$error":"#VALUE!"}},{"$f":"(K77-I77)/(K53-I53)*(J53-I53)+I77","v":{"$error":"#VALUE!"}},{"$f":"(K78-K76)/(A78-A76)*(A77-A76)+K76","v":{"$error":"#VALUE!"}},{"$f":"(M77-K77)/(M53-K53)*(L53-K53)+K77","v":{"$error":"#VALUE!"}},{"$f":"(M78-M76)/(A78-A76)*(A77-A76)+M76","v":{"$error":"#VALUE!"}},{"$f":"(O77-M77)/(O53-M53)*(N53-M53)+M77","v":{"$error":"#VALUE!"}},{"$f":"(O78-O76)/(A78-A76)*(A77-A76)+O76","v":{"$error":"#VALUE!"}},{"$f":"(Q77-O77)/(Q53-O53)*(P53-O53)+O77","v":{"$error":"#VALUE!"}},{"$f":"(Q78-Q76)/(A78-A76)*(A77-A76)+Q76","v":{"$error":"#VALUE!"}},{"$f":"(S77-Q77)/(S53-Q53)*(R53-Q53)+Q77","v":{"$error":"#VALUE!"}},{"$f":"(S78-S76)/(A78-A76)*(A77-A76)+S76","v":75},{"$f":"(U77-S77)/(U53-S53)*(T53-S53)+S77","v":105},{"$f":"(U78-U76)/(A78-A76)*(A77-A76)+U76","v":60},{"$f":"(W77-U77)/(W53-U53)*(V53-U53)+U77","v":0},{"$f":"(W78-W76)/(A78-A76)*(A77-A76)+W76","v":80},{"$f":"(Y77-W77)/(Y53-W53)*(X53-W53)+W77","v":-20.000000000000028},{"$f":"(Y78-Y76)/(A78-A76)*(A77-A76)+Y76","v":130},{"$f":"(AA77-Y77)/(AA53-Y53)*(Z53-Y53)+Y77","v":10.000000000000043},{"$f":"(AA78-AA76)/(A78-A76)*(A77-A76)+AA76","v":170},{"$f":"(AC77-AA77)/(AC53-AA53)*(AB53-AA53)+AA77","v":109.99999999999999},{"$f":"(AC78-AC76)/(A78-A76)*(A77-A76)+AC76","v":200},{"$f":"(AE77-AC77)/(AE53-AC53)*(AD53-AC53)+AC77","v":221.9},{"$f":"(AE78-AE76)/(A78-A76)*(A77-A76)+AE76","v":230},{"$f":"(AG77-AE77)/(AG53-AE53)*(AF53-AE53)+AE77","v":149.99999999999997},{"$f":"(AG78-AG76)/(A78-A76)*(A77-A76)+AG76","v":250},{"$f":"(AI77-AG77)/(AI53-AG53)*(AH53-AG53)+AG77","v":250},{"$f":"(AI78-AI76)/(A78-A76)*(A77-A76)+AI76","v":250},25]
[40,{"$f":"B76+1","v":12},"-",{"$f":"(E78-C78)/(E53-C53)*(D53-C53)+C78","v":{"$error":"#VALUE!"}},"-",{"$f":"(G78-E78)/(G53-E53)*(F53-E53)+E78","v":{"$error":"#VALUE!"}},"-",{"$f":"(I78-G78)/(I53-G53)*(H53-G53)+G78","v":{"$error":"#VALUE!"}},"-",{"$f":"(K78-I78)/(K53-I53)*(J53-I53)+I78","v":{"$error":"#VALUE!"}},"-",{"$f":"(M78-K78)/(M53-K53)*(L53-K53)+K78","v":{"$error":"#VALUE!"}},"-",{"$f":"(O78-M78)/(O53-M53)*(N53-M53)+M78","v":{"$error":"#VALUE!"}},"-",{"$f":"(Q78-O78)/(Q53-O53)*(P53-O53)+O78","v":{"$error":"#VALUE!"}},"-",{"$f":"(S78-Q78)/(S53-Q53)*(R53-Q53)+Q78","v":{"$error":"#VALUE!"}},35,{"$f":"(U78-S78)/(U53-S53)*(T53-S53)+S78","v":-15.000000000000014},60,{"$f":"(W78-U78)/(W53-U53)*(V53-U53)+U78","v":0},80,{"$f":"(Y78-W78)/(Y53-W53)*(X53-W53)+W78","v":-20.000000000000028},130,{"$f":"(AA78-Y78)/(AA53-Y53)*(Z53-Y53)+Y78","v":10.000000000000043},170,{"$f":"(AC78-AA78)/(AC53-AA53)*(AB53-AA53)+AA78","v":109.99999999999999},200,{"$f":"(AE78-AC78)/(AE53-AC53)*(AD53-AC53)+AC78","v":221.9},230,{"$f":"(AG78-AE78)/(AG53-AE53)*(AF53-AE53)+AE78","v":149.99999999999997},250,{"$f":"(AI78-AG78)/(AI53-AG53)*(AH53-AG53)+AG78","v":250},250,26]
[{"$f":"IF(AND(AN60>A78,AN60<A80)=TRUE,AN60,0)","v":0},null,{"$f":"(C80-C78)/(A80-A78)*(A79-A78)+C78","v":{"$error":"#VALUE!"}},{"$f":"(E79-C79)/(E53-C53)*(D53-C53)+C79","v":{"$error":"#VALUE!"}},{"$f":"(E80-E78)/(A80-A78)*(A79-A78)+E78","v":{"$error":"#VALUE!"}},{"$f":"(G79-E79)/(G53-E53)*(F53-E53)+E79","v":{"$error":"#VALUE!"}},{"$f":"(G80-G78)/(A80-A78)*(A79-A78)+G78","v":{"$error":"#VALUE!"}},{"$f":"(I79-G79)/(I53-G53)*(H53-G53)+G79","v":{"$error":"#VALUE!"}},{"$f":"(I80-I78)/(A80-A78)*(A79-A78)+I78","v":{"$error":"#VALUE!"}},{"$f":"(K79-I79)/(K53-I53)*(J53-I53)+I79","v":{"$error":"#VALUE!"}},{"$f":"(K80-K78)/(A80-A78)*(A79-A78)+K78","v":{"$error":"#VALUE!"}},{"$f":"(M79-K79)/(M53-K53)*(L53-K53)+K79","v":{"$error":"#VALUE!"}},{"$f":"(M80-M78)/(A80-A78)*(A79-A78)+M78","v":{"$error":"#VALUE!"}},{"$f":"(O79-M79)/(O53-M53)*(N53-M53)+M79","v":{"$error":"#VALUE!"}},{"$f":"(O80-O78)/(A80-A78)*(A79-A78)+O78","v":{"$error":"#VALUE!"}},{"$f":"(Q79-O79)/(Q53-O53)*(P53-O53)+O79","v":{"$error":"#VALUE!"}},{"$f":"(Q80-Q78)/(A80-A78)*(A79-A78)+Q78","v":{"$error":"#VALUE!"}},{"$f":"(S79-Q79)/(S53-Q53)*(R53-Q53)+Q79","v":{"$error":"#VALUE!"}},{"$f":"(S80-S78)/(A80-A78)*(A79-A78)+S78","v":{"$error":"#VALUE!"}},{"$f":"(U79-S79)/(U53-S53)*(T53-S53)+S79","v":{"$error":"#VALUE!"}},{"$f":"(U80-U78)/(A80-A78)*(A79-A78)+U78","v":60},{"$f":"(W79-U79)/(W53-U53)*(V53-U53)+U79","v":0},{"$f":"(W80-W78)/(A80-A78)*(A79-A78)+W78","v":80},{"$f":"(Y79-W79)/(Y53-W53)*(X53-W53)+W79","v":-20.000000000000028},{"$f":"(Y80-Y78)/(A80-A78)*(A79-A78)+Y78","v":130},{"$f":"(AA79-Y79)/(AA53-Y53)*(Z53-Y53)+Y79","v":10.000000000000043},{"$f":"(AA80-AA78)/(A80-A78)*(A79-A78)+AA78","v":170},{"$f":"(AC79-AA79)/(AC53-AA53)*(AB53-AA53)+AA79","v":109.99999999999999},{"$f":"(AC80-AC78)/(A80-A78)*(A79-A78)+AC78","v":200},{"$f":"(AE79-AC79)/(AE53-AC53)*(AD53-AC53)+AC79","v":221.9},{"$f":"(AE80-AE78)/(A80-A78)*(A79-A78)+AE78","v":230},{"$f":"(AG79-AE79)/(AG53-AE53)*(AF53-AE53)+AE79","v":149.99999999999997},{"$f":"(AG80-AG78)/(A80-A78)*(A79-A78)+AG78","v":250},{"$f":"(AI79-AG79)/(AI53-AG53)*(AH53-AG53)+AG79","v":250},{"$f":"(AI80-AI78)/(A80-A78)*(A79-A78)+AI78","v":250},{"$f":"AJ78+1","v":27}]
[45,{"$f":"B78+1","v":13},"-",{"$f":"(E80-C80)/(E53-C53)*(D53-C53)+C80","v":{"$error":"#VALUE!"}},"-",{"$f":"(G80-E80)/(G53-E53)*(F53-E53)+E80","v":{"$error":"#VALUE!"}},"-",{"$f":"(I80-G80)/(I53-G53)*(H53-G53)+G80","v":{"$error":"#VALUE!"}},"-",{"$f":"(K80-I80)/(K53-I53)*(J53-I53)+I80","v":{"$error":"#VALUE!"}},"-",{"$f":"(M80-K80)/(M53-K53)*(L53-K53)+K80","v":{"$error":"#VALUE!"}},"-",{"$f":"(O80-M80)/(O53-M53)*(N53-M53)+M80","v":{"$error":"#VALUE!"}},"-",{"$f":"(Q80-O80)/(Q53-O53)*(P53-O53)+O80","v":{"$error":"#VALUE!"}},"-",{"$f":"(S80-Q80)/(S53-Q53)*(R53-Q53)+Q80","v":{"$error":"#VALUE!"}},"-",{"$f":"(U80-S80)/(U53-S53)*(T53-S53)+S80","v":{"$error":"#VALUE!"}},60,{"$f":"(W80-U80)/(W53-U53)*(V53-U53)+U80","v":0},80,{"$f":"(Y80-W80)/(Y53-W53)*(X53-W53)+W80","v":-20.000000000000028},130,{"$f":"(AA80-Y80)/(AA53-Y53)*(Z53-Y53)+Y80","v":10.000000000000043},170,{"$f":"(AC80-AA80)/(AC53-AA53)*(AB53-AA53)+AA80","v":109.99999999999999},200,{"$f":"(AE80-AC80)/(AE53-AC53)*(AD53-AC53)+AC80","v":221.9},230,{"$f":"(AG80-AE80)/(AG53-AE53)*(AF53-AE53)+AE80","v":149.99999999999997},250,{"$f":"(AI80-AG80)/(AI53-AG53)*(AH53-AG53)+AG80","v":250},250,28]
[{"$f":"IF(AND(AN60>A80,AN60<A82)=TRUE,AN60,0)","v":0},null,{"$f":"(C82-C80)/(A82-A80)*(A81-A80)+C80","v":{"$error":"#VALUE!"}},{"$f":"(E81-C81)/(E53-C53)*(D53-C53)+C81","v":{"$error":"#VALUE!"}},{"$f":"(E82-E80)/(A82-A80)*(A81-A80)+E80","v":{"$error":"#VALUE!"}},{"$f":"(G81-E81)/(G53-E53)*(F53-E53)+E81","v":{"$error":"#VALUE!"}},{"$f":"(G82-G80)/(A82-A80)*(A81-A80)+G80","v":{"$error":"#VALUE!"}},{"$f":"(I81-G81)/(I53-G53)*(H53-G53)+G81","v":{"$error":"#VALUE!"}},{"$f":"(I82-I80)/(A82-A80)*(A81-A80)+I80","v":{"$error":"#VALUE!"}},{"$f":"(K81-I81)/(K53-I53)*(J53-I53)+I81","v":{"$error":"#VALUE!"}},{"$f":"(K82-K80)/(A82-A80)*(A81-A80)+K80","v":{"$error":"#VALUE!"}},{"$f":"(M81-K81)/(M53-K53)*(L53-K53)+K81","v":{"$error":"#VALUE!"}},{"$f":"(M82-M80)/(A82-A80)*(A81-A80)+M80","v":{"$error":"#VALUE!"}},{"$f":"(O81-M81)/(O53-M53)*(N53-M53)+M81","v":{"$error":"#VALUE!"}},{"$f":"(O82-O80)/(A82-A80)*(A81-A80)+O80","v":{"$error":"#VALUE!"}},{"$f":"(Q81-O81)/(Q53-O53)*(P53-O53)+O81","v":{"$error":"#VALUE!"}},{"$f":"(Q82-Q80)/(A82-A80)*(A81-A80)+Q80","v":{"$error":"#VALUE!"}},{"$f":"(S81-Q81)/(S53-Q53)*(R53-Q53)+Q81","v":{"$error":"#VALUE!"}},{"$f":"(S82-S80)/(A82-A80)*(A81-A80)+S80","v":{"$error":"#VALUE!"}},{"$f":"(U81-S81)/(U53-S53)*(T53-S53)+S81","v":{"$error":"#VALUE!"}},{"$f":"(U82-U80)/(A82-A80)*(A81-A80)+U80","v":150},{"$f":"(W81-U81)/(W53-U53)*(V53-U53)+U81","v":224.99999999999997},{"$f":"(W82-W80)/(A82-A80)*(A81-A80)+W80","v":125},{"$f":"(Y81-W81)/(Y53-W53)*(X53-W53)+W81","v":-65.000000000000057},{"$f":"(Y82-Y80)/(A82-A80)*(A81-A80)+Y80","v":220},{"$f":"(AA81-Y81)/(AA53-Y53)*(Z53-Y53)+Y81","v":100.00000000000004},{"$f":"(AA82-AA80)/(A82-A80)*(A81-A80)+AA80","v":260},{"$f":"(AC81-AA81)/(AC53-AA53)*(AB53-AA53)+AA81","v":200},{"$f":"(AC82-AC80)/(A82-A80)*(A81-A80)+AC80","v":290},{"$f":"(AE81-AC81)/(AE53-AC53)*(AD53-AC53)+AC81","v":311.89999999999998},{"$f":"(AE82-AE80)/(A82-A80)*(A81-A80)+AE80","v":320},{"$f":"(AG81-AE81)/(AG53-AE53)*(AF53-AE53)+AE81","v":239.99999999999997},{"$f":"(AG82-AG80)/(A82-A80)*(A81-A80)+AG80","v":340},{"$f":"(AI81-AG81)/(AI53-AG53)*(AH53-AG53)+AG81","v":340},{"$f":"(AI82-AI80)/(A82-A80)*(A81-A80)+AI80","v":340},29]
[50,{"$f":"B80+1","v":14},"-",{"$f":"(E82-C82)/(E53-C53)*(D53-C53)+C82","v":{"$error":"#VALUE!"}},"-",{"$f":"(G82-E82)/(G53-E53)*(F53-E53)+E82","v":{"$error":"#VALUE!"}},"-",{"$f":"(I82-G82)/(I53-G53)*(H53-G53)+G82","v":{"$error":"#VALUE!"}},"-",{"$f":"(K82-I82)/(K53-I53)*(J53-I53)+I82","v":{"$error":"#VALUE!"}},"-",{"$f":"(M82-K82)/(M53-K53)*(L53-K53)+K82","v":{"$error":"#VALUE!"}},"-",{"$f":"(O82-M82)/(O53-M53)*(N53-M53)+M82","v":{"$error":"#VALUE!"}},"-",{"$f":"(Q82-O82)/(Q53-O53)*(P53-O53)+O82","v":{"$error":"#VALUE!"}},"-",{"$f":"(S82-Q82)/(S53-Q53)*(R53-Q53)+Q82","v":{"$error":"#VALUE!"}},"-",{"$f":"(U82-S82)/(U53-S53)*(T53-S53)+S82","v":{"$error":"#VALUE!"}},50,{"$f":"(W82-U82)/(W53-U53)*(V53-U53)+U82","v":-24.999999999999972},75,{"$f":"(Y82-W82)/(Y53-W53)*(X53-W53)+W82","v":-15.000000000000028},120,{"$f":"(AA82-Y82)/(AA53-Y53)*(Z53-Y53)+Y82","v":0},160,{"$f":"(AC82-AA82)/(AC53-AA53)*(AB53-AA53)+AA82","v":99.999999999999986},190,{"$f":"(AE82-AC82)/(AE53-AC53)*(AD53-AC53)+AC82","v":211.9},220,{"$f":"(AG82-AE82)/(AG53-AE53)*(AF53-AE53)+AE82","v":139.99999999999997},240,{"$f":"(AI82-AG82)/(AI53-AG53)*(AH53-AG53)+AG82","v":240},240,30]
[{"$f":"IF(AND(AN60>A82,AN60<A84)=TRUE,AN60,0)","v":0},null,{"$f":"(C84-C82)/(A84-A82)*(A83-A82)+C82","v":{"$error":"#VALUE!"}},{"$f":"(E83-C83)/(E53-C53)*(D53-C53)+C83","v":{"$error":"#VALUE!"}},{"$f":"(E84-E82)/(A84-A82)*(A83-A82)+E82","v":{"$error":"#VALUE!"}},{"$f":"(G83-E83)/(G53-E53)*(F53-E53)+E83","v":{"$error":"#VALUE!"}},{"$f":"(G84-G82)/(A84-A82)*(A83-A82)+G82","v":{"$error":"#VALUE!"}},{"$f":"(I83-G83)/(I53-G53)*(H53-G53)+G83","v":{"$error":"#VALUE!"}},{"$f":"(I84-I82)/(A84-A82)*(A83-A82)+I82","v":{"$error":"#VALUE!"}},{"$f":"(K83-I83)/(K53-I53)*(J53-I53)+I83","v":{"$error":"#VALUE!"}},{"$f":"(K84-K82)/(A84-A82)*(A83-A82)+K82","v":{"$error":"#VALUE!"}},{"$f":"(M83-K83)/(M53-K53)*(L53-K53)+K83","v":{"$error":"#VALUE!"}},{"$f":"(M84-M82)/(A84-A82)*(A83-A82)+M82","v":{"$error":"#VALUE!"}},{"$f":"(O83-M83)/(O53-M53)*(N53-M53)+M83","v":{"$error":"#VALUE!"}},{"$f":"(O84-O82)/(A84-A82)*(A83-A82)+O82","v":{"$error":"#VALUE!"}},{"$f":"(Q83-O83)/(Q53-O53)*(P53-O53)+O83","v":{"$error":"#VALUE!"}},{"$f":"(Q84-Q82)/(A84-A82)*(A83-A82)+Q82","v":{"$error":"#VALUE!"}},{"$f":"(S83-Q83)/(S53-Q53)*(R53-Q53)+Q83","v":{"$error":"#VALUE!"}},{"$f":"(S84-S82)/(A84-A82)*(A83-A82)+S82","v":{"$error":"#VALUE!"}},{"$f":"(U83-S83)/(U53-S53)*(T53-S53)+S83","v":{"$error":"#VALUE!"}},{"$f":"(U84-U82)/(A84-A82)*(A83-A82)+U82","v":{"$error":"#VALUE!"}},{"$f":"(W83-U83)/(W53-U53)*(V53-U53)+U83","v":{"$error":"#VALUE!"}},{"$f":"(W84-W82)/(A84-A82)*(A83-A82)+W82","v":85},{"$f":"(Y83-W83)/(Y53-W53)*(X53-W53)+W83","v":-65.000000000000028},{"$f":"(Y84-Y82)/(A84-A82)*(A83-A82)+Y82","v":160},{"$f":"(AA83-Y83)/(AA53-Y53)*(Z53-Y53)+Y83","v":160},{"$f":"(AA84-AA82)/(A84-A82)*(A83-A82)+AA82","v":160},{"$f":"(AC83-AA83)/(AC53-AA53)*(AB53-AA53)+AA83","v":99.999999999999986},{"$f":"(AC84-AC82)/(A84-A82)*(A83-A82)+AC82","v":190},{"$f":"(AE83-AC83)/(AE53-AC53)*(AD53-AC53)+AC83","v":211.9},{"$f":"(AE84-AE82)/(A84-A82)*(A83-A82)+AE82","v":220},{"$f":"(AG83-AE83)/(AG53-AE53)*(AF53-AE53)+AE83","v":139.99999999999997},{"$f":"(AG84-AG82)/(A84-A82)*(A83-A82)+AG82","v":240},{"$f":"(AI83-AG83)/(AI53-AG53)*(AH53-AG53)+AG83","v":240},{"$f":"(AI84-AI82)/(A84-A82)*(A83-A82)+AI82","v":240},31]
[75,{"$f":"B82+1","v":15},"-",{"$f":"(E84-C84)/(E53-C53)*(D53-C53)+C84","v":{"$error":"#VALUE!"}},"-",{"$f":"(G84-E84)/(G53-E53)*(F53-E53)+E84","v":{"$error":"#VALUE!"}},"-",{"$f":"(I84-G84)/(I53-G53)*(H53-G53)+G84","v":{"$error":"#VALUE!"}},"-",{"$f":"(K84-I84)/(K53-I53)*(J53-I53)+I84","v":{"$error":"#VALUE!"}},"-",{"$f":"(M84-K84)/(M53-K53)*(L53-K53)+K84","v":{"$error":"#VALUE!"}},"-",{"$f":"(O84-M84)/(O53-M53)*(N53-M53)+M84","v":{"$error":"#VALUE!"}},"-",{"$f":"(Q84-O84)/(Q53-O53)*(P53-O53)+O84","v":{"$error":"#VALUE!"}},"-",{"$f":"(S84-Q84)/(S53-Q53)*(R53-Q53)+Q84","v":{"$error":"#VALUE!"}},"-",{"$f":"(U84-S84)/(U53-S53)*(T53-S53)+S84","v":{"$error":"#VALUE!"}},"-",{"$f":"(W84-U84)/(W53-U53)*(V53-U53)+U84","v":{"$error":"#VALUE!"}},70,{"$f":"(Y84-W84)/(Y53-W53)*(X53-W53)+W84","v":9.9999999999999858},100,{"$f":"(AA84-Y84)/(AA53-Y53)*(Z53-Y53)+Y84","v":-79.999999999999915},160,{"$f":"(AC84-AA84)/(AC53-AA53)*(AB53-AA53)+AA84","v":99.999999999999986},190,{"$f":"(AE84-AC84)/(AE53-AC53)*(AD53-AC53)+AC84","v":211.9},220,{"$f":"(AG84-AE84)/(AG53-AE53)*(AF53-AE53)+AE84","v":139.99999999999997},240,{"$f":"(AI84-AG84)/(AI53-AG53)*(AH53-AG53)+AG84","v":240},240,32]
[{"$f":"IF(AND(AN60>A84,AN60<A86)=TRUE,AN60,0)","v":0},null,{"$f":"(C86-C84)/(A86-A84)*(A85-A84)+C84","v":{"$error":"#VALUE!"}},{"$f":"(E85-C85)/(E53-C53)*(D53-C53)+C85","v":{"$error":"#VALUE!"}},{"$f":"(E86-E84)/(A86-A84)*(A85-A84)+E84","v":{"$error":"#VALUE!"}},{"$f":"(G85-E85)/(G53-E53)*(F53-E53)+E85","v":{"$error":"#VALUE!"}},{"$f":"(G86-G84)/(A86-A84)*(A85-A84)+G84","v":{"$error":"#VALUE!"}},{"$f":"(I85-G85)/(I53-G53)*(H53-G53)+G85","v":{"$error":"#VALUE!"}},{"$f":"(I86-I84)/(A86-A84)*(A85-A84)+I84","v":{"$error":"#VALUE!"}},{"$f":"(K85-I85)/(K53-I53)*(J53-I53)+I85","v":{"$error":"#VALUE!"}},{"$f":"(K86-K84)/(A86-A84)*(A85-A84)+K84","v":{"$error":"#VALUE!"}},{"$f":"(M85-K85)/(M53-K53)*(L53-K53)+K85","v":{"$error":"#VALUE!"}},{"$f":"(M86-M84)/(A86-A84)*(A85-A84)+M84","v":{"$error":"#VALUE!"}},{"$f":"(O85-M85)/(O53-M53)*(N53-M53)+M85","v":{"$error":"#VALUE!"}},{"$f":"(O86-O84)/(A86-A84)*(A85-A84)+O84","v":{"$error":"#VALUE!"}},{"$f":"(Q85-O85)/(Q53-O53)*(P53-O53)+O85","v":{"$error":"#VALUE!"}},{"$f":"(Q86-Q84)/(A86-A84)*(A85-A84)+Q84","v":{"$error":"#VALUE!"}},{"$f":"(S85-Q85)/(S53-Q53)*(R53-Q53)+Q85","v":{"$error":"#VALUE!"}},{"$f":"(S86-S84)/(A86-A84)*(A85-A84)+S84","v":{"$error":"#VALUE!"}},{"$f":"(U85-S85)/(U53-S53)*(T53-S53)+S85","v":{"$error":"#VALUE!"}},{"$f":"(U86-U84)/(A86-A84)*(A85-A84)+U84","v":{"$error":"#VALUE!"}},{"$f":"(W85-U85)/(W53-U53)*(V53-U53)+U85","v":{"$error":"#VALUE!"}},{"$f":"(W86-W84)/(A86-A84)*(A85-A84)+W84","v":{"$error":"#VALUE!"}},{"$f":"(Y85-W85)/(Y53-W53)*(X53-W53)+W85","v":{"$error":"#VALUE!"}},{"$f":"(Y86-Y84)/(A86-A84)*(A85-A84)+Y84","v":100},{"$f":"(AA85-Y85)/(AA53-Y53)*(Z53-Y53)+Y85","v":-79.999999999999915},{"$f":"(AA86-AA84)/(A86-A84)*(A85-A84)+AA84","v":160},{"$f":"(AC85-AA85)/(AC53-AA53)*(AB53-AA53)+AA85","v":99.999999999999986},{"$f":"(AC86-AC84)/(A86-A84)*(A85-A84)+AC84","v":190},{"$f":"(AE85-AC85)/(AE53-AC53)*(AD53-AC53)+AC85","v":211.9},{"$f":"(AE86-AE84)/(A86-A84)*(A85-A84)+AE84","v":220},{"$f":"(AG85-AE85)/(AG53-AE53)*(AF53-AE53)+AE85","v":139.99999999999997},{"$f":"(AG86-AG84)/(A86-A84)*(A85-A84)+AG84","v":240},{"$f":"(AI85-AG85)/(AI53-AG53)*(AH53-AG53)+AG85","v":240},{"$f":"(AI86-AI84)/(A86-A84)*(A85-A84)+AI84","v":240},33]
[100,{"$f":"B84+1","v":16},"-",{"$f":"(E86-C86)/(E53-C53)*(D53-C53)+C86","v":{"$error":"#VALUE!"}},"-",{"$f":"(G86-E86)/(G53-E53)*(F53-E53)+E86","v":{"$error":"#VALUE!"}},"-",{"$f":"(I86-G86)/(I53-G53)*(H53-G53)+G86","v":{"$error":"#VALUE!"}},"-",{"$f":"(K86-I86)/(K53-I53)*(J53-I53)+I86","v":{"$error":"#VALUE!"}},"-",{"$f":"(M86-K86)/(M53-K53)*(L53-K53)+K86","v":{"$error":"#VALUE!"}},"-",{"$f":"(O86-M86)/(O53-M53)*(N53-M53)+M86","v":{"$error":"#VALUE!"}},"-",{"$f":"(Q86-O86)/(Q53-O53)*(P53-O53)+O86","v":{"$error":"#VALUE!"}},"-",{"$f":"(S86-Q86)/(S53-Q53)*(R53-Q53)+Q86","v":{"$error":"#VALUE!"}},"-",{"$f":"(U86-S86)/(U53-S53)*(T53-S53)+S86","v":{"$error":"#VALUE!"}},"-",{"$f":"(W86-U86)/(W53-U53)*(V53-U53)+U86","v":{"$error":"#VALUE!"}},"-",{"$f":"(Y86-W86)/(Y53-W53)*(X53-W53)+W86","v":{"$error":"#VALUE!"}},100,{"$f":"(AA86-Y86)/(AA53-Y53)*(Z53-Y53)+Y86","v":-79.999999999999915},160,{"$f":"(AC86-AA86)/(AC53-AA53)*(AB53-AA53)+AA86","v":99.999999999999986},190,{"$f":"(AE86-AC86)/(AE53-AC53)*(AD53-AC53)+AC86","v":211.9},220,{"$f":"(AG86-AE86)/(AG53-AE53)*(AF53-AE53)+AE86","v":139.99999999999997},240,{"$f":"(AI86-AG86)/(AI53-AG53)*(AH53-AG53)+AG86","v":240},240,34]
[null,null,null,null,null,null,null,null,null,null,null,null,null,null,null,null,null,null,null,null,null,null,null,null,null,null,null,null,null,null,null,null,null,null," ",35]
["COL",null,3,{"$f":"C88+1","v":4},{"$f":"D88+1","v":5},6,7,8,9,10,11,12,13,14,15,16,17,18,{"$f":"R88+1","v":19},20,21,22,23,24,25,26,27,28,29,30,31,32,33,34,35,36]
[null,null,1,2,null,3,null,4,null,5,null,6,null,7,null,8,null,9,null,10,null,11,null,12,null,13,null,14,null,15,null,16,null,17]
[]
[]
[null,"Рвх",0.01,{"$f":"IF(AND(AA99>C92,AA99<E92)=TRUE,AA99,0)","v":0},0.02,{"$f":"IF(AND(AC99>E92,AC99<G92)=TRUE,AC99,0)","v":0},0.03,{"$f":"IF(AND(AC99>G92,AC99<I92)=TRUE,AC99,0)","v":0},0.04,{"$f":"IF(AND(AC99>I92,AC99<K92)=TRUE,AC99,0)","v":0},0.05,{"$f":"IF(AND(AC99>K92,AC99<M92)=TRUE,AC99,0)","v":0},7.4999999999999997E-2,{"$f":"IF(AND(AC99>M92,AC99<O92)=TRUE,AC99,0)","v":0},0.1,{"$f":"IF(AND(AC99>O92,AC99<Q92)=TRUE,AC99,0)","v":0},0.15,{"$f":"IF(AND(AC99>Q92,AC99<S92)=TRUE,AC99,0)","v":0},0.2,{"$f":"IF(AND(AC99>S92,AC99<U92)=TRUE,AC99,0)","v":0},0.3,{"$f":"IF(AND(AC99>U92,AC99<W92)=TRUE,AC99,0)","v":0.373},0.4,{"$f":"IF(AND(AC99>W92,AC99<Y92)=TRUE,AC99,0)","v":0},0.5,{"$f":"IF(AND(AC99>Y92,AC99<AA92)=TRUE,AC99,0)","v":0},0.6,1]
["Рвых","МПа",null,null,null,null,null,null,null,null,null,null,null,null,null,null,null,null,null,null,null,null,null,null,null,null,null,{"$f":"AB92+1","v":2}]
["кПа",null,null,null,null,null,null,null,null,null,null,null,null,null,null,null,null,null,null,null,null,null,null,null,null,null,null,{"$f":"AB93+1","v":3}]
[1,1,25,{"$f":"(E95-C95)/(E92-C92)*(D92-C92)+C95","v":15},35,{"$f":"(G95-E95)/(G92-E92)*(F92-E92)+E95","v":4.9999999999999964},50,{"$f":"(I95-G95)/(I92-G92)*(H92-G92)+G95","v":20.000000000000007},60,{"$f":"(K95-I95)/(K92-I92)*(J92-I92)+I95","v":20.000000000000007},70,{"$f":"(M95-K95)/(M92-K92)*(L92-K92)+K95","v":70},70,{"$f":"(O95-M95)/(O92-M92)*(N92-M92)+M95","v":55.000000000000007},75,{"$f":"(Q95-O95)/(Q92-O92)*(P92-O92)+O95","v":75},75,{"$f":"(S95-Q95)/(S92-Q92)*(R92-Q92)+Q95","v":75},75,{"$f":"(U95-S95)/(U92-S92)*(T92-S92)+S95","v":75},75,{"$f":"(W95-U95)/(W92-U92)*(V92-U92)+U95","v":75},75,{"$f":"(Y95-W95)/(Y92-W92)*(X92-W92)+W95","v":75},75,{"$f":"(AA95-Y95)/(AA92-Y92)*(Z92-Y92)+Y95","v":75},75,4,"Рвх","Q","Qcрасч","Рвых","Рвых"]
[{"$f":"IF(AND(AF99>A95,AF99<A97)=TRUE,AF99,0)","v":0},null,{"$f":"(C97-C95)/(A97-A95)*(A96-A95)+C95","v":25},{"$f":"(E96-C96)/(E92-C92)*(D92-C92)+C96","v":15},{"$f":"(E97-E95)/(A97-A95)*(A96-A95)+E95","v":35},{"$f":"(G96-E96)/(G92-E92)*(F92-E92)+E96","v":4.9999999999999964},{"$f":"(G97-G95)/(A97-A95)*(A96-A95)+G95","v":50},{"$f":"(I96-G96)/(I92-G92)*(H92-G92)+G96","v":20.000000000000007},{"$f":"(I97-I95)/(A97-A95)*(A96-A95)+I95","v":60},{"$f":"(K96-I96)/(K92-I92)*(J92-I92)+I96","v":20.000000000000007},{"$f":"(K97-K95)/(A97-A95)*(A96-A95)+K95","v":70},{"$f":"(M96-K96)/(M92-K92)*(L92-K92)+K96","v":70},{"$f":"(M97-M95)/(A97-A95)*(A96-A95)+M95","v":70},{"$f":"(O96-M96)/(O92-M92)*(N92-M92)+M96","v":55.000000000000007},{"$f":"(O97-O95)/(A97-A95)*(A96-A95)+O95","v":75},{"$f":"(Q96-O96)/(Q92-O92)*(P92-O92)+O96","v":75},{"$f":"(Q97-Q95)/(A97-A95)*(A96-A95)+Q95","v":75},{"$f":"(S96-Q96)/(S92-Q92)*(R92-Q92)+Q96","v":75},{"$f":"(S97-S95)/(A97-A95)*(A96-A95)+S95","v":75},{"$f":"(U96-S96)/(U92-S92)*(T92-S92)+S96","v":75},{"$f":"(U97-U95)/(A97-A95)*(A96-A95)+U95","v":75},{"$f":"(W96-U96)/(W92-U92)*(V92-U92)+U96","v":75},{"$f":"(W97-W95)/(A97-A95)*(A96-A95)+W95","v":75},{"$f":"(Y96-W96)/(Y92-W92)*(X92-W92)+W96","v":75},{"$f":"(Y97-Y95)/(A97-A95)*(A96-A95)+Y95","v":75},{"$f":"(AA96-Y96)/(AA92-Y92)*(Z92-Y92)+Y96","v":75},{"$f":"(AA97-AA95)/(A97-A95)*(A96-A95)+AA95","v":75},5]
[2,{"$f":"B95+1","v":2},25,{"$f":"(E97-C97)/(E92-C92)*(D92-C92)+C97","v":15},35,{"$f":"(G97-E97)/(G92-E92)*(F92-E92)+E97","v":4.9999999999999964},50,{"$f":"(I97-G97)/(I92-G92)*(H92-G92)+G97","v":20.000000000000007},60,{"$f":"(K97-I97)/(K92-I92)*(J92-I92)+I97","v":20.000000000000007},70,{"$f":"(M97-K97)/(M92-K92)*(L92-K92)+K97","v":70},70,{"$f":"(O97-M97)/(O92-M92)*(N92-M92)+M97","v":55.000000000000007},75,{"$f":"(Q97-O97)/(Q92-O92)*(P92-O92)+O97","v":75},75,{"$f":"(S97-Q97)/(S92-Q92)*(R92-Q92)+Q97","v":75},75,{"$f":"(U97-S97)/(U92-S92)*(T92-S92)+S97","v":75},75,{"$f":"(W97-U97)/(W92-U92)*(V92-U92)+U97","v":75},75,{"$f":"(Y97-W97)/(Y92-W92)*(X92-W92)+W97","v":75},75,{"$f":"(AA97-Y97)/(AA92-Y92)*(Z92-Y92)+Y97","v":75},75,6,"МПа","нм3/час","нм3/час","кПа","кПа"]
[{"$f":"IF(AND(AF99>A97,AF99<A99)=TRUE,AF99,0)","v":0},null,{"$f":"(C99-C97)/(A99-A97)*(A98-A97)+C97","v":25},{"$f":"(E98-C98)/(E92-C92)*(D92-C92)+C98","v":5},{"$f":"(E99-E97)/(A99-A97)*(A98-A97)+E97","v":45},{"$f":"(G98-E98)/(G92-E92)*(F92-E92)+E98","v":14.999999999999996},{"$f":"(G99-G97)/(A99-A97)*(A98-A97)+G97","v":60},{"$f":"(I98-G98)/(I92-G92)*(H92-G92)+G98","v":30.000000000000007},{"$f":"(I99-I97)/(A99-A97)*(A98-A97)+I97","v":70},{"$f":"(K98-I98)/(K92-I92)*(J92-I92)+I98","v":70},{"$f":"(K99-K97)/(A99-A97)*(A98-A97)+K97","v":70},{"$f":"(M98-K98)/(M92-K92)*(L92-K92)+K98","v":70},{"$f":"(M99-M97)/(A99-A97)*(A98-A97)+M97","v":70},{"$f":"(O98-M98)/(O92-M92)*(N92-M92)+M98","v":55.000000000000007},{"$f":"(O99-O97)/(A99-A97)*(A98-A97)+O97","v":75},{"$f":"(Q98-O98)/(Q92-O92)*(P92-O92)+O98","v":75},{"$f":"(Q99-Q97)/(A99-A97)*(A98-A97)+Q97","v":75},{"$f":"(S98-Q98)/(S92-Q92)*(R92-Q92)+Q98","v":75},{"$f":"(S99-S97)/(A99-A97)*(A98-A97)+S97","v":75},{"$f":"(U98-S98)/(U92-S92)*(T92-S92)+S98","v":75},{"$f":"(U99-U97)/(A99-A97)*(A98-A97)+U97","v":75},{"$f":"(W98-U98)/(W92-U92)*(V92-U92)+U98","v":75},{"$f":"(W99-W97)/(A99-A97)*(A98-A97)+W97","v":75},{"$f":"(Y98-W98)/(Y92-W92)*(X92-W92)+W98","v":75},{"$f":"(Y99-Y97)/(A99-A97)*(A98-A97)+Y97","v":75},{"$f":"(AA98-Y98)/(AA92-Y92)*(Z92-Y92)+Y98","v":75},{"$f":"(AA99-AA97)/(A99-A97)*(A98-A97)+AA97","v":75},7]
[3,{"$f":"B97+1","v":3},25,{"$f":"(E99-C99)/(E92-C92)*(D92-C92)+C99","v":20},30,{"$f":"(G99-E99)/(G92-E92)*(F92-E92)+E99","v":0},45,{"$f":"(I99-G99)/(I92-G92)*(H92-G92)+G99","v":15.000000000000007},55,{"$f":"(K99-I99)/(K92-I92)*(J92-I92)+I99","v":-4.9999999999999929},70,{"$f":"(M99-K99)/(M92-K92)*(L92-K92)+K99","v":70},70,{"$f":"(O99-M99)/(O92-M92)*(N92-M92)+M99","v":55.000000000000007},75,{"$f":"(Q99-O99)/(Q92-O92)*(P92-O92)+O99","v":75},75,{"$f":"(S99-Q99)/(S92-Q92)*(R92-Q92)+Q99","v":75},75,{"$f":"(U99-S99)/(U92-S92)*(T92-S92)+S99","v":75},75,{"$f":"(W99-U99)/(W92-U92)*(V92-U92)+U99","v":75},75,{"$f":"(Y99-W99)/(Y92-W92)*(X92-W92)+W99","v":75},75,{"$f":"(AA99-Y99)/(AA92-Y92)*(Z92-Y92)+Y99","v":75},75,8,{"$f":"AK60","v":0.373},{"$f":"AL60","v":229.2},{"$f":"VLOOKUP(AF99,A92:AA123,HLOOKUP(AC99,A92:AA123,32,0),0)","v":{"$error":"#N/A"}},{"$f":"AN60","v":300},{"$f":"IF(AC99<A95,\"NO\",IF(AC99>A121,\"N0\",IF(VLOOKUP(AC99,A95:AA121,3,0)>AD99,\"NO\",IF(VLOOKUP(AC99,A95:AA121,17,0)<AD99,\"NO\",IF(AND(AE99>=AD99-0.1,AE99<AD99+0.1)=TRUE,AF99,\"NO\")))))","v":"NO"}]
[{"$f":"IF(AND(AF99>A99,AF99<A101)=TRUE,AF99,0)","v":0},null,{"$f":"(C101-C99)/(A101-A99)*(A100-A99)+C99","v":25},{"$f":"(E100-C100)/(E92-C92)*(D92-C92)+C100","v":20},{"$f":"(E101-E99)/(A101-A99)*(A100-A99)+E99","v":30},{"$f":"(G100-E100)/(G92-E92)*(F92-E92)+E100","v":-30.000000000000007},{"$f":"(G101-G99)/(A101-A99)*(A100-A99)+G99","v":60},{"$f":"(I100-G100)/(I92-G92)*(H92-G92)+G100","v":30.000000000000007},{"$f":"(I101-I99)/(A101-A99)*(A100-A99)+I99","v":70},{"$f":"(K100-I100)/(K92-I92)*(J92-I92)+I100","v":10.000000000000007},{"$f":"(K101-K99)/(A101-A99)*(A100-A99)+K99","v":85},{"$f":"(M100-K100)/(M92-K92)*(L92-K92)+K100","v":115},{"$f":"(M101-M99)/(A101-A99)*(A100-A99)+M99","v":70},{"$f":"(O100-M100)/(O92-M92)*(N92-M92)+M100","v":10.000000000000021},{"$f":"(O101-O99)/(A101-A99)*(A100-A99)+O99","v":90},{"$f":"(Q100-O100)/(Q92-O92)*(P92-O92)+O100","v":90},{"$f":"(Q101-Q99)/(A101-A99)*(A100-A99)+Q99","v":90},{"$f":"(S100-Q100)/(S92-Q92)*(R92-Q92)+Q100","v":90},{"$f":"(S101-S99)/(A101-A99)*(A100-A99)+S99","v":90},{"$f":"(U100-S100)/(U92-S92)*(T92-S92)+S100","v":90},{"$f":"(U101-U99)/(A101-A99)*(A100-A99)+U99","v":90},{"$f":"(W100-U100)/(W92-U92)*(V92-U92)+U100","v":90},{"$f":"(W101-W99)/(A101-A99)*(A100-A99)+W99","v":90},{"$f":"(Y100-W100)/(Y92-W92)*(X92-W92)+W100","v":90},{"$f":"(Y101-Y99)/(A101-A99)*(A100-A99)+Y99","v":90},{"$f":"(AA100-Y100)/(AA92-Y92)*(Z92-Y92)+Y100","v":90},{"$f":"(AA101-AA99)/(A101-A99)*(A100-A99)+AA99","v":90},9]
[4,{"$f":"B99+1","v":4},25,{"$f":"(E101-C101)/(E92-C92)*(D92-C92)+C101","v":20},30,{"$f":"(G101-E101)/(G92-E92)*(F92-E92)+E101","v":9.9999999999999964},40,{"$f":"(I101-G101)/(I92-G92)*(H92-G92)+G101","v":10.000000000000007},50,{"$f":"(K101-I101)/(K92-I92)*(J92-I92)+I101","v":-9.9999999999999929},65,{"$f":"(M101-K101)/(M92-K92)*(L92-K92)+K101","v":55},70,{"$f":"(O101-M101)/(O92-M92)*(N92-M92)+M101","v":70},70,{"$f":"(Q101-O101)/(Q92-O92)*(P92-O92)+O101","v":70},70,{"$f":"(S101-Q101)/(S92-Q92)*(R92-Q92)+Q101","v":70},70,{"$f":"(U101-S101)/(U92-S92)*(T92-S92)+S101","v":70},70,{"$f":"(W101-U101)/(W92-U92)*(V92-U92)+U101","v":70},70,{"$f":"(Y101-W101)/(Y92-W92)*(X92-W92)+W101","v":70},70,{"$f":"(AA101-Y101)/(AA92-Y92)*(Z92-Y92)+Y101","v":70},70,10,0.1,{"$f":"AL62","v":263.58}]
[{"$f":"IF(AND(AF99>A101,AF99<A103)=TRUE,AF99,0)","v":0},null,{"$f":"(C103-C101)/(A103-A101)*(A102-A101)+C101","v":45},{"$f":"(E102-C102)/(E92-C92)*(D92-C92)+C102","v":60},{"$f":"(E103-E101)/(A103-A101)*(A102-A101)+E101","v":30},{"$f":"(G102-E102)/(G92-E92)*(F92-E92)+E102","v":9.9999999999999964},{"$f":"(G103-G101)/(A103-A101)*(A102-A101)+G101","v":40},{"$f":"(I102-G102)/(I92-G92)*(H92-G92)+G102","v":10.000000000000007},{"$f":"(I103-I101)/(A103-A101)*(A102-A101)+I101","v":50},{"$f":"(K102-I102)/(K92-I92)*(J92-I92)+I102","v":-9.9999999999999929},{"$f":"(K103-K101)/(A103-A101)*(A102-A101)+K101","v":65},{"$f":"(M102-K102)/(M92-K92)*(L92-K92)+K102","v":55},{"$f":"(M103-M101)/(A103-A101)*(A102-A101)+M101","v":70},{"$f":"(O102-M102)/(O92-M92)*(N92-M92)+M102","v":70},{"$f":"(O103-O101)/(C103-C101)*(C102-C101)+O101","v":70},{"$f":"(Q102-O102)/(Q92-O92)*(P92-O92)+O102","v":70},{"$f":"(Q103-Q101)/(A103-A101)*(A102-A101)+Q101","v":70},{"$f":"(S102-Q102)/(S92-Q92)*(R92-Q92)+Q102","v":70},{"$f":"(S103-S101)/(A103-A101)*(A102-A101)+S101","v":70},{"$f":"(U102-S102)/(U92-S92)*(T92-S92)+S102","v":70},{"$f":"(U103-U101)/(A103-A101)*(A102-A101)+U101","v":70},{"$f":"(W102-U102)/(W92-U92)*(V92-U92)+U102","v":70},{"$f":"(W103-W101)/(A103-A101)*(A102-A101)+W101","v":70},{"$f":"(Y102-W102)/(Y92-W92)*(X92-W92)+W102","v":70},{"$f":"(Y103-Y101)/(A103-A101)*(A102-A101)+Y101","v":70},{"$f":"(AA102-Y102)/(AA92-Y92)*(Z92-Y92)+Y102","v":70},{"$f":"(AA103-AA101)/(A103-A101)*(A102-A101)+AA101","v":70},11]
[5,{"$f":"B101+1","v":5},20,{"$f":"(E103-C103)/(E92-C92)*(D92-C92)+C103","v":10},30,{"$f":"(G103-E103)/(G92-E92)*(F92-E92)+E103","v":9.9999999999999964},40,{"$f":"(I103-G103)/(I92-G92)*(H92-G92)+G103","v":10.000000000000007},50,{"$f":"(K103-I103)/(K92-I92)*(J92-I92)+I103","v":-9.9999999999999929},65,{"$f":"(M103-K103)/(M92-K92)*(L92-K92)+K103","v":55},70,{"$f":"(O103-M103)/(O92-M92)*(N92-M92)+M103","v":70},70,{"$f":"(Q103-O103)/(Q92-O92)*(P92-O92)+O103","v":70},70,{"$f":"(S103-Q103)/(S92-Q92)*(R92-Q92)+Q103","v":70},70,{"$f":"(U103-S103)/(U92-S92)*(T92-S92)+S103","v":70},70,{"$f":"(W103-U103)/(W92-U92)*(V92-U92)+U103","v":70},70,{"$f":"(Y103-W103)/(Y92-W92)*(X92-W92)+W103","v":70},70,{"$f":"(AA103-Y103)/(AA92-Y92)*(Z92-Y92)+Y103","v":70},70,12,"Регулятор давления",null,null,{"$f":"Лист1!F58","v":"РЕД-2-25-Н DN25 Qmax=75 нм3/час"}]
[{"$f":"IF(AND(AF99>A103,AF99<A105)=TRUE,AF99,0)","v":0},null,{"$f":"(C105-C103)/(A105-A103)*(A104-A103)+C103","v":20},{"$f":"(E104-C104)/(E92-C92)*(D92-C92)+C104","v":10},{"$f":"(E105-E103)/(A105-A103)*(A104-A103)+E103","v":30},{"$f":"(G104-E104)/(G92-E92)*(F92-E92)+E104","v":9.9999999999999964},{"$f":"(G105-G103)/(A105-A103)*(A104-A103)+G103","v":40},{"$f":"(I104-G104)/(I92-G92)*(H92-G92)+G104","v":10.000000000000007},{"$f":"(I105-I103)/(A105-A103)*(A104-A103)+I103","v":50},{"$f":"(K104-I104)/(K92-I92)*(J92-I92)+I104","v":-109.99999999999997},{"$f":"(K105-K103)/(A105-A103)*(A104-A103)+K103","v":90},{"$f":"(M104-K104)/(M92-K92)*(L92-K92)+K104","v":130},{"$f":"(M105-M103)/(A105-A103)*(A104-A103)+M103","v":70},{"$f":"(O104-M104)/(O92-M92)*(N92-M92)+M104","v":519.99999999999977},{"$f":"(O105-O103)/(A105-A103)*(A104-A103)+O103","v":-80},{"$f":"(Q104-O104)/(Q92-O92)*(P92-O92)+O104","v":-80},{"$f":"(Q105-Q103)/(A105-A103)*(A104-A103)+Q103","v":-80},{"$f":"(S104-Q104)/(S92-Q92)*(R92-Q92)+Q104","v":-80},{"$f":"(S105-S103)/(A105-A103)*(A104-A103)+S103","v":-80},{"$f":"(U104-S104)/(U92-S92)*(T92-S92)+S104","v":-80},{"$f":"(U105-U103)/(A105-A103)*(A104-A103)+U103","v":-80},{"$f":"(W104-U104)/(W92-U92)*(V92-U92)+U104","v":-80},{"$f":"(W105-W103)/(A105-A103)*(A104-A103)+W103","v":-80},{"$f":"(Y104-W104)/(Y92-W92)*(X92-W92)+W104","v":-80},{"$f":"(Y105-Y103)/(A105-A103)*(A104-A103)+Y103","v":-80},{"$f":"(AA104-Y104)/(AA92-Y92)*(Z92-Y92)+Y104","v":-80},{"$f":"(AA105-AA103)/(A105-A103)*(A104-A103)+AA103","v":-80},13]
[6,{"$f":"B103+1","v":6},20,{"$f":"(E105-C105)/(E92-C92)*(D92-C92)+C105","v":10},30,{"$f":"(G105-E105)/(G92-E92)*(F92-E92)+E105","v":9.9999999999999964},40,{"$f":"(I105-G105)/(I92-G92)*(H92-G92)+G105","v":10.000000000000007},50,{"$f":"(K105-I105)/(K92-I92)*(J92-I92)+I105","v":10.000000000000007},60,{"$f":"(M105-K105)/(M92-K92)*(L92-K92)+K105","v":39.999999999999993},70,{"$f":"(O105-M105)/(O92-M92)*(N92-M92)+M105","v":-19.999999999999957},100,{"$f":"(Q105-O105)/(Q92-O92)*(P92-O92)+O105","v":100},100,{"$f":"(S105-Q105)/(S92-Q92)*(R92-Q92)+Q105","v":100},100,{"$f":"(U105-S105)/(U92-S92)*(T92-S92)+S105","v":100},100,{"$f":"(W105-U105)/(W92-U92)*(V92-U92)+U105","v":100},100,{"$f":"(Y105-W105)/(Y92-W92)*(X92-W92)+W105","v":100},100,{"$f":"(AA105-Y105)/(AA92-Y92)*(Z92-Y92)+Y105","v":100},100,14]
[{"$f":"IF(AND(AF99>A105,AF99<A107)=TRUE,AF99,0)","v":0},null,{"$f":"(C107-C105)/(A107-A105)*(A106-A105)+C105","v":20},{"$f":"(E106-C106)/(E92-C92)*(D92-C92)+C106","v":10},{"$f":"(E107-E105)/(A107-A105)*(A106-A105)+E105","v":30},{"$f":"(G106-E106)/(G92-E92)*(F92-E92)+E106","v":9.9999999999999964},{"$f":"(G107-G105)/(A107-A105)*(A106-A105)+G105","v":40},{"$f":"(I106-G106)/(I92-G92)*(H92-G92)+G106","v":-79.999999999999972},{"$f":"(I107-I105)/(A107-A105)*(A106-A105)+I105","v":80},{"$f":"(K106-I106)/(K92-I92)*(J92-I92)+I106","v":40.000000000000007},{"$f":"(K107-K105)/(A107-A105)*(A106-A105)+K105","v":90},{"$f":"(M106-K106)/(M92-K92)*(L92-K92)+K106","v":130},{"$f":"(M107-M105)/(A107-A105)*(A106-A105)+M105","v":70},{"$f":"(O106-M106)/(O92-M92)*(N92-M92)+M106","v":-19.999999999999957},{"$f":"(O107-O105)/(A107-A105)*(A106-A105)+O105","v":100},{"$f":"(Q106-O106)/(Q92-O92)*(P92-O92)+O106","v":100},{"$f":"(Q107-Q105)/(A107-A105)*(A106-A105)+Q105","v":100},{"$f":"(S106-Q106)/(S92-Q92)*(R92-Q92)+Q106","v":100},{"$f":"(S107-S105)/(A107-A105)*(A106-A105)+S105","v":100},{"$f":"(U106-S106)/(U92-S92)*(T92-S92)+S106","v":100},{"$f":"(U107-U105)/(A107-A105)*(A106-A105)+U105","v":100},{"$f":"(W106-U106)/(W92-U92)*(V92-U92)+U106","v":100},{"$f":"(W107-W105)/(A107-A105)*(A106-A105)+W105","v":100},{"$f":"(Y106-W106)/(Y92-W92)*(X92-W92)+W106","v":100},{"$f":"(Y107-Y105)/(A107-A105)*(A106-A105)+Y105","v":100},{"$f":"(AA106-Y106)/(AA92-Y92)*(Z92-Y92)+Y106","v":100},{"$f":"(AA107-AA105)/(A107-A105)*(A106-A105)+AA105","v":100},15]
[7,{"$f":"B105+1","v":7},20,{"$f":"(E107-C107)/(E92-C92)*(D92-C92)+C107","v":10},30,{"$f":"(G107-E107)/(G92-E92)*(F92-E92)+E107","v":9.9999999999999964},40,{"$f":"(I107-G107)/(I92-G92)*(H92-G92)+G107","v":25.000000000000004},45,{"$f":"(K107-I107)/(K92-I92)*(J92-I92)+I107","v":5.0000000000000071},55,{"$f":"(M107-K107)/(M92-K92)*(L92-K92)+K107","v":24.999999999999993},70,{"$f":"(O107-M107)/(O92-M92)*(N92-M92)+M107","v":-19.999999999999957},100,{"$f":"(Q107-O107)/(Q92-O92)*(P92-O92)+O107","v":100},100,{"$f":"(S107-Q107)/(S92-Q92)*(R92-Q92)+Q107","v":100},100,{"$f":"(U107-S107)/(U92-S92)*(T92-S92)+S107","v":100},100,{"$f":"(W107-U107)/(W92-U92)*(V92-U92)+U107","v":100},100,{"$f":"(Y107-W107)/(Y92-W92)*(X92-W92)+W107","v":100},100,{"$f":"(AA107-Y107)/(AA92-Y92)*(Z92-Y92)+Y107","v":100},100,16]
[{"$f":"IF(AND(AF99>A107,AF99<A109)=TRUE,AF99,0)","v":0},null,{"$f":"(C109-C107)/(A109-A107)*(A108-A107)+C107","v":20},{"$f":"(E108-C108)/(E92-C92)*(D92-C92)+C108","v":10},{"$f":"(E109-E107)/(A109-A107)*(A108-A107)+E107","v":30},{"$f":"(G108-E108)/(G92-E92)*(F92-E92)+E108","v":-60.000000000000014},{"$f":"(G109-G107)/(A109-A107)*(A108-A107)+G107","v":75},{"$f":"(I108-G108)/(I92-G92)*(H92-G92)+G108","v":165},{"$f":"(I109-I107)/(A109-A107)*(A108-A107)+I107","v":45},{"$f":"(K108-I108)/(K92-I92)*(J92-I92)+I108","v":5.0000000000000071},{"$f":"(K109-K107)/(A109-A107)*(A108-A107)+K107","v":55},{"$f":"(M108-K108)/(M92-K92)*(L92-K92)+K108","v":24.999999999999993},{"$f":"(M109-M107)/(A109-A107)*(A108-A107)+M107","v":70},{"$f":"(O108-M108)/(O92-M92)*(N92-M92)+M108","v":-124.99999999999991},{"$f":"(O109-O107)/(A109-A107)*(A108-A107)+O107","v":135},{"$f":"(Q108-O108)/(Q92-O92)*(P92-O92)+O108","v":135},{"$f":"(Q109-Q107)/(A109-A107)*(A108-A107)+Q107","v":135},{"$f":"(S108-Q108)/(S92-Q92)*(R92-Q92)+Q108","v":135},{"$f":"(S109-S107)/(A109-A107)*(A108-A107)+S107","v":135},{"$f":"(U108-S108)/(U92-S92)*(T92-S92)+S108","v":135},{"$f":"(U109-U107)/(A109-A107)*(A108-A107)+U107","v":135},{"$f":"(W108-U108)/(W92-U92)*(V92-U92)+U108","v":135},{"$f":"(W109-W107)/(A109-A107)*(A108-A107)+W107","v":135},{"$f":"(Y108-W108)/(Y92-W92)*(X92-W92)+W108","v":135},{"$f":"(Y109-Y107)/(A109-A107)*(A108-A107)+Y107","v":135},{"$f":"(AA108-Y108)/(AA92-Y92)*(Z92-Y92)+Y108","v":135},{"$f":"(AA109-AA107)/(A109-A107)*(A108-A107)+AA107","v":135},{"$f":"AB107+1","v":17}]
[8,{"$f":"B107+1","v":8},20,{"$f":"(E109-C109)/(E92-C92)*(D92-C92)+C109","v":10},30,{"$f":"(G109-E109)/(G92-E92)*(F92-E92)+E109","v":20},35,{"$f":"(I109-G109)/(I92-G92)*(H92-G92)+G109","v":5.0000000000000071},45,{"$f":"(K109-I109)/(K92-I92)*(J92-I92)+I109","v":5.0000000000000071},55,{"$f":"(M109-K109)/(M92-K92)*(L92-K92)+K109","v":24.999999999999993},70,{"$f":"(O109-M109)/(O92-M92)*(N92-M92)+M109","v":-4.9999999999999716},95,{"$f":"(Q109-O109)/(Q92-O92)*(P92-O92)+O109","v":95},95,{"$f":"(S109-Q109)/(S92-Q92)*(R92-Q92)+Q109","v":95},95,{"$f":"(U109-S109)/(U92-S92)*(T92-S92)+S109","v":95},95,{"$f":"(W109-U109)/(W92-U92)*(V92-U92)+U109","v":95},95,{"$f":"(Y109-W109)/(Y92-W92)*(X92-W92)+W109","v":95},95,{"$f":"(AA109-Y109)/(AA92-Y92)*(Z92-Y92)+Y109","v":95},95,{"$f":"AB108+1","v":18}]
[{"$f":"IF(AND(AF99>A109,AF99<A111)=TRUE,AF99,0)","v":0},null,{"$f":"(C111-C109)/(A111-A109)*(A110-A109)+C109","v":20},{"$f":"(E110-C110)/(E92-C92)*(D92-C92)+C110","v":10},{"$f":"(E111-E109)/(A111-A109)*(A110-A109)+E109","v":30},{"$f":"(G110-E110)/(G92-E92)*(F92-E92)+E110","v":20},{"$f":"(G111-G109)/(A111-A109)*(A110-A109)+G109","v":35},{"$f":"(I110-G110)/(I92-G92)*(H92-G92)+G110","v":5.0000000000000071},{"$f":"(I111-I109)/(A111-A109)*(A110-A109)+I109","v":45},{"$f":"(K110-I110)/(K92-I92)*(J92-I92)+I110","v":-154.99999999999997},{"$f":"(K111-K109)/(A111-A109)*(A110-A109)+K109","v":95},{"$f":"(M110-K110)/(M92-K92)*(L92-K92)+K110","v":145},{"$f":"(M111-M109)/(A111-A109)*(A110-A109)+M109","v":70},{"$f":"(O110-M110)/(O92-M92)*(N92-M92)+M110","v":-124.99999999999991},{"$f":"(O111-O109)/(A111-A109)*(A110-A109)+O109","v":135},{"$f":"(Q110-O110)/(Q92-O92)*(P92-O92)+O110","v":135},{"$f":"(Q111-Q109)/(A111-A109)*(A110-A109)+Q109","v":135},{"$f":"(S110-Q110)/(S92-Q92)*(R92-Q92)+Q110","v":135},{"$f":"(S111-S109)/(A111-A109)*(A110-A109)+S109","v":135},{"$f":"(U110-S110)/(U92-S92)*(T92-S92)+S110","v":135},{"$f":"(U111-U109)/(A111-A109)*(A110-A109)+U109","v":135},{"$f":"(W110-U110)/(W92-U92)*(V92-U92)+U110","v":135},{"$f":"(W111-W109)/(A111-A109)*(A110-A109)+W109","v":135},{"$f":"(Y110-W110)/(Y92-W92)*(X92-W92)+W110","v":135},{"$f":"(Y111-Y109)/(A111-A109)*(A110-A109)+Y109","v":135},{"$f":"(AA110-Y110)/(AA92-Y92)*(Z92-Y92)+Y110","v":135},{"$f":"(AA111-AA109)/(A111-A109)*(A110-A109)+AA109","v":135},19]
[9,{"$f":"B109+1","v":9},20,{"$f":"(E111-C111)/(E92-C92)*(D92-C92)+C111","v":10},30,{"$f":"(G111-E111)/(G92-E92)*(F92-E92)+E111","v":20},35,{"$f":"(I111-G111)/(I92-G92)*(H92-G92)+G111","v":5.0000000000000071},45,{"$f":"(K111-I111)/(K92-I92)*(J92-I92)+I111","v":25.000000000000004},50,{"$f":"(M111-K111)/(M92-K92)*(L92-K92)+K111","v":9.9999999999999858},70,{"$f":"(O111-M111)/(O92-M92)*(N92-M92)+M111","v":10.000000000000021},90,{"$f":"(Q111-O111)/(Q92-O92)*(P92-O92)+O111","v":90},90,{"$f":"(S111-Q111)/(S92-Q92)*(R92-Q92)+Q111","v":90},90,{"$f":"(U111-S111)/(U92-S92)*(T92-S92)+S111","v":90},90,{"$f":"(W111-U111)/(W92-U92)*(V92-U92)+U111","v":90},90,{"$f":"(Y111-W111)/(Y92-W92)*(X92-W92)+W111","v":90},90,{"$f":"(AA111-Y111)/(AA92-Y92)*(Z92-Y92)+Y111","v":90},90,20]
[{"$f":"IF(AND(AF99>A111,AF99<A113)=TRUE,AF99,0)","v":0},null,{"$f":"(C113-C111)/(A113-A111)*(A112-A111)+C111","v":{"$error":"#VALUE!"}},{"$f":"(E112-C112)/(E92-C92)*(D92-C92)+C112","v":{"$error":"#VALUE!"}},{"$f":"(E113-E111)/(A113-A111)*(A112-A111)+E111","v":120},{"$f":"(G112-E112)/(G92-E92)*(F92-E92)+E112","v":200},{"$f":"(G113-G111)/(A113-A111)*(A112-A111)+G111","v":80},{"$f":"(I112-G112)/(I92-G92)*(H92-G92)+G112","v":-84.999999999999972},{"$f":"(I113-I111)/(A113-A111)*(A112-A111)+I111","v":135},{"$f":"(K112-I112)/(K92-I92)*(J92-I92)+I112","v":295},{"$f":"(K113-K111)/(A113-A111)*(A112-A111)+K111","v":95},{"$f":"(M112-K112)/(M92-K92)*(L92-K92)+K112","v":54.999999999999986},{"$f":"(M113-M111)/(A113-A111)*(A112-A111)+M111","v":115},{"$f":"(O112-M112)/(O92-M92)*(N92-M92)+M112","v":-79.999999999999915},{"$f":"(O113-O111)/(A113-A111)*(A112-A111)+O111","v":180},{"$f":"(Q112-O112)/(Q92-O92)*(P92-O92)+O112","v":180},{"$f":"(Q113-Q111)/(A113-A111)*(A112-A111)+Q111","v":180},{"$f":"(S112-Q112)/(S92-Q92)*(R92-Q92)+Q112","v":180},{"$f":"(S113-S111)/(A113-A111)*(A112-A111)+S111","v":180},{"$f":"(U112-S112)/(U92-S92)*(T92-S92)+S112","v":180},{"$f":"(U113-U111)/(A113-A111)*(A112-A111)+U111","v":180},{"$f":"(W112-U112)/(W92-U92)*(V92-U92)+U112","v":180},{"$f":"(W113-W111)/(A113-A111)*(A112-A111)+W111","v":180},{"$f":"(Y112-W112)/(Y92-W92)*(X92-W92)+W112","v":180},{"$f":"(Y113-Y111)/(A113-A111)*(A112-A111)+Y111","v":180},{"$f":"(AA112-Y112)/(AA92-Y92)*(Z92-Y92)+Y112","v":180},{"$f":"(AA113-AA111)/(A113-A111)*(A112-A111)+AA111","v":180},21]
[10,{"$f":"B111+1","v":10},"-",{"$f":"(E113-C113)/(E92-C92)*(D92-C92)+C113","v":{"$error":"#VALUE!"}},20,{"$f":"(G113-E113)/(G92-E92)*(F92-E92)+E113","v":0},30,{"$f":"(I113-G113)/(I92-G92)*(H92-G92)+G113","v":15.000000000000004},35,{"$f":"(K113-I113)/(K92-I92)*(J92-I92)+I113","v":-4.9999999999999929},45,{"$f":"(M113-K113)/(M92-K92)*(L92-K92)+K113","v":4.9999999999999858},65,{"$f":"(O113-M113)/(O92-M92)*(N92-M92)+M113","v":20.000000000000021},80,{"$f":"(Q113-O113)/(Q92-O92)*(P92-O92)+O113","v":80},80,{"$f":"(S113-Q113)/(S92-Q92)*(R92-Q92)+Q113","v":80},80,{"$f":"(U113-S113)/(U92-S92)*(T92-S92)+S113","v":80},80,{"$f":"(W113-U113)/(W92-U92)*(V92-U92)+U113","v":80},80,{"$f":"(Y113-W113)/(Y92-W92)*(X92-W92)+W113","v":80},80,{"$f":"(AA113-Y113)/(AA92-Y92)*(Z92-Y92)+Y113","v":80},80,22]
[{"$f":"IF(AND(AF99>A113,AF99<A115)=TRUE,AF99,0)","v":0},null,{"$f":"(C115-C113)/(A115-A113)*(A114-A113)+C113","v":{"$error":"#VALUE!"}},{"$f":"(E114-C114)/(E92-C92)*(D92-C92)+C114","v":{"$error":"#VALUE!"}},{"$f":"(E115-E113)/(A115-A113)*(A114-A113)+E113","v":20},{"$f":"(G114-E114)/(G92-E92)*(F92-E92)+E114","v":0},{"$f":"(G115-G113)/(A115-A113)*(A114-A113)+G113","v":30},{"$f":"(I114-G114)/(I92-G92)*(H92-G92)+G114","v":15.000000000000004},{"$f":"(I115-I113)/(A115-A113)*(A114-A113)+I113","v":35},{"$f":"(K114-I114)/(K92-I92)*(J92-I92)+I114","v":-4.9999999999999929},{"$f":"(K115-K113)/(A115-A113)*(A114-A113)+K113","v":45},{"$f":"(M114-K114)/(M92-K92)*(L92-K92)+K114","v":-15.000000000000014},{"$f":"(M115-M113)/(A115-A113)*(A114-A113)+M113","v":75},{"$f":"(O114-M114)/(O92-M92)*(N92-M92)+M114","v":30.000000000000021},{"$f":"(O115-O113)/(A115-A113)*(A114-A113)+O113","v":90},{"$f":"(Q114-O114)/(Q92-O92)*(P92-O92)+O114","v":90},{"$f":"(Q115-Q113)/(A115-A113)*(A114-A113)+Q113","v":90},{"$f":"(S114-Q114)/(S92-Q92)*(R92-Q92)+Q114","v":90},{"$f":"(S115-S113)/(A115-A113)*(A114-A113)+S113","v":90},{"$f":"(U114-S114)/(U92-S92)*(T92-S92)+S114","v":90},{"$f":"(U115-U113)/(A115-A113)*(A114-A113)+U113","v":90},{"$f":"(W114-U114)/(W92-U92)*(V92-U92)+U114","v":90},{"$f":"(W115-W113)/(A115-A113)*(A114-A113)+W113","v":90},{"$f":"(Y114-W114)/(Y92-W92)*(X92-W92)+W114","v":90},{"$f":"(Y115-Y113)/(A115-A113)*(A114-A113)+Y113","v":90},{"$f":"(AA114-Y114)/(AA92-Y92)*(Z92-Y92)+Y114","v":90},{"$f":"(AA115-AA113)/(A115-A113)*(A114-A113)+AA113","v":90},23]
[15,{"$f":"B113+1","v":11},"-",{"$f":"(E115-C115)/(E92-C92)*(D92-C92)+C115","v":{"$error":"#VALUE!"}},20,{"$f":"(G115-E115)/(G92-E92)*(F92-E92)+E115","v":0},30,{"$f":"(I115-G115)/(I92-G92)*(H92-G92)+G115","v":15.000000000000004},35,{"$f":"(K115-I115)/(K92-I92)*(J92-I92)+I115","v":-4.9999999999999929},45,{"$f":"(M115-K115)/(M92-K92)*(L92-K92)+K115","v":14.999999999999993},60,{"$f":"(O115-M115)/(O92-M92)*(N92-M92)+M115","v":15.000000000000021},75,{"$f":"(Q115-O115)/(Q92-O92)*(P92-O92)+O115","v":75},75,{"$f":"(S115-Q115)/(S92-Q92)*(R92-Q92)+Q115","v":75},75,{"$f":"(U115-S115)/(U92-S92)*(T92-S92)+S115","v":75},75,{"$f":"(W115-U115)/(W92-U92)*(V92-U92)+U115","v":75},75,{"$f":"(Y115-W115)/(Y92-W92)*(X92-W92)+W115","v":75},75,{"$f":"(AA115-Y115)/(AA92-Y92)*(Z92-Y92)+Y115","v":75},75,24]
[{"$f":"IF(AND(AF99>A115,AF99<A117)=TRUE,AF99,0)","v":0},null,{"$f":"(C117-C115)/(A117-A115)*(A116-A115)+C115","v":{"$error":"#VALUE!"}},{"$f":"(E116-C116)/(E92-C92)*(D92-C92)+C116","v":{"$error":"#VALUE!"}},{"$f":"(E117-E115)/(A117-A115)*(A116-A115)+E115","v":{"$error":"#VALUE!"}},{"$f":"(G116-E116)/(G92-E92)*(F92-E92)+E116","v":{"$error":"#VALUE!"}},{"$f":"(G117-G115)/(A117-A115)*(A116-A115)+G115","v":45},{"$f":"(I116-G116)/(I92-G92)*(H92-G92)+G116","v":30.000000000000004},{"$f":"(I117-I115)/(A117-A115)*(A116-A115)+I115","v":50},{"$f":"(K116-I116)/(K92-I92)*(J92-I92)+I116","v":10.000000000000007},{"$f":"(K117-K115)/(A117-A115)*(A116-A115)+K115","v":60},{"$f":"(M116-K116)/(M92-K92)*(L92-K92)+K116","v":0},{"$f":"(M117-M115)/(A117-A115)*(A116-A115)+M115","v":90},{"$f":"(O116-M116)/(O92-M92)*(N92-M92)+M116","v":90},{"$f":"(O117-O115)/(A117-A115)*(A116-A115)+O115","v":90},{"$f":"(Q116-O116)/(Q92-O92)*(P92-O92)+O116","v":90},{"$f":"(Q117-Q115)/(A117-A115)*(A116-A115)+Q115","v":90},{"$f":"(S116-Q116)/(S92-Q92)*(R92-Q92)+Q116","v":90},{"$f":"(S117-S115)/(A117-A115)*(A116-A115)+S115","v":90},{"$f":"(U116-S116)/(U92-S92)*(T92-S92)+S116","v":90},{"$f":"(U117-U115)/(A117-A115)*(A116-A115)+U115","v":90},{"$f":"(W116-U116)/(W92-U92)*(V92-U92)+U116","v":90},{"$f":"(W117-W115)/(A117-A115)*(A116-A115)+W115","v":90},{"$f":"(Y116-W116)/(Y92-W92)*(X92-W92)+W116","v":90},{"$f":"(Y117-Y115)/(A117-A115)*(A116-A115)+Y115","v":90},{"$f":"(AA116-Y116)/(AA92-Y92)*(Z92-Y92)+Y116","v":90},{"$f":"(AA117-AA115)/(A117-A115)*(A116-A115)+AA115","v":90},25]
[20,{"$f":"B115+1","v":12},"-",{"$f":"(E117-C117)/(E92-C92)*(D92-C92)+C117","v":{"$error":"#VALUE!"}},"-",{"$f":"(G117-E117)/(G92-E92)*(F92-E92)+E117","v":{"$error":"#VALUE!"}},25,{"$f":"(I117-G117)/(I92-G92)*(H92-G92)+G117","v":10.000000000000004},30,{"$f":"(K117-I117)/(K92-I92)*(J92-I92)+I117","v":-9.9999999999999929},40,{"$f":"(M117-K117)/(M92-K92)*(L92-K92)+K117","v":19.999999999999993},50,{"$f":"(O117-M117)/(O92-M92)*(N92-M92)+M117","v":-9.9999999999999787},70,{"$f":"(Q117-O117)/(Q92-O92)*(P92-O92)+O117","v":70},70,{"$f":"(S117-Q117)/(S92-Q92)*(R92-Q92)+Q117","v":70},70,{"$f":"(U117-S117)/(U92-S92)*(T92-S92)+S117","v":70},70,{"$f":"(W117-U117)/(W92-U92)*(V92-U92)+U117","v":70},70,{"$f":"(Y117-W117)/(Y92-W92)*(X92-W92)+W117","v":70},70,{"$f":"(AA117-Y117)/(AA92-Y92)*(Z92-Y92)+Y117","v":70},70,26]
[{"$f":"IF(AND(AF99>A117,AF99<A119)=TRUE,AF99,0)","v":0},null,{"$f":"(C119-C117)/(A119-A117)*(A118-A117)+C117","v":{"$error":"#VALUE!"}},{"$f":"(E118-C118)/(E92-C92)*(D92-C92)+C118","v":{"$error":"#VALUE!"}},{"$f":"(E119-E117)/(A119-A117)*(A118-A117)+E117","v":{"$error":"#VALUE!"}},{"$f":"(G118-E118)/(G92-E92)*(F92-E92)+E118","v":{"$error":"#VALUE!"}},{"$f":"(G119-G117)/(A119-A117)*(A118-A117)+G117","v":45},{"$f":"(I118-G118)/(I92-G92)*(H92-G92)+G118","v":90},{"$f":"(I119-I117)/(A119-A117)*(A118-A117)+I117","v":30},{"$f":"(K118-I118)/(K92-I92)*(J92-I92)+I118","v":-9.9999999999999929},{"$f":"(K119-K117)/(A119-A117)*(A118-A117)+K117","v":40},{"$f":"(M118-K118)/(M92-K92)*(L92-K92)+K118","v":19.999999999999993},{"$f":"(M119-M117)/(A119-A117)*(A118-A117)+M117","v":50},{"$f":"(O118-M118)/(O92-M92)*(N92-M92)+M118","v":-129.99999999999991},{"$f":"(O119-O117)/(A119-A117)*(A118-A117)+O117","v":110},{"$f":"(Q118-O118)/(Q92-O92)*(P92-O92)+O118","v":110},{"$f":"(Q119-Q117)/(A119-A117)*(A118-A117)+Q117","v":110},{"$f":"(S118-Q118)/(S92-Q92)*(R92-Q92)+Q118","v":110},{"$f":"(S119-S117)/(A119-A117)*(A118-A117)+S117","v":110},{"$f":"(U118-S118)/(U92-S92)*(T92-S92)+S118","v":110},{"$f":"(U119-U117)/(A119-A117)*(A118-A117)+U117","v":110},{"$f":"(W118-U118)/(W92-U92)*(V92-U92)+U118","v":110},{"$f":"(W119-W117)/(A119-A117)*(A118-A117)+W117","v":110},{"$f":"(Y118-W118)/(Y92-W92)*(X92-W92)+W118","v":110},{"$f":"(Y119-Y117)/(A119-A117)*(A118-A117)+Y117","v":110},{"$f":"(AA118-Y118)/(AA92-Y92)*(Z92-Y92)+Y118","v":110},{"$f":"(AA119-AA117)/(A119-A117)*(A118-A117)+AA117","v":110},27]
[25,{"$f":"B117+1","v":13},"-",{"$f":"(E119-C119)/(E92-C92)*(D92-C92)+C119","v":{"$error":"#VALUE!"}},"-",{"$f":"(G119-E119)/(G92-E92)*(F92-E92)+E119","v":{"$error":"#VALUE!"}},20,{"$f":"(I119-G119)/(I92-G92)*(H92-G92)+G119","v":-9.9999999999999929},30,{"$f":"(K119-I119)/(K92-I92)*(J92-I92)+I119","v":-9.9999999999999929},40,{"$f":"(M119-K119)/(M92-K92)*(L92-K92)+K119","v":19.999999999999993},50,{"$f":"(O119-M119)/(O92-M92)*(N92-M92)+M119","v":20.000000000000011},60,{"$f":"(Q119-O119)/(Q92-O92)*(P92-O92)+O119","v":60},60,{"$f":"(S119-Q119)/(S92-Q92)*(R92-Q92)+Q119","v":60},60,{"$f":"(U119-S119)/(U92-S92)*(T92-S92)+S119","v":60},60,{"$f":"(W119-U119)/(W92-U92)*(V92-U92)+U119","v":60},60,{"$f":"(Y119-W119)/(Y92-W92)*(X92-W92)+W119","v":60},60,{"$f":"(AA119-Y119)/(AA92-Y92)*(Z92-Y92)+Y119","v":60},60,28]
[{"$f":"IF(AND(AF99>A119,AF99<A121)=TRUE,AF99,0)","v":0},null,{"$f":"(C121-C119)/(A121-A119)*(A120-A119)+C119","v":{"$error":"#VALUE!"}},{"$f":"(E120-C120)/(E92-C92)*(D92-C92)+C120","v":{"$error":"#VALUE!"}},{"$f":"(E121-E119)/(A121-A119)*(A120-A119)+E119","v":{"$error":"#VALUE!"}},{"$f":"(G120-E120)/(G92-E92)*(F92-E92)+E120","v":{"$error":"#VALUE!"}},{"$f":"(G121-G119)/(A121-A119)*(A120-A119)+G119","v":{"$error":"#VALUE!"}},{"$f":"(I120-G120)/(I92-G92)*(H92-G92)+G120","v":{"$error":"#VALUE!"}},{"$f":"(I121-I119)/(A121-A119)*(A120-A119)+I119","v":55},{"$f":"(K120-I120)/(K92-I92)*(J92-I92)+I120","v":-84.999999999999972},{"$f":"(K121-K119)/(A121-A119)*(A120-A119)+K119","v":90},{"$f":"(M120-K120)/(M92-K92)*(L92-K92)+K120","v":120},{"$f":"(M121-M119)/(A121-A119)*(A120-A119)+M119","v":75},{"$f":"(O120-M120)/(O92-M92)*(N92-M92)+M120","v":119.99999999999997},{"$f":"(O121-O119)/(A121-A119)*(A120-A119)+O119","v":60},{"$f":"(Q120-O120)/(Q92-O92)*(P92-O92)+O120","v":60},{"$f":"(Q121-Q119)/(A121-A119)*(A120-A119)+Q119","v":60},{"$f":"(S120-Q120)/(S92-Q92)*(R92-Q92)+Q120","v":60},{"$f":"(S121-S119)/(A121-A119)*(A120-A119)+S119","v":60},{"$f":"(U120-S120)/(U92-S92)*(T92-S92)+S120","v":60},{"$f":"(U121-U119)/(A121-A119)*(A120-A119)+U119","v":60},{"$f":"(W120-U120)/(W92-U92)*(V92-U92)+U120","v":60},{"$f":"(W121-W119)/(A121-A119)*(A120-A119)+W119","v":60},{"$f":"(Y120-W120)/(Y92-W92)*(X92-W92)+W120","v":60},{"$f":"(Y121-Y119)/(A121-A119)*(A120-A119)+Y119","v":60},{"$f":"(AA120-Y120)/(AA92-Y92)*(Z92-Y92)+Y120","v":60},{"$f":"(AA121-AA119)/(A121-A119)*(A120-A119)+AA119","v":60},29]
[30,{"$f":"B119+1","v":14},"-",{"$f":"(E121-C121)/(E92-C92)*(D92-C92)+C121","v":{"$error":"#VALUE!"}},"-",{"$f":"(G121-E121)/(G92-E92)*(F92-E92)+E121","v":{"$error":"#VALUE!"}},"-",{"$f":"(I121-G121)/(I92-G92)*(H92-G92)+G121","v":{"$error":"#VALUE!"}},25,{"$f":"(K121-I121)/(K92-I92)*(J92-I92)+I121","v":5.0000000000000036},30,{"$f":"(M121-K121)/(M92-K92)*(L92-K92)+K121","v":0},45,{"$f":"(O121-M121)/(O92-M92)*(N92-M92)+M121","v":0},60,{"$f":"(Q121-O121)/(Q92-O92)*(P92-O92)+O121","v":60},60,{"$f":"(S121-Q121)/(S92-Q92)*(R92-Q92)+Q121","v":60},60,{"$f":"(U121-S121)/(U92-S92)*(T92-S92)+S121","v":60},60,{"$f":"(W121-U121)/(W92-U92)*(V92-U92)+U121","v":60},60,{"$f":"(Y121-W121)/(Y92-W92)*(X92-W92)+W121","v":60},60,{"$f":"(AA121-Y121)/(AA92-Y92)*(Z92-Y92)+Y121","v":60},60,30]
[null,null,null,null,null,null,null,null,null,null,null,null,null,null,null,null,null,null,null,null,null,null,null,null,null,null," ",31]
["COL",null,3,{"$f":"C123+1","v":4},{"$f":"D123+1","v":5},6,7,8,9,10,11,12,13,14,15,16,17,18,{"$f":"R123+1","v":19},20,21,22,23,24,25,26,27,32]
[null,null,1,2,null,3,null,4,null,5,null,6,null,7,null,8,null,9,null,10,null,11,null,12,null,13]
[]
[]
[null,"Рвх",1.4999999999999999E-2,{"$f":"IF(AND(AI134>C127,AI134<E127)=TRUE,AI134,0)","v":0},0.03,{"$f":"IF(AND(AI134>E127,AI134<G127)=TRUE,AI134,0)","v":0},0.05,{"$f":"IF(AND(AI134>G127,AI134<I127)=TRUE,AI134,0)","v":0},7.0000000000000007E-2,{"$f":"IF(AND(AI134>I127,AI134<K127)=TRUE,AI134,0)","v":0},0.1,{"$f":"IF(AND(AI134>K127,AI134<M127)=TRUE,AI134,0)","v":0},0.15,{"$f":"IF(AND(AI134>M127,AI134<O127)=TRUE,AI134,0)","v":0},0.2,{"$f":"IF(AND(AI134>O127,AI134<Q127)=TRUE,AI134,0)","v":0},0.3,{"$f":"IF(AND(AI134>Q127,AI134<S127)=TRUE,AI134,0)","v":0.373},0.4,{"$f":"IF(AND(AI134>S127,AI134<U127)=TRUE,AI134,0)","v":0},0.5,{"$f":"IF(AND(AI134>U127,AI134<W127)=TRUE,AI134,0)","v":0},0.6,{"$f":"IF(AND(AI134>W127,AI134<Y127)=TRUE,AI134,0)","v":0},0.8,{"$f":"IF(AND(AI134>Y127,AI134<AA127)=TRUE,AI134,0)","v":0},1,{"$f":"IF(AND(AI134>AA127,AI134<AC127)=TRUE,AI134,0)","v":0},1.2,{"$f":"IF(AND(AI134>AC127,AI134<AE127)=TRUE,AI134,0)","v":0},1.4,{"$f":"IF(AND(AM134>AE127,AM134<AG127)=TRUE,AM134,0)","v":0},1.6,1]
["Рвых","МПа",null,null,null,null,null,null,null,null,null,null,null,null,null,null,null,null,null,null,null,null,null,null,null,null,null,null,null,null,null,null,null,{"$f":"AH127+1","v":2}]
["кПа",null,null,null,null,null,null,null,null,null,null,null,null,null,null,null,null,null,null,null,null,null,null,null,null,null,null,null,null,null,null,null,null,{"$f":"AH128+1","v":3}]
[8,1,80,{"$f":"(E130-C130)/(E127-C127)*(D127-C127)+C130","v":15},145,{"$f":"(G130-E130)/(G127-E127)*(F127-E127)+E130","v":47.500000000000014},210,{"$f":"(I130-G130)/(I127-G127)*(H127-G127)+G130","v":97.500000000000014},255,{"$f":"(K130-I130)/(K127-I127)*(J127-I127)+I130","v":79.999999999999972},330,{"$f":"(M130-K130)/(M127-K127)*(L127-K127)+K130","v":169.99999999999994},410,{"$f":"(O130-M130)/(O127-M127)*(N127-M127)+M130","v":-159.99999999999977},600,{"$f":"(Q130-O130)/(Q127-O127)*(P127-O127)+O130","v":520},{"$f":"O130+((U130-O130)/((U127-O127)*10))","v":640},{"$f":"(S130-Q130)/(S127-Q127)*(R127-Q127)+Q130","v":669.2},{"$f":"Q130+((U130-O130)/((U127-O127)*10))","v":680},{"$f":"(U130-S130)/(U127-S127)*(T127-S127)+S130","v":520},720,{"$f":"(W130-U130)/(W127-U127)*(V127-U127)+U130","v":720},720,{"$f":"(Y130-W130)/(Y127-W127)*(X127-W127)+W130","v":{"$error":"#VALUE!"}},"-",{"$f":"(AA130-Y130)/(AA127-Y127)*(Z127-Y127)+Y130","v":{"$error":"#VALUE!"}},"-",{"$f":"(AC130-AA130)/(AC127-AA127)*(AB127-AA127)+AA130","v":{"$error":"#VALUE!"}},"-",{"$f":"(AE130-AC130)/(AE127-AC127)*(AD127-AC127)+AC130","v":{"$error":"#VALUE!"}},"-",{"$f":"(AG130-AE130)/(AG127-AE127)*(AF127-AE127)+AE130","v":{"$error":"#VALUE!"}},"-",{"$f":"AH129+1","v":4},"Рвх","Q","Qcрасч","Рвых","Рвых"]
[{"$f":"IF(AND(AL134>A130,AL134<A132)=TRUE,AL134,0)","v":0},null,{"$f":"(C132-C130)/(A132-A130)*(A131-A130)+C130","v":120},{"$f":"(E131-C131)/(E127-C127)*(D127-C127)+C131","v":75},{"$f":"(E132-E130)/(A132-A130)*(A131-A130)+E130","v":165},{"$f":"(G131-E131)/(G127-E127)*(F127-E127)+E131","v":67.500000000000014},{"$f":"(G132-G130)/(A132-A130)*(A131-A130)+G130","v":230},{"$f":"(I131-G131)/(I127-G127)*(H127-G127)+G131","v":67.5},{"$f":"(I132-I130)/(A132-A130)*(A131-A130)+I130","v":295},{"$f":"(K131-I131)/(K127-I127)*(J127-I127)+I131","v":119.99999999999997},{"$f":"(K132-K130)/(A132-A130)*(A131-A130)+K130","v":370},{"$f":"(M131-K131)/(M127-K127)*(L127-K127)+K131","v":249.99999999999997},{"$f":"(M132-M130)/(A132-A130)*(A131-A130)+M130","v":430},{"$f":"(O131-M131)/(O127-M127)*(N127-M127)+M131","v":-79.999999999999829},{"$f":"(O132-O130)/(A132-A130)*(A131-A130)+O130","v":600},{"$f":"(Q131-O131)/(Q127-O127)*(P127-O127)+O131","v":520},{"$f":"(Q132-Q130)/(A132-A130)*(A131-A130)+Q130","v":640},{"$f":"(S131-Q131)/(S127-Q127)*(R127-Q127)+Q131","v":669.2},{"$f":"(S132-S130)/(A132-A130)*(A131-A130)+S130","v":680},{"$f":"(U131-S131)/(U127-S127)*(T127-S127)+S131","v":520},{"$f":"(U132-U130)/(A132-A130)*(A131-A130)+U130","v":720},{"$f":"(W131-U131)/(W127-U127)*(V127-U127)+U131","v":720},{"$f":"(W132-W130)/(E132-E130)*(E131-E130)+W130","v":720},{"$f":"(Y131-W131)/(Y127-W127)*(X127-W127)+W131","v":{"$error":"#VALUE!"}},{"$f":"(Y132-Y130)/(A132-A130)*(A131-A130)+Y130","v":{"$error":"#VALUE!"}},{"$f":"(AA131-Y131)/(AA127-Y127)*(Z127-Y127)+Y131","v":{"$error":"#VALUE!"}},{"$f":"(AA132-AA130)/(A132-A130)*(A131-A130)+AA130","v":{"$error":"#VALUE!"}},{"$f":"(AC131-AA131)/(AC127-AA127)*(AB127-AA127)+AA131","v":{"$error":"#VALUE!"}},{"$f":"(AC132-AC130)/(A132-A130)*(A131-A130)+AC130","v":{"$error":"#VALUE!"}},{"$f":"(AE131-AC131)/(AE127-AC127)*(AD127-AC127)+AC131","v":{"$error":"#VALUE!"}},{"$f":"(AE132-AE130)/(E132-E130)*(E131-E130)+AE130","v":{"$error":"#VALUE!"}},{"$f":"(AG131-AE131)/(AG127-AE127)*(AF127-AE127)+AE131","v":{"$error":"#VALUE!"}},{"$f":"(AG132-AG130)/(A132-A130)*(A131-A130)+AG130","v":{"$error":"#VALUE!"}},5]
[10,{"$f":"B130+1","v":2},70,{"$f":"(E132-C132)/(E127-C127)*(D127-C127)+C132","v":0},140,{"$f":"(G132-E132)/(G127-E127)*(F127-E127)+E132","v":42.500000000000014},205,{"$f":"(I132-G132)/(I127-G127)*(H127-G127)+G132","v":105.00000000000001},245,{"$f":"(K132-I132)/(K127-I127)*(J127-I127)+I132","v":69.999999999999972},320,{"$f":"(M132-K132)/(M127-K127)*(L127-K127)+K132","v":149.99999999999994},405,{"$f":"(O132-M132)/(O127-M127)*(N127-M127)+M132","v":-179.99999999999977},600,{"$f":"(Q132-O132)/(Q127-O127)*(P127-O127)+O132","v":520},{"$f":"O132+((U132-O132)/((U127-O127)*10))","v":640},{"$f":"(S132-Q132)/(S127-Q127)*(R127-Q127)+Q132","v":669.2},{"$f":"Q132+((U132-O132)/((U127-O127)*10))","v":680},{"$f":"(U132-S132)/(U127-S127)*(T127-S127)+S132","v":520},720,{"$f":"(W132-U132)/(W127-U127)*(V127-U127)+U132","v":720},720,{"$f":"(Y132-W132)/(Y127-W127)*(X127-W127)+W132","v":{"$error":"#VALUE!"}},"-",{"$f":"(AA132-Y132)/(AA127-Y127)*(Z127-Y127)+Y132","v":{"$error":"#VALUE!"}},"-",{"$f":"(AC132-AA132)/(AC127-AA127)*(AB127-AA127)+AA132","v":{"$error":"#VALUE!"}},"-",{"$f":"(AE132-AC132)/(AE127-AC127)*(AD127-AC127)+AC132","v":{"$error":"#VALUE!"}},"-",{"$f":"(AG132-AE132)/(AG127-AE127)*(AF127-AE127)+AE132","v":{"$error":"#VALUE!"}},"-",{"$f":"AH131+1","v":6},"МПа","нм3/час","нм3/час","кПа","кПа"]
[{"$f":"IF(AND(AL134>A132,AL134<A134)=TRUE,AL134,0)","v":0},null,{"$f":"(C134-C132)/(A134-A132)*(A133-A132)+C132","v":210},{"$f":"(E133-C133)/(E127-C127)*(D127-C127)+C133","v":240},{"$f":"(E134-E132)/(A134-A132)*(A133-A132)+E132","v":180},{"$f":"(G133-E133)/(G127-E127)*(F127-E127)+E133","v":127.5},{"$f":"(G134-G132)/(A134-A132)*(A133-A132)+G132","v":215},{"$f":"(I133-G133)/(I127-G127)*(H127-G127)+G133","v":115.00000000000001},{"$f":"(I134-I132)/(A134-A132)*(A133-A132)+I132","v":255},{"$f":"(K133-I133)/(K127-I127)*(J127-I127)+I133","v":79.999999999999972},{"$f":"(K134-K132)/(A134-A132)*(A133-A132)+K132","v":330},{"$f":"(M133-K133)/(M127-K127)*(L127-K127)+K133","v":159.99999999999994},{"$f":"(M134-M132)/(A134-A132)*(A133-A132)+M132","v":415},{"$f":"(O133-M133)/(O127-M127)*(N127-M127)+M133","v":-139.99999999999977},{"$f":"(O134-O132)/(A134-A132)*(A133-A132)+O132","v":600},{"$f":"(Q133-O133)/(Q127-O127)*(P127-O127)+O133","v":726.66666666666652},{"$f":"(Q134-Q132)/(A134-A132)*(A133-A132)+Q132","v":536.66666666666674},{"$f":"(S133-Q133)/(S127-Q127)*(R127-Q127)+Q133","v":490.43333333333345},{"$f":"(S134-S132)/(A134-A132)*(A133-A132)+S132","v":473.33333333333348},{"$f":"(U133-S133)/(U127-S127)*(T127-S127)+S133","v":726.66666666666742},{"$f":"(U134-U132)/(A134-A132)*(A133-A132)+U132","v":410},{"$f":"(W133-U133)/(W127-U127)*(V127-U127)+U133","v":410},{"$f":"(W134-W132)/(E134-E132)*(E133-E132)+W132","v":410},{"$f":"(Y133-W133)/(Y127-W127)*(X127-W127)+W133","v":{"$error":"#VALUE!"}},{"$f":"(Y134-Y132)/(G134-G132)*(G133-G132)+Y132","v":{"$error":"#VALUE!"}},{"$f":"(AA133-Y133)/(AA127-Y127)*(Z127-Y127)+Y133","v":{"$error":"#VALUE!"}},{"$f":"(AA134-AA132)/(I134-I132)*(I133-I132)+AA132","v":{"$error":"#VALUE!"}},{"$f":"(AC133-AA133)/(AC127-AA127)*(AB127-AA127)+AA133","v":{"$error":"#VALUE!"}},{"$f":"(AC134-AC132)/(A134-A132)*(A133-A132)+AC132","v":{"$error":"#VALUE!"}},{"$f":"(AE133-AC133)/(AE127-AC127)*(AD127-AC127)+AC133","v":{"$error":"#VALUE!"}},{"$f":"(AE134-AE132)/(E134-E132)*(E133-E132)+AE132","v":{"$error":"#VALUE!"}},{"$f":"(AG133-AE133)/(AG127-AE127)*(AF127-AE127)+AE133","v":{"$error":"#VALUE!"}},{"$f":"(AG134-AG132)/(A134-A132)*(A133-A132)+AG132","v":{"$error":"#VALUE!"}},7]
[15,{"$f":"B132+1","v":3},0,{"$f":"(E134-C134)/(E127-C127)*(D127-C127)+C134","v":-120},120,{"$f":"(G134-E134)/(G127-E127)*(F127-E127)+E134","v":0},200,{"$f":"(I134-G134)/(I127-G127)*(H127-G127)+G134","v":100.00000000000001},240,{"$f":"(K134-I134)/(K127-I127)*(J127-I127)+I134","v":64.999999999999972},315,{"$f":"(M134-K134)/(M127-K127)*(L127-K127)+K134","v":144.99999999999994},400,{"$f":"(O134-M134)/(O127-M127)*(N127-M127)+M134","v":-199.99999999999977},600,{"$f":"(Q134-O134)/(Q127-O127)*(P127-O127)+O134","v":416.66666666666669},{"$f":"O134+((U134-O134)/((U127-O127)*10))","v":691.66666666666663},{"$f":"(S134-Q134)/(S127-Q127)*(R127-Q127)+Q134","v":758.58333333333326},{"$f":"Q134+((U134-O134)/((U127-O127)*10))","v":783.33333333333326},{"$f":"(U134-S134)/(U127-S127)*(T127-S127)+S134","v":416.66666666666617},875,{"$f":"(W134-U134)/(W127-U127)*(V127-U127)+U134","v":875},{"$f":"(Y134-U134)/(Y127-U127)*(W127-U127)+U134","v":875},{"$f":"(Y134-W134)/(Y127-W127)*(X127-W127)+W134","v":875},875,{"$f":"(AA134-Y134)/(AA127-Y127)*(Z127-Y127)+Y134","v":{"$error":"#VALUE!"}},"-",{"$f":"(AC134-AA134)/(AC127-AA127)*(AB127-AA127)+AA134","v":{"$error":"#VALUE!"}},"-",{"$f":"(AE134-AC134)/(AE127-AC127)*(AD127-AC127)+AC134","v":{"$error":"#VALUE!"}},"-",{"$f":"(AG134-AE134)/(AG127-AE127)*(AF127-AE127)+AE134","v":{"$error":"#VALUE!"}},"-",8,{"$f":"AK21","v":0.373},{"$f":"AL21","v":229.2},{"$f":"VLOOKUP(AL134,A127:AG160,HLOOKUP(AI134,A127:AG160,34,0),0)","v":191.62499999999997},{"$f":"AN21","v":300},{"$f":"IF(AI134<A130,\"NO\",IF(AI134>A158,\"N0\",IF(VLOOKUP(AI134,A130:AG158,3,0)>AJ134,\"NO\",IF(VLOOKUP(AI134,A130:AG158,17,0)<AJ134,\"NO\",IF(AND(AK134>=AJ134-0.1,AK134<AJ134+0.1)=TRUE,AL134,\"NO\")))))","v":"NO"}]
[{"$f":"IF(AND(AL134>A134,AL134<A136)=TRUE,AL134,0)","v":0},null,{"$f":"(C136-C134)/(A136-A134)*(A135-A134)+C134","v":{"$error":"#VALUE!"}},{"$f":"(E135-C135)/(E127-C127)*(D127-C127)+C135","v":{"$error":"#VALUE!"}},{"$f":"(E136-E134)/(A136-A134)*(A135-A134)+E134","v":165},{"$f":"(G135-E135)/(G127-E127)*(F127-E127)+E135","v":67.500000000000014},{"$f":"(G136-G134)/(A136-A134)*(A135-A134)+G134","v":230},{"$f":"(I135-G135)/(I127-G127)*(H127-G127)+G135","v":167.5},{"$f":"(I136-I134)/(A136-A134)*(A135-A134)+I134","v":255},{"$f":"(K135-I135)/(K127-I127)*(J127-I127)+I135","v":79.999999999999972},{"$f":"(K136-K134)/(A136-A134)*(A135-A134)+K134","v":330},{"$f":"(M135-K135)/(M127-K127)*(L127-K127)+K135","v":159.99999999999994},{"$f":"(M136-M134)/(A136-A134)*(A135-A134)+M134","v":415},{"$f":"(O135-M135)/(O127-M127)*(N127-M127)+M135","v":-139.99999999999977},{"$f":"(O136-O134)/(A136-A134)*(A135-A134)+O134","v":600},{"$f":"(Q135-O135)/(Q127-O127)*(P127-O127)+O135","v":586.66666666666697},{"$f":"(Q136-Q134)/(A136-A134)*(A135-A134)+Q134","v":606.66666666666652},{"$f":"(S135-Q135)/(S127-Q127)*(R127-Q127)+Q135","v":611.53333333333308},{"$f":"(S136-S134)/(A136-A134)*(A135-A134)+S134","v":613.33333333333303},{"$f":"(U135-S135)/(U127-S127)*(T127-S127)+S135","v":586.66666666666515},{"$f":"(U136-U134)/(A136-A134)*(A135-A134)+U134","v":620},{"$f":"(W135-U135)/(W127-U127)*(V127-U127)+U135","v":620},{"$f":"(W136-W134)/(A136-A134)*(A135-A134)+W134","v":620},{"$f":"(Y135-W135)/(Y127-W127)*(X127-W127)+W135","v":620},{"$f":"(Y136-Y134)/(G136-G134)*(G135-G134)+Y134","v":620},{"$f":"(AA135-Y135)/(AA127-Y127)*(Z127-Y127)+Y135","v":{"$error":"#VALUE!"}},{"$f":"(AA136-AA134)/(I136-I134)*(I135-I134)+AA134","v":{"$error":"#VALUE!"}},{"$f":"(AC135-AA135)/(AC127-AA127)*(AB127-AA127)+AA135","v":{"$error":"#VALUE!"}},{"$f":"(AC136-AC134)/(A136-A134)*(A135-A134)+AC134","v":{"$error":"#VALUE!"}},{"$f":"(AE135-AC135)/(AE127-AC127)*(AD127-AC127)+AC135","v":{"$error":"#VALUE!"}},{"$f":"(AE136-AE134)/(A136-A134)*(A135-A134)+AE134","v":{"$error":"#VALUE!"}},{"$f":"(AG135-AE135)/(AG127-AE127)*(AF127-AE127)+AE135","v":{"$error":"#VALUE!"}},{"$f":"(AG136-AG134)/(A136-A134)*(A135-A134)+AG134","v":{"$error":"#VALUE!"}},9]
[20,{"$f":"B134+1","v":4},"-",{"$f":"(E136-C136)/(E127-C127)*(D127-C127)+C136","v":{"$error":"#VALUE!"}},105,{"$f":"(G136-E136)/(G127-E127)*(F127-E127)+E136","v":-22.499999999999972},190,{"$f":"(I136-G136)/(I127-G127)*(H127-G127)+G136","v":77.500000000000014},235,{"$f":"(K136-I136)/(K127-I127)*(J127-I127)+I136","v":59.999999999999972},310,{"$f":"(M136-K136)/(M127-K127)*(L127-K127)+K136","v":139.99999999999994},395,{"$f":"(O136-M136)/(O127-M127)*(N127-M127)+M136","v":-219.99999999999966},600,{"$f":"(Q136-O136)/(Q127-O127)*(P127-O127)+O136","v":359.99999999999994},{"$f":"O136+((U136-O136)/((U127-O127)*10))","v":720},{"$f":"(S136-Q136)/(S127-Q127)*(R127-Q127)+Q136","v":807.6},{"$f":"Q136+((U136-O136)/((U127-O127)*10))","v":840},{"$f":"(U136-S136)/(U127-S127)*(T127-S127)+S136","v":359.99999999999989},960,{"$f":"(W136-U136)/(W127-U127)*(V127-U127)+U136","v":960},{"$f":"(Y136-U136)/(Y127-U127)*(W127-U127)+U136","v":960},{"$f":"(Y136-W136)/(Y127-W127)*(X127-W127)+W136","v":960},960,{"$f":"(AA136-Y136)/(AA127-Y127)*(Z127-Y127)+Y136","v":960},960,{"$f":"(AC136-AA136)/(AC127-AA127)*(AB127-AA127)+AA136","v":960},960,{"$f":"(AE136-AC136)/(AE127-AC127)*(AD127-AC127)+AC136","v":{"$error":"#VALUE!"}},"-",{"$f":"(AG136-AE136)/(AG127-AE127)*(AF127-AE127)+AE136","v":{"$error":"#VALUE!"}},"-",10,0.1,{"$f":"AL23","v":263.58}]
[{"$f":"IF(AND(AL134>A136,AL134<A138)=TRUE,AL134,0)","v":0},null,{"$f":"(C138-C136)/(A138-A136)*(A137-A136)+C136","v":{"$error":"#VALUE!"}},{"$f":"(E137-C137)/(E127-C127)*(D127-C127)+C137","v":{"$error":"#VALUE!"}},{"$f":"(E138-E136)/(A138-A136)*(A137-A136)+E136","v":315},{"$f":"(G137-E137)/(G127-E127)*(F127-E127)+E137","v":427.5},{"$f":"(G138-G136)/(A138-A136)*(A137-A136)+G136","v":240},{"$f":"(I137-G137)/(I127-G127)*(H127-G127)+G137","v":227.5},{"$f":"(I138-I136)/(A138-A136)*(A137-A136)+I136","v":245},{"$f":"(K137-I137)/(K127-I127)*(J127-I127)+I137","v":69.999999999999972},{"$f":"(K138-K136)/(A138-A136)*(A137-A136)+K136","v":320},{"$f":"(M137-K137)/(M127-K127)*(L127-K127)+K137","v":149.99999999999994},{"$f":"(M138-M136)/(A138-A136)*(A137-A136)+M136","v":405},{"$f":"(O137-M137)/(O127-M127)*(N127-M127)+M137","v":-179.99999999999977},{"$f":"(O138-O136)/(A138-A136)*(A137-A136)+O136","v":600},{"$f":"(Q137-O137)/(Q127-O127)*(P127-O127)+O137","v":526.66666666666652},{"$f":"(Q138-Q136)/(A138-A136)*(A137-A136)+Q136","v":636.66666666666674},{"$f":"(S137-Q137)/(S127-Q127)*(R127-Q127)+Q137","v":663.43333333333351},{"$f":"(S138-S136)/(A138-A136)*(A137-A136)+S136","v":673.33333333333348},{"$f":"(U137-S137)/(U127-S127)*(T127-S127)+S137","v":526.66666666666742},{"$f":"(U138-U136)/(A138-A136)*(A137-A136)+U136","v":710},{"$f":"(W137-U137)/(W127-U127)*(V127-U127)+U137","v":710},{"$f":"(W138-W136)/(A138-A136)*(A137-A136)+W136","v":710},{"$f":"(Y137-W137)/(Y127-W127)*(X127-W127)+W137","v":710},{"$f":"(Y138-Y136)/(G138-G136)*(G137-G136)+Y136","v":710},{"$f":"(AA137-Y137)/(AA127-Y127)*(Z127-Y127)+Y137","v":710},{"$f":"(AA138-AA136)/(I138-I136)*(I137-I136)+AA136","v":710},{"$f":"(AC137-AA137)/(AC127-AA127)*(AB127-AA127)+AA137","v":710},{"$f":"(AC138-AC136)/(A138-A136)*(A137-A136)+AC136","v":710},{"$f":"(AE137-AC137)/(AE127-AC127)*(AD127-AC127)+AC137","v":{"$error":"#VALUE!"}},{"$f":"(AE138-AE136)/(A138-A136)*(A137-A136)+AE136","v":{"$error":"#VALUE!"}},{"$f":"(AG137-AE137)/(AG127-AE127)*(AF127-AE127)+AE137","v":{"$error":"#VALUE!"}},{"$f":"(AG138-AG136)/(A138-A136)*(A137-A136)+AG136","v":{"$error":"#VALUE!"}},11]
[30,{"$f":"B136+1","v":5},"-",{"$f":"(E138-C138)/(E127-C127)*(D127-C127)+C138","v":{"$error":"#VALUE!"}},0,{"$f":"(G138-E138)/(G127-E127)*(F127-E127)+E138","v":-247.49999999999994},165,{"$f":"(I138-G138)/(I127-G127)*(H127-G127)+G138","v":2.5},230,{"$f":"(K138-I138)/(K127-I127)*(J127-I127)+I138","v":54.999999999999972},305,{"$f":"(M138-K138)/(M127-K127)*(L127-K127)+K138","v":134.99999999999994},390,{"$f":"(O138-M138)/(O127-M127)*(N127-M127)+M138","v":-239.99999999999966},600,{"$f":"(Q138-O138)/(Q127-O127)*(P127-O127)+O138","v":276.66666666666663},{"$f":"O138+((U138-O138)/((U127-O127)*10))","v":761.66666666666663},{"$f":"(S138-Q138)/(S127-Q127)*(R127-Q127)+Q138","v":879.68333333333328},{"$f":"Q138+((U138-O138)/((U127-O127)*10))","v":923.33333333333326},{"$f":"(U138-S138)/(U127-S127)*(T127-S127)+S138","v":276.66666666666606},1085,{"$f":"(W138-U138)/(W127-U127)*(V127-U127)+U138","v":1085},{"$f":"(Y138-U138)/(Y127-U127)*(W127-U127)+U138","v":1085},{"$f":"(Y138-W138)/(Y127-W127)*(X127-W127)+W138","v":1085},1085,{"$f":"(AA138-Y138)/(AA127-Y127)*(Z127-Y127)+Y138","v":1085},1085,{"$f":"(AC138-AA138)/(AC127-AA127)*(AB127-AA127)+AA138","v":1085},1085,{"$f":"(AE138-AC138)/(AE127-AC127)*(AD127-AC127)+AC138","v":1085},1085,{"$f":"(AG138-AE138)/(AG127-AE127)*(AF127-AE127)+AE138","v":1085},1085,12,"Регулятор давления",null,null,{"$f":"Лист1!F70","v":"РЕД-5-50-С5.3 DN50 Qmax=1350 м.куб/час"}]
[{"$f":"IF(AND(AL134>A138,AL134<A140)=TRUE,AL134,0)","v":0},null,{"$f":"(C140-C138)/(A140-A138)*(A139-A138)+C138","v":{"$error":"#VALUE!"}},{"$f":"(E139-C139)/(E127-C127)*(D127-C127)+C139","v":{"$error":"#VALUE!"}},{"$f":"(E140-E138)/(A140-A138)*(A139-A138)+E138","v":{"$error":"#VALUE!"}},{"$f":"(G139-E139)/(G127-E127)*(F127-E127)+E139","v":{"$error":"#VALUE!"}},{"$f":"(G140-G138)/(A140-A138)*(A139-A138)+G138","v":300},{"$f":"(I139-G139)/(I127-G127)*(H127-G127)+G139","v":325},{"$f":"(I140-I138)/(A140-A138)*(A139-A138)+I138","v":290},{"$f":"(K139-I139)/(K127-I127)*(J127-I127)+I139","v":185},{"$f":"(K140-K138)/(A140-A138)*(A139-A138)+K138","v":335},{"$f":"(M139-K139)/(M127-K127)*(L127-K127)+K139","v":194.99999999999997},{"$f":"(M140-M138)/(A140-A138)*(A139-A138)+M138","v":405},{"$f":"(O139-M139)/(O127-M127)*(N127-M127)+M139","v":-179.99999999999977},{"$f":"(O140-O138)/(A140-A138)*(A139-A138)+O138","v":600},{"$f":"(Q139-O139)/(Q127-O127)*(P127-O127)+O139","v":6.6666666666666288},{"$f":"(Q140-Q138)/(A140-A138)*(A139-A138)+Q138","v":896.66666666666663},{"$f":"(S139-Q139)/(S127-Q127)*(R127-Q127)+Q139","v":1113.2333333333331},{"$f":"(S140-S138)/(A140-A138)*(A139-A138)+S138","v":1193.3333333333333},{"$f":"(U139-S139)/(U127-S127)*(T127-S127)+S139","v":6.6666666666660603},{"$f":"(U140-U138)/(A140-A138)*(A139-A138)+U138","v":1490},{"$f":"(W139-U139)/(W127-U127)*(V127-U127)+U139","v":2490},{"$f":"(W140-W138)/(A140-A138)*(A139-A138)+W138","v":1290},{"$f":"(Y139-W139)/(Y127-W127)*(X127-W127)+W139","v":2489.9999999999995},{"$f":"(Y140-Y138)/(A140-A138)*(A139-A138)+Y138","v":890},{"$f":"(AA139-Y139)/(AA127-Y127)*(Z127-Y127)+Y139","v":890},{"$f":"(AA140-AA138)/(A140-A138)*(A139-A138)+AA138","v":890},{"$f":"(AC139-AA139)/(AC127-AA127)*(AB127-AA127)+AA139","v":890},{"$f":"(AC140-AC138)/(A140-A138)*(A139-A138)+AC138","v":890},{"$f":"(AE139-AC139)/(AE127-AC127)*(AD127-AC127)+AC139","v":890},{"$f":"(AE140-AE138)/(A140-A138)*(A139-A138)+AE138","v":890},{"$f":"(AG139-AE139)/(AG127-AE127)*(AF127-AE127)+AE139","v":890},{"$f":"(AG140-AG138)/(A140-A138)*(A139-A138)+AG138","v":890},13]
[40,{"$f":"B138+1","v":6},"-",{"$f":"(E140-C140)/(E127-C127)*(D127-C127)+C140","v":{"$error":"#VALUE!"}},"-",{"$f":"(G140-E140)/(G127-E127)*(F127-E127)+E140","v":{"$error":"#VALUE!"}},120,{"$f":"(I140-G140)/(I127-G127)*(H127-G127)+G140","v":-104.99999999999997},210,{"$f":"(K140-I140)/(K127-I127)*(J127-I127)+I140","v":11.666666666666629},295,{"$f":"(M140-K140)/(M127-K127)*(L127-K127)+K140","v":114.99999999999994},385,{"$f":"(O140-M140)/(O127-M127)*(N127-M127)+M140","v":-259.99999999999966},600,{"$f":"(Q140-O140)/(Q127-O127)*(P127-O127)+O140","v":366.66666666666669},{"$f":"O140+((U140-O140)/((U127-O127)*10))","v":716.66666666666663},{"$f":"(S140-Q140)/(S127-Q127)*(R127-Q127)+Q140","v":801.83333333333326},{"$f":"Q140+((U140-O140)/((U127-O127)*10))","v":833.33333333333326},{"$f":"(U140-S140)/(U127-S127)*(T127-S127)+S140","v":366.66666666666617},950,{"$f":"(W140-U140)/(W127-U127)*(V127-U127)+U140","v":616.66666666666674},{"$f":"(Y140-U140)/(Y127-U127)*(W127-U127)+U140","v":1016.6666666666666},{"$f":"(Y140-W140)/(Y127-W127)*(X127-W127)+W140","v":616.66666666666674},1150,{"$f":"(AA140-Y140)/(AA127-Y127)*(Z127-Y127)+Y140","v":1150},1150,{"$f":"(AC140-AA140)/(AC127-AA127)*(AB127-AA127)+AA140","v":1150},1150,{"$f":"(AE140-AC140)/(AE127-AC127)*(AD127-AC127)+AC140","v":1150},1150,{"$f":"(AG140-AE140)/(AG127-AE127)*(AF127-AE127)+AE140","v":1150},1150,14]
[{"$f":"IF(AND(AL134>A140,AL134<A142)=TRUE,AL134,0)","v":0},null,{"$f":"(C142-C140)/(A142-A140)*(A141-A140)+C140","v":{"$error":"#VALUE!"}},{"$f":"(E141-C141)/(E127-C127)*(D127-C127)+C141","v":{"$error":"#VALUE!"}},{"$f":"(E142-E140)/(A142-A140)*(A141-A140)+E140","v":{"$error":"#VALUE!"}},{"$f":"(G141-E141)/(G127-E127)*(F127-E127)+E141","v":{"$error":"#VALUE!"}},{"$f":"(G142-G140)/(A142-A140)*(A141-A140)+G140","v":600},{"$f":"(I141-G141)/(I127-G127)*(H127-G127)+G141","v":1275},{"$f":"(I142-I140)/(A142-A140)*(A141-A140)+I140","v":330},{"$f":"(K141-I141)/(K127-I127)*(J127-I127)+I141","v":271.66666666666663},{"$f":"(K142-K140)/(A142-A140)*(A141-A140)+K140","v":355},{"$f":"(M141-K141)/(M127-K127)*(L127-K127)+K141","v":254.99999999999997},{"$f":"(M142-M140)/(A142-A140)*(A141-A140)+M140","v":405},{"$f":"(O141-M141)/(O127-M127)*(N127-M127)+M141","v":-179.99999999999977},{"$f":"(O142-O140)/(A142-A140)*(A141-A140)+O140","v":600},{"$f":"(Q141-O141)/(Q127-O127)*(P127-O127)+O141","v":366.66666666666669},{"$f":"(Q142-Q140)/(A142-A140)*(A141-A140)+Q140","v":716.66666666666663},{"$f":"(S141-Q141)/(S127-Q127)*(R127-Q127)+Q141","v":801.83333333333326},{"$f":"(S142-S140)/(A142-A140)*(A141-A140)+S140","v":833.33333333333326},{"$f":"(U141-S141)/(U127-S127)*(T127-S127)+S141","v":366.66666666666617},{"$f":"(U142-U140)/(A142-A140)*(A141-A140)+U140","v":950},{"$f":"(W141-U141)/(W127-U127)*(V127-U127)+U141","v":616.66666666666674},{"$f":"(W142-W140)/(A142-A140)*(A141-A140)+W140","v":1016.6666666666666},{"$f":"(Y141-W141)/(Y127-W127)*(X127-W127)+W141","v":616.66666666666674},{"$f":"(Y142-Y140)/(A142-A140)*(A141-A140)+Y140","v":1150},{"$f":"(AA141-Y141)/(AA127-Y127)*(Z127-Y127)+Y141","v":2750.0000000000005},{"$f":"(AA142-AA140)/(A142-A140)*(A141-A140)+AA140","v":750},{"$f":"(AC141-AA141)/(AC127-AA127)*(AB127-AA127)+AA141","v":750},{"$f":"(AC142-AC140)/(A142-A140)*(A141-A140)+AC140","v":750},{"$f":"(AE141-AC141)/(AE127-AC127)*(AD127-AC127)+AC141","v":750},{"$f":"(AE142-AE140)/(A142-A140)*(A141-A140)+AE140","v":750},{"$f":"(AG141-AE141)/(AG127-AE127)*(AF127-AE127)+AE141","v":750},{"$f":"(AG142-AG140)/(A142-A140)*(A141-A140)+AG140","v":750},15]
[50,{"$f":"B140+1","v":7},"-",{"$f":"(E142-C142)/(E127-C127)*(D127-C127)+C142","v":{"$error":"#VALUE!"}},"-",{"$f":"(G142-E142)/(G127-E127)*(F127-E127)+E142","v":{"$error":"#VALUE!"}},0,{"$f":"(I142-G142)/(I127-G127)*(H127-G127)+G142","v":-449.99999999999994},180,{"$f":"(K142-I142)/(K127-I127)*(J127-I127)+I142","v":-53.333333333333371},280,{"$f":"(M142-K142)/(M127-K127)*(L127-K127)+K142","v":79.999999999999943},380,{"$f":"(O142-M142)/(O127-M127)*(N127-M127)+M142","v":-279.99999999999966},600,{"$f":"(Q142-O142)/(Q127-O127)*(P127-O127)+O142","v":366.66666666666669},{"$f":"O142+((U142-O142)/((U127-O127)*10))","v":716.66666666666663},{"$f":"(S142-Q142)/(S127-Q127)*(R127-Q127)+Q142","v":801.83333333333326},{"$f":"Q142+((U142-O142)/((U127-O127)*10))","v":833.33333333333326},{"$f":"(U142-S142)/(U127-S127)*(T127-S127)+S142","v":366.66666666666617},950,{"$f":"(W142-U142)/(W127-U127)*(V127-U127)+U142","v":616.66666666666674},{"$f":"(Y142-U142)/(Y127-U127)*(W127-U127)+U142","v":1016.6666666666666},{"$f":"(Y142-W142)/(Y127-W127)*(X127-W127)+W142","v":616.66666666666674},1150,{"$f":"(AA142-Y142)/(AA127-Y127)*(Z127-Y127)+Y142","v":749.99999999999989},1250,{"$f":"(AC142-AA142)/(AC127-AA127)*(AB127-AA127)+AA142","v":1250},1250,{"$f":"(AE142-AC142)/(AE127-AC127)*(AD127-AC127)+AC142","v":1250},1250,{"$f":"(AG142-AE142)/(AG127-AE127)*(AF127-AE127)+AE142","v":1250},1250,16]
[{"$f":"IF(AND(AL134>A142,AL134<A144)=TRUE,AL134,0)","v":0},null,{"$f":"(C144-C142)/(A144-A142)*(A143-A142)+C142","v":{"$error":"#VALUE!"}},{"$f":"(E143-C143)/(E127-C127)*(D127-C127)+C143","v":{"$error":"#VALUE!"}},{"$f":"(E144-E142)/(A144-A142)*(A143-A142)+E142","v":{"$error":"#VALUE!"}},{"$f":"(G143-E143)/(G127-E127)*(F127-E127)+E143","v":{"$error":"#VALUE!"}},{"$f":"(G144-G142)/(A144-A142)*(A143-A142)+G142","v":{"$error":"#VALUE!"}},{"$f":"(I143-G143)/(I127-G127)*(H127-G127)+G143","v":{"$error":"#VALUE!"}},{"$f":"(I144-I142)/(A144-A142)*(A143-A142)+I142","v":430},{"$f":"(K143-I143)/(K127-I127)*(J127-I127)+I143","v":546.66666666666674},{"$f":"(K144-K142)/(A144-A142)*(A143-A142)+K142","v":380},{"$f":"(M143-K143)/(M127-K127)*(L127-K127)+K143","v":330},{"$f":"(M144-M142)/(A144-A142)*(A143-A142)+M142","v":405},{"$f":"(O143-M143)/(O127-M127)*(N127-M127)+M143","v":-284.99999999999966},{"$f":"(O144-O142)/(A144-A142)*(A143-A142)+O142","v":635},{"$f":"(Q143-O143)/(Q127-O127)*(P127-O127)+O143","v":425.0000000000004},{"$f":"(Q144-Q142)/(A144-A142)*(A143-A142)+Q142","v":739.99999999999977},{"$f":"(S143-Q143)/(S127-Q127)*(R127-Q127)+Q143","v":816.64999999999964},{"$f":"(S144-S142)/(A144-A142)*(A143-A142)+S142","v":844.99999999999955},{"$f":"(U143-S143)/(U127-S127)*(T127-S127)+S143","v":424.99999999999761},{"$f":"(U144-U142)/(A144-A142)*(A143-A142)+U142","v":950},{"$f":"(W143-U143)/(W127-U127)*(V127-U127)+U143","v":950.00000000000114},{"$f":"(W144-W142)/(A144-A142)*(A143-A142)+W142","v":949.99999999999977},{"$f":"(Y143-W143)/(Y127-W127)*(X127-W127)+W143","v":949.99999999999909},{"$f":"(Y144-Y142)/(A144-A142)*(A143-A142)+Y142","v":950},{"$f":"(AA143-Y143)/(AA127-Y127)*(Z127-Y127)+Y143","v":1750.0000000000002},{"$f":"(AA144-AA142)/(A144-A142)*(A143-A142)+AA142","v":750},{"$f":"(AC143-AA143)/(AC127-AA127)*(AB127-AA127)+AA143","v":750},{"$f":"(AC144-AC142)/(A144-A142)*(A143-A142)+AC142","v":750},{"$f":"(AE143-AC143)/(AE127-AC127)*(AD127-AC127)+AC143","v":750},{"$f":"(AE144-AE142)/(A144-A142)*(A143-A142)+AE142","v":750},{"$f":"(AG143-AE143)/(AG127-AE127)*(AF127-AE127)+AE143","v":750},{"$f":"(AG144-AG142)/(A144-A142)*(A143-A142)+AG142","v":750},{"$f":"AH142+1","v":17}]
[60,{"$f":"B142+1","v":8},"-",{"$f":"(E144-C144)/(E127-C127)*(D127-C127)+C144","v":{"$error":"#VALUE!"}},"-",{"$f":"(G144-E144)/(G127-E127)*(F127-E127)+E144","v":{"$error":"#VALUE!"}},"-",{"$f":"(I144-G144)/(I127-G127)*(H127-G127)+G144","v":{"$error":"#VALUE!"}},130,{"$f":"(K144-I144)/(K127-I127)*(J127-I127)+I144","v":-173.33333333333343},260,{"$f":"(M144-K144)/(M127-K127)*(L127-K127)+K144","v":29.999999999999943},375,{"$f":"(O144-M144)/(O127-M127)*(N127-M127)+M144","v":-278.99999999999966},593,{"$f":"(Q144-O144)/(Q127-O127)*(P127-O127)+O144","v":354.99999999999994},{"$f":"O144+((U144-O144)/((U127-O127)*10))","v":712},{"$f":"(S144-Q144)/(S127-Q127)*(R127-Q127)+Q144","v":798.87},{"$f":"Q144+((U144-O144)/((U127-O127)*10))","v":831},{"$f":"(U144-S144)/(U127-S127)*(T127-S127)+S144","v":354.99999999999989},950,{"$f":"(W144-U144)/(W127-U127)*(V127-U127)+U144","v":549.99999999999989},{"$f":"(Y144-U144)/(Y127-U127)*(W127-U127)+U144","v":1030},{"$f":"(Y144-W144)/(Y127-W127)*(X127-W127)+W144","v":550.00000000000023},1190,{"$f":"(AA144-Y144)/(AA127-Y127)*(Z127-Y127)+Y144","v":549.99999999999977},1350,{"$f":"(AC144-AA144)/(AC127-AA127)*(AB127-AA127)+AA144","v":1350},1350,{"$f":"(AE144-AC144)/(AE127-AC127)*(AD127-AC127)+AC144","v":1350},1350,{"$f":"(AG144-AE144)/(AG127-AE127)*(AF127-AE127)+AE144","v":1350},1350,{"$f":"AH143+1","v":18}]
[{"$f":"IF(AND(AL134>A144,AL134<A146)=TRUE,AL134,0)","v":0},null,{"$f":"(C146-C144)/(A146-A144)*(A145-A144)+C144","v":{"$error":"#VALUE!"}},{"$f":"(E145-C145)/(E127-C127)*(D127-C127)+C145","v":{"$error":"#VALUE!"}},{"$f":"(E146-E144)/(A146-A144)*(A145-A144)+E144","v":{"$error":"#VALUE!"}},{"$f":"(G145-E145)/(G127-E127)*(F127-E127)+E145","v":{"$error":"#VALUE!"}},{"$f":"(G146-G144)/(A146-A144)*(A145-A144)+G144","v":{"$error":"#VALUE!"}},{"$f":"(I145-G145)/(I127-G127)*(H127-G127)+G145","v":{"$error":"#VALUE!"}},{"$f":"(I146-I144)/(A146-A144)*(A145-A144)+I144","v":910},{"$f":"(K145-I145)/(K127-I127)*(J127-I127)+I145","v":676.66666666666663},{"$f":"(K146-K144)/(A146-A144)*(A145-A144)+K144","v":1010},{"$f":"(M145-K145)/(M127-K127)*(L127-K127)+K145","v":359.99999999999977},{"$f":"(M146-M144)/(A146-A144)*(A145-A144)+M144","v":1335},{"$f":"(O145-M145)/(O127-M127)*(N127-M127)+M145","v":-1982.9999999999986},{"$f":"(O146-O144)/(A146-A144)*(A145-A144)+O144","v":2441},{"$f":"(Q145-O145)/(Q127-O127)*(P127-O127)+O145","v":1915},{"$f":"(Q146-Q144)/(A146-A144)*(A145-A144)+Q144","v":2704},{"$f":"(S145-Q145)/(S127-Q127)*(R127-Q127)+Q145","v":2895.99},{"$f":"(S146-S144)/(A146-A144)*(A145-A144)+S144","v":2967},{"$f":"(U145-S145)/(U127-S127)*(T127-S127)+S145","v":1914.9999999999998},{"$f":"(U146-U144)/(A146-A144)*(A145-A144)+U144","v":3230},{"$f":"(W145-U145)/(W127-U127)*(V127-U127)+U145","v":3229.9999999999977},{"$f":"(W146-W144)/(A146-A144)*(A145-A144)+W144","v":3230.0000000000005},{"$f":"(Y145-W145)/(Y127-W127)*(X127-W127)+W145","v":3230.0000000000018},{"$f":"(Y146-Y144)/(A146-A144)*(A145-A144)+Y144","v":3230},{"$f":"(AA145-Y145)/(AA127-Y127)*(Z127-Y127)+Y145","v":3310},{"$f":"(AA146-AA144)/(A146-A144)*(A145-A144)+AA144","v":3210},{"$f":"(AC145-AA145)/(AC127-AA127)*(AB127-AA127)+AA145","v":7710.0000000000009},{"$f":"(AC146-AC144)/(A146-A144)*(A145-A144)+AC144","v":2310},{"$f":"(AE145-AC145)/(AE127-AC127)*(AD127-AC127)+AC145","v":5550},{"$f":"(AE146-AE144)/(A146-A144)*(A145-A144)+AE144","v":1770},{"$f":"(AG145-AE145)/(AG127-AE127)*(AF127-AE127)+AE145","v":4709.9999999999973},{"$f":"(AG146-AG144)/(A146-A144)*(A145-A144)+AG144","v":1350},19]
[70,{"$f":"B144+1","v":9},"-",{"$f":"(E146-C146)/(E127-C127)*(D127-C127)+C146","v":{"$error":"#VALUE!"}},"-",{"$f":"(G146-E146)/(G127-E127)*(F127-E127)+E146","v":{"$error":"#VALUE!"}},"-",{"$f":"(I146-G146)/(I127-G127)*(H127-G127)+G146","v":{"$error":"#VALUE!"}},0,{"$f":"(K146-I146)/(K127-I127)*(J127-I127)+I146","v":-315.00000000000006},135,{"$f":"(M146-K146)/(M127-K127)*(L127-K127)+K146","v":-25.000000000000057},215,{"$f":"(O146-M146)/(O127-M127)*(N127-M127)+M146","v":5.0000000000000853},285,{"$f":"(Q146-O146)/(Q127-O127)*(P127-O127)+O146","v":94.999999999999943},{"$f":"O146+((U146-O146)/((U127-O127)*10))","v":380},{"$f":"(S146-Q146)/(S127-Q127)*(R127-Q127)+Q146","v":449.34999999999997},{"$f":"Q146+((U146-O146)/((U127-O127)*10))","v":475},{"$f":"(U146-S146)/(U127-S127)*(T127-S127)+S146","v":94.999999999999886},570,{"$f":"(W146-U146)/(W127-U127)*(V127-U127)+U146","v":103.3333333333336},{"$f":"(Y146-U146)/(Y127-U127)*(W127-U127)+U146","v":663.33333333333326},{"$f":"(Y146-W146)/(Y127-W127)*(X127-W127)+W146","v":103.33333333333326},850,{"$f":"(AA146-Y146)/(AA127-Y127)*(Z127-Y127)+Y146","v":89.999999999999773},1040,{"$f":"(AC146-AA146)/(AC127-AA127)*(AB127-AA127)+AA146","v":289.99999999999989},1190,{"$f":"(AE146-AC146)/(AE127-AC127)*(AD127-AC127)+AC146","v":649.99999999999989},1280,{"$f":"(AG146-AE146)/(AG127-AE127)*(AF127-AE127)+AE146","v":790.00000000000045},1350,20]
[{"$f":"IF(AND(AL134>A146,AL134<A148)=TRUE,AL134,0)","v":0},null,{"$f":"(C148-C146)/(A148-A146)*(A147-A146)+C146","v":{"$error":"#VALUE!"}},{"$f":"(E147-C147)/(E127-C127)*(D127-C127)+C147","v":{"$error":"#VALUE!"}},{"$f":"(E148-E146)/(A148-A146)*(A147-A146)+E146","v":{"$error":"#VALUE!"}},{"$f":"(G147-E147)/(G127-E127)*(F127-E127)+E147","v":{"$error":"#VALUE!"}},{"$f":"(G148-G146)/(A148-A146)*(A147-A146)+G146","v":{"$error":"#VALUE!"}},{"$f":"(I147-G147)/(I127-G127)*(H127-G127)+G147","v":{"$error":"#VALUE!"}},{"$f":"(I148-I146)/(A148-A146)*(A147-A146)+I146","v":{"$error":"#VALUE!"}},{"$f":"(K147-I147)/(K127-I127)*(J127-I127)+I147","v":{"$error":"#VALUE!"}},{"$f":"(K148-K146)/(A148-A146)*(A147-A146)+K146","v":275},{"$f":"(M147-K147)/(M127-K127)*(L127-K127)+K147","v":325},{"$f":"(M148-M146)/(A148-A146)*(A147-A146)+M146","v":250},{"$f":"(O147-M147)/(O127-M127)*(N127-M127)+M147","v":40.000000000000085},{"$f":"(O148-O146)/(A148-A146)*(A147-A146)+O146","v":320},{"$f":"(Q147-O147)/(Q127-O127)*(P127-O127)+O147","v":153.33333333333354},{"$f":"(Q148-Q146)/(A148-A146)*(A147-A146)+Q146","v":403.3333333333332},{"$f":"(S147-Q147)/(S127-Q127)*(R127-Q127)+Q147","v":464.1666666666664},{"$f":"(S148-S146)/(A148-A146)*(A147-A146)+S146","v":486.6666666666664},{"$f":"(U147-S147)/(U127-S127)*(T127-S127)+S147","v":153.33333333333189},{"$f":"(U148-U146)/(A148-A146)*(A147-A146)+U146","v":570},{"$f":"(W147-U147)/(W127-U127)*(V127-U127)+U147","v":103.3333333333336},{"$f":"(W148-W146)/(A148-A146)*(A147-A146)+W146","v":663.33333333333326},{"$f":"(Y147-W147)/(Y127-W127)*(X127-W127)+W147","v":103.33333333333326},{"$f":"(Y148-Y146)/(A148-A146)*(A147-A146)+Y146","v":850},{"$f":"(AA147-Y147)/(AA127-Y127)*(Z127-Y127)+Y147","v":89.999999999999773},{"$f":"(AA148-AA146)/(A148-A146)*(A147-A146)+AA146","v":1040},{"$f":"(AC147-AA147)/(AC127-AA127)*(AB127-AA127)+AA147","v":289.99999999999989},{"$f":"(AC148-AC146)/(A148-A146)*(A147-A146)+AC146","v":1190},{"$f":"(AE147-AC147)/(AE127-AC127)*(AD127-AC127)+AC147","v":649.99999999999989},{"$f":"(AE148-AE146)/(A148-A146)*(A147-A146)+AE146","v":1280},{"$f":"(AG147-AE147)/(AG127-AE127)*(AF127-AE127)+AE147","v":790.00000000000045},{"$f":"(AG148-AG146)/(A148-A146)*(A147-A146)+AG146","v":1350},21]
[80,{"$f":"B146+1","v":10},"-",{"$f":"(E148-C148)/(E127-C127)*(D127-C127)+C148","v":{"$error":"#VALUE!"}},"-",{"$f":"(G148-E148)/(G127-E127)*(F127-E127)+E148","v":{"$error":"#VALUE!"}},"-",{"$f":"(I148-G148)/(I127-G127)*(H127-G127)+G148","v":{"$error":"#VALUE!"}},"-",{"$f":"(K148-I148)/(K127-I127)*(J127-I127)+I148","v":{"$error":"#VALUE!"}},115,{"$f":"(M148-K148)/(M127-K127)*(L127-K127)+K148","v":-75.000000000000057},210,{"$f":"(O148-M148)/(O127-M127)*(N127-M127)+M148","v":0},280,{"$f":"(Q148-O148)/(Q127-O127)*(P127-O127)+O148","v":86.666666666666572},{"$f":"O148+((U148-O148)/((U127-O127)*10))","v":376.66666666666669},{"$f":"(S148-Q148)/(S127-Q127)*(R127-Q127)+Q148","v":447.23333333333335},{"$f":"Q148+((U148-O148)/((U127-O127)*10))","v":473.33333333333337},{"$f":"(U148-S148)/(U127-S127)*(T127-S127)+S148","v":86.666666666666742},570,{"$f":"(W148-U148)/(W127-U127)*(V127-U127)+U148","v":103.3333333333336},{"$f":"(Y148-U148)/(Y127-U127)*(W127-U127)+U148","v":663.33333333333326},{"$f":"(Y148-W148)/(Y127-W127)*(X127-W127)+W148","v":103.33333333333326},850,{"$f":"(AA148-Y148)/(AA127-Y127)*(Z127-Y127)+Y148","v":89.999999999999773},1040,{"$f":"(AC148-AA148)/(AC127-AA127)*(AB127-AA127)+AA148","v":289.99999999999989},1190,{"$f":"(AE148-AC148)/(AE127-AC127)*(AD127-AC127)+AC148","v":649.99999999999989},1280,{"$f":"(AG148-AE148)/(AG127-AE127)*(AF127-AE127)+AE148","v":790.00000000000045},1350,22]
[{"$f":"IF(AND(AL134>A148,AL134<A150)=TRUE,AL134,0)","v":0},null,{"$f":"(C150-C148)/(A150-A148)*(A149-A148)+C148","v":{"$error":"#VALUE!"}},{"$f":"(E149-C149)/(E127-C127)*(D127-C127)+C149","v":{"$error":"#VALUE!"}},{"$f":"(E150-E148)/(A150-A148)*(A149-A148)+E148","v":{"$error":"#VALUE!"}},{"$f":"(G149-E149)/(G127-E127)*(F127-E127)+E149","v":{"$error":"#VALUE!"}},{"$f":"(G150-G148)/(A150-A148)*(A149-A148)+G148","v":{"$error":"#VALUE!"}},{"$f":"(I149-G149)/(I127-G127)*(H127-G127)+G149","v":{"$error":"#VALUE!"}},{"$f":"(I150-I148)/(A150-A148)*(A149-A148)+I148","v":{"$error":"#VALUE!"}},{"$f":"(K149-I149)/(K127-I127)*(J127-I127)+I149","v":{"$error":"#VALUE!"}},{"$f":"(K150-K148)/(A150-A148)*(A149-A148)+K148","v":575},{"$f":"(M149-K149)/(M127-K127)*(L127-K127)+K149","v":1145},{"$f":"(M150-M148)/(A150-A148)*(A149-A148)+M148","v":290},{"$f":"(O149-M149)/(O127-M127)*(N127-M127)+M149","v":80.000000000000085},{"$f":"(O150-O148)/(A150-A148)*(A149-A148)+O148","v":360},{"$f":"(Q149-O149)/(Q127-O127)*(P127-O127)+O149","v":219.99999999999963},{"$f":"(Q150-Q148)/(A150-A148)*(A149-A148)+Q148","v":430.00000000000017},{"$f":"(S149-Q149)/(S127-Q127)*(R127-Q127)+Q149","v":481.10000000000031},{"$f":"(S150-S148)/(A150-A148)*(A149-A148)+S148","v":500.00000000000034},{"$f":"(U149-S149)/(U127-S127)*(T127-S127)+S149","v":220.00000000000165},{"$f":"(U150-U148)/(A150-A148)*(A149-A148)+U148","v":570},{"$f":"(W149-U149)/(W127-U127)*(V127-U127)+U149","v":103.3333333333336},{"$f":"(W150-W148)/(A150-A148)*(A149-A148)+W148","v":663.33333333333326},{"$f":"(Y149-W149)/(Y127-W127)*(X127-W127)+W149","v":103.33333333333326},{"$f":"(Y150-Y148)/(A150-A148)*(A149-A148)+Y148","v":850},{"$f":"(AA149-Y149)/(AA127-Y127)*(Z127-Y127)+Y149","v":89.999999999999773},{"$f":"(AA150-AA148)/(A150-A148)*(A149-A148)+AA148","v":1040},{"$f":"(AC149-AA149)/(AC127-AA127)*(AB127-AA127)+AA149","v":289.99999999999989},{"$f":"(AC150-AC148)/(A150-A148)*(A149-A148)+AC148","v":1190},{"$f":"(AE149-AC149)/(AE127-AC127)*(AD127-AC127)+AC149","v":649.99999999999989},{"$f":"(AE150-AE148)/(A150-A148)*(A149-A148)+AE148","v":1280},{"$f":"(AG149-AE149)/(AG127-AE127)*(AF127-AE127)+AE149","v":790.00000000000045},{"$f":"(AG150-AG148)/(A150-A148)*(A149-A148)+AG148","v":1350},23]
[100,{"$f":"B148+1","v":11},"-",{"$f":"(E150-C150)/(E127-C127)*(D127-C127)+C150","v":{"$error":"#VALUE!"}},"-",{"$f":"(G150-E150)/(G127-E127)*(F127-E127)+E150","v":{"$error":"#VALUE!"}},"-",{"$f":"(I150-G150)/(I127-G127)*(H127-G127)+G150","v":{"$error":"#VALUE!"}},"-",{"$f":"(K150-I150)/(K127-I127)*(J127-I127)+I150","v":{"$error":"#VALUE!"}},0,{"$f":"(M150-K150)/(M127-K127)*(L127-K127)+K150","v":-380.00000000000011},190,{"$f":"(O150-M150)/(O127-M127)*(N127-M127)+M150","v":-19.999999999999915},260,{"$f":"(Q150-O150)/(Q127-O127)*(P127-O127)+O150","v":53.333333333333286},{"$f":"O150+((U150-O150)/((U127-O127)*10))","v":363.33333333333331},{"$f":"(S150-Q150)/(S127-Q127)*(R127-Q127)+Q150","v":438.76666666666665},{"$f":"Q150+((U150-O150)/((U127-O127)*10))","v":466.66666666666663},{"$f":"(U150-S150)/(U127-S127)*(T127-S127)+S150","v":53.33333333333303},570,{"$f":"(W150-U150)/(W127-U127)*(V127-U127)+U150","v":103.3333333333336},{"$f":"(Y150-U150)/(Y127-U127)*(W127-U127)+U150","v":663.33333333333326},{"$f":"(Y150-W150)/(Y127-W127)*(X127-W127)+W150","v":103.33333333333326},850,{"$f":"(AA150-Y150)/(AA127-Y127)*(Z127-Y127)+Y150","v":89.999999999999773},1040,{"$f":"(AC150-AA150)/(AC127-AA127)*(AB127-AA127)+AA150","v":289.99999999999989},1190,{"$f":"(AE150-AC150)/(AE127-AC127)*(AD127-AC127)+AC150","v":649.99999999999989},1280,{"$f":"(AG150-AE150)/(AG127-AE127)*(AF127-AE127)+AE150","v":790.00000000000045},1350,24]
[{"$f":"IF(AND(AL134>A150,AL134<A152)=TRUE,AL134,0)","v":0},null,{"$f":"(C152-C150)/(A152-A150)*(A151-A150)+C150","v":{"$error":"#VALUE!"}},{"$f":"(E151-C151)/(E127-C127)*(D127-C127)+C151","v":{"$error":"#VALUE!"}},{"$f":"(E152-E150)/(A152-A150)*(A151-A150)+E150","v":{"$error":"#VALUE!"}},{"$f":"(G151-E151)/(G127-E127)*(F127-E127)+E151","v":{"$error":"#VALUE!"}},{"$f":"(G152-G150)/(A152-A150)*(A151-A150)+G150","v":{"$error":"#VALUE!"}},{"$f":"(I151-G151)/(I127-G127)*(H127-G127)+G151","v":{"$error":"#VALUE!"}},{"$f":"(I152-I150)/(A152-A150)*(A151-A150)+I150","v":{"$error":"#VALUE!"}},{"$f":"(K151-I151)/(K127-I127)*(J127-I127)+I151","v":{"$error":"#VALUE!"}},{"$f":"(K152-K150)/(A152-A150)*(A151-A150)+K150","v":{"$error":"#VALUE!"}},{"$f":"(M151-K151)/(M127-K127)*(L127-K127)+K151","v":{"$error":"#VALUE!"}},{"$f":"(M152-M150)/(A152-A150)*(A151-A150)+M150","v":570},{"$f":"(O151-M151)/(O127-M127)*(N127-M127)+M151","v":1199.9999999999995},{"$f":"(O152-O150)/(A152-A150)*(A151-A150)+O150","v":360},{"$f":"(Q151-O151)/(Q127-O127)*(P127-O127)+O151","v":220.00000000000009},{"$f":"(Q152-Q150)/(A152-A150)*(A151-A150)+Q150","v":429.99999999999994},{"$f":"(S151-Q151)/(S127-Q127)*(R127-Q127)+Q151","v":481.09999999999991},{"$f":"(S152-S150)/(A152-A150)*(A151-A150)+S150","v":499.99999999999989},{"$f":"(U151-S151)/(U127-S127)*(T127-S127)+S151","v":219.99999999999937},{"$f":"(U152-U150)/(A152-A150)*(A151-A150)+U150","v":570},{"$f":"(W151-U151)/(W127-U127)*(V127-U127)+U151","v":103.3333333333336},{"$f":"(W152-W150)/(A152-A150)*(A151-A150)+W150","v":663.33333333333326},{"$f":"(Y151-W151)/(Y127-W127)*(X127-W127)+W151","v":103.33333333333326},{"$f":"(Y152-Y150)/(A152-A150)*(A151-A150)+Y150","v":850},{"$f":"(AA151-Y151)/(AA127-Y127)*(Z127-Y127)+Y151","v":89.999999999999773},{"$f":"(AA152-AA150)/(A152-A150)*(A151-A150)+AA150","v":1040},{"$f":"(AC151-AA151)/(AC127-AA127)*(AB127-AA127)+AA151","v":289.99999999999989},{"$f":"(AC152-AC150)/(A152-A150)*(A151-A150)+AC150","v":1190},{"$f":"(AE151-AC151)/(AE127-AC127)*(AD127-AC127)+AC151","v":649.99999999999989},{"$f":"(AE152-AE150)/(A152-A150)*(A151-A150)+AE150","v":1280},{"$f":"(AG151-AE151)/(AG127-AE127)*(AF127-AE127)+AE151","v":790.00000000000045},{"$f":"(AG152-AG150)/(A152-A150)*(A151-A150)+AG150","v":1350},25]
[150,{"$f":"B150+1","v":12},"-",{"$f":"(E152-C152)/(E127-C127)*(D127-C127)+C152","v":{"$error":"#VALUE!"}},"-",{"$f":"(G152-E152)/(G127-E127)*(F127-E127)+E152","v":{"$error":"#VALUE!"}},"-",{"$f":"(I152-G152)/(I127-G127)*(H127-G127)+G152","v":{"$error":"#VALUE!"}},"-",{"$f":"(K152-I152)/(K127-I127)*(J127-I127)+I152","v":{"$error":"#VALUE!"}},"-",{"$f":"(M152-K152)/(M127-K127)*(L127-K127)+K152","v":{"$error":"#VALUE!"}},0,{"$f":"(O152-M152)/(O127-M127)*(N127-M127)+M152","v":-629.99999999999966},210,{"$f":"(Q152-O152)/(Q127-O127)*(P127-O127)+O152","v":-30.000000000000057},{"$f":"O152+((U152-O152)/((U127-O127)*10))","v":330},{"$f":"(S152-Q152)/(S127-Q127)*(R127-Q127)+Q152","v":417.59999999999997},{"$f":"Q152+((U152-O152)/((U127-O127)*10))","v":450},{"$f":"(U152-S152)/(U127-S127)*(T127-S127)+S152","v":-30.000000000000114},570,{"$f":"(W152-U152)/(W127-U127)*(V127-U127)+U152","v":103.3333333333336},{"$f":"(Y152-U152)/(Y127-U127)*(W127-U127)+U152","v":663.33333333333326},{"$f":"(Y152-W152)/(Y127-W127)*(X127-W127)+W152","v":103.33333333333326},850,{"$f":"(AA152-Y152)/(AA127-Y127)*(Z127-Y127)+Y152","v":89.999999999999773},1040,{"$f":"(AC152-AA152)/(AC127-AA127)*(AB127-AA127)+AA152","v":289.99999999999989},1190,{"$f":"(AE152-AC152)/(AE127-AC127)*(AD127-AC127)+AC152","v":649.99999999999989},1280,{"$f":"(AG152-AE152)/(AG127-AE127)*(AF127-AE127)+AE152","v":790.00000000000045},1350,26]
[{"$f":"IF(AND(AL134>A152,AL134<A154)=TRUE,AL134,0)","v":0},null,{"$f":"(C154-C152)/(A154-A152)*(A153-A152)+C152","v":{"$error":"#VALUE!"}},{"$f":"(E153-C153)/(E127-C127)*(D127-C127)+C153","v":{"$error":"#VALUE!"}},{"$f":"(E154-E152)/(A154-A152)*(A153-A152)+E152","v":{"$error":"#VALUE!"}},{"$f":"(G153-E153)/(G127-E127)*(F127-E127)+E153","v":{"$error":"#VALUE!"}},{"$f":"(G154-G152)/(A154-A152)*(A153-A152)+G152","v":{"$error":"#VALUE!"}},{"$f":"(I153-G153)/(I127-G127)*(H127-G127)+G153","v":{"$error":"#VALUE!"}},{"$f":"(I154-I152)/(A154-A152)*(A153-A152)+I152","v":{"$error":"#VALUE!"}},{"$f":"(K153-I153)/(K127-I127)*(J127-I127)+I153","v":{"$error":"#VALUE!"}},{"$f":"(K154-K152)/(A154-A152)*(A153-A152)+K152","v":{"$error":"#VALUE!"}},{"$f":"(M153-K153)/(M127-K127)*(L127-K127)+K153","v":{"$error":"#VALUE!"}},{"$f":"(M154-M152)/(A154-A152)*(A153-A152)+M152","v":{"$error":"#VALUE!"}},{"$f":"(O153-M153)/(O127-M127)*(N127-M127)+M153","v":{"$error":"#VALUE!"}},{"$f":"(O154-O152)/(A154-A152)*(A153-A152)+O152","v":840},{"$f":"(Q153-O153)/(Q127-O127)*(P127-O127)+O153","v":1000},{"$f":"(Q154-Q152)/(A154-A152)*(A153-A152)+Q152","v":760},{"$f":"(S153-Q153)/(S127-Q127)*(R127-Q127)+Q153","v":701.6},{"$f":"(S154-S152)/(A154-A152)*(A153-A152)+S152","v":680},{"$f":"(U153-S153)/(U127-S127)*(T127-S127)+S153","v":1000.0000000000001},{"$f":"(U154-U152)/(A154-A152)*(A153-A152)+U152","v":600},{"$f":"(W153-U153)/(W127-U127)*(V127-U127)+U153","v":183.33333333333417},{"$f":"(W154-W152)/(A154-A152)*(A153-A152)+W152","v":683.33333333333314},{"$f":"(Y153-W153)/(Y127-W127)*(X127-W127)+W153","v":183.33333333333275},{"$f":"(Y154-Y152)/(A154-A152)*(A153-A152)+Y152","v":850},{"$f":"(AA153-Y153)/(AA127-Y127)*(Z127-Y127)+Y153","v":89.999999999999773},{"$f":"(AA154-AA152)/(A154-A152)*(A153-A152)+AA152","v":1040},{"$f":"(AC153-AA153)/(AC127-AA127)*(AB127-AA127)+AA153","v":289.99999999999989},{"$f":"(AC154-AC152)/(A154-A152)*(A153-A152)+AC152","v":1190},{"$f":"(AE153-AC153)/(AE127-AC127)*(AD127-AC127)+AC153","v":649.99999999999989},{"$f":"(AE154-AE152)/(A154-A152)*(A153-A152)+AE152","v":1280},{"$f":"(AG153-AE153)/(AG127-AE127)*(AF127-AE127)+AE153","v":790.00000000000045},{"$f":"(AG154-AG152)/(A154-A152)*(A153-A152)+AG152","v":1350},27]
[200,{"$f":"B152+1","v":13},"-",{"$f":"(E154-C154)/(E127-C127)*(D127-C127)+C154","v":{"$error":"#VALUE!"}},"-",{"$f":"(G154-E154)/(G127-E127)*(F127-E127)+E154","v":{"$error":"#VALUE!"}},"-",{"$f":"(I154-G154)/(I127-G127)*(H127-G127)+G154","v":{"$error":"#VALUE!"}},"-",{"$f":"(K154-I154)/(K127-I127)*(J127-I127)+I154","v":{"$error":"#VALUE!"}},"-",{"$f":"(M154-K154)/(M127-K127)*(L127-K127)+K154","v":{"$error":"#VALUE!"}},"-",{"$f":"(O154-M154)/(O127-M127)*(N127-M127)+M154","v":{"$error":"#VALUE!"}},0,{"$f":"(Q154-O154)/(Q127-O127)*(P127-O127)+O154","v":-373.33333333333343},{"$f":"O154+((U154-O154)/((U127-O127)*10))","v":186.66666666666666},{"$f":"(S154-Q154)/(S127-Q127)*(R127-Q127)+Q154","v":322.93333333333328},{"$f":"Q154+((U154-O154)/((U127-O127)*10))","v":373.33333333333331},{"$f":"(U154-S154)/(U127-S127)*(T127-S127)+S154","v":-373.33333333333366},560,{"$f":"(W154-U154)/(W127-U127)*(V127-U127)+U154","v":76.666666666666742},{"$f":"(Y154-U154)/(Y127-U127)*(W127-U127)+U154","v":656.66666666666663},{"$f":"(Y154-W154)/(Y127-W127)*(X127-W127)+W154","v":76.666666666666742},850,{"$f":"(AA154-Y154)/(AA127-Y127)*(Z127-Y127)+Y154","v":89.999999999999773},1040,{"$f":"(AC154-AA154)/(AC127-AA127)*(AB127-AA127)+AA154","v":289.99999999999989},1190,{"$f":"(AE154-AC154)/(AE127-AC127)*(AD127-AC127)+AC154","v":649.99999999999989},1280,{"$f":"(AG154-AE154)/(AG127-AE127)*(AF127-AE127)+AE154","v":790.00000000000045},1350,28]
[{"$f":"IF(AND(AL134>A154,AL134<A156)=TRUE,AL134,0)","v":0},null,{"$f":"(C156-C154)/(A156-A154)*(A155-A154)+C154","v":{"$error":"#VALUE!"}},{"$f":"(E155-C155)/(E127-C127)*(D127-C127)+C155","v":{"$error":"#VALUE!"}},{"$f":"(E156-E154)/(A156-A154)*(A155-A154)+E154","v":{"$error":"#VALUE!"}},{"$f":"(G155-E155)/(G127-E127)*(F127-E127)+E155","v":{"$error":"#VALUE!"}},{"$f":"(G156-G154)/(A156-A154)*(A155-A154)+G154","v":{"$error":"#VALUE!"}},{"$f":"(I155-G155)/(I127-G127)*(H127-G127)+G155","v":{"$error":"#VALUE!"}},{"$f":"(I156-I154)/(A156-A154)*(A155-A154)+I154","v":{"$error":"#VALUE!"}},{"$f":"(K155-I155)/(K127-I127)*(J127-I127)+I155","v":{"$error":"#VALUE!"}},{"$f":"(K156-K154)/(A156-A154)*(A155-A154)+K154","v":{"$error":"#VALUE!"}},{"$f":"(M155-K155)/(M127-K127)*(L127-K127)+K155","v":{"$error":"#VALUE!"}},{"$f":"(M156-M154)/(A156-A154)*(A155-A154)+M154","v":{"$error":"#VALUE!"}},{"$f":"(O155-M155)/(O127-M127)*(N127-M127)+M155","v":{"$error":"#VALUE!"}},{"$f":"(O156-O154)/(A156-A154)*(A155-A154)+O154","v":{"$error":"#VALUE!"}},{"$f":"(Q155-O155)/(Q127-O127)*(P127-O127)+O155","v":{"$error":"#VALUE!"}},{"$f":"(Q156-Q154)/(A156-A154)*(A155-A154)+Q154","v":560},{"$f":"(S155-Q155)/(S127-Q127)*(R127-Q127)+Q155","v":585.54999999999995},{"$f":"(S156-S154)/(A156-A154)*(A155-A154)+S154","v":595},{"$f":"(U155-S155)/(U127-S127)*(T127-S127)+S155","v":455},{"$f":"(U156-U154)/(A156-A154)*(A155-A154)+U154","v":630},{"$f":"(W155-U155)/(W127-U127)*(V127-U127)+U155","v":263.33333333333309},{"$f":"(W156-W154)/(A156-A154)*(A155-A154)+W154","v":703.33333333333337},{"$f":"(Y155-W155)/(Y127-W127)*(X127-W127)+W155","v":263.33333333333366},{"$f":"(Y156-Y154)/(A156-A154)*(A155-A154)+Y154","v":850},{"$f":"(AA155-Y155)/(AA127-Y127)*(Z127-Y127)+Y155","v":89.999999999999773},{"$f":"(AA156-AA154)/(A156-A154)*(A155-A154)+AA154","v":1040},{"$f":"(AC155-AA155)/(AC127-AA127)*(AB127-AA127)+AA155","v":289.99999999999989},{"$f":"(AC156-AC154)/(A156-A154)*(A155-A154)+AC154","v":1190},{"$f":"(AE155-AC155)/(AE127-AC127)*(AD127-AC127)+AC155","v":649.99999999999989},{"$f":"(AE156-AE154)/(A156-A154)*(A155-A154)+AE154","v":1280},{"$f":"(AG155-AE155)/(AG127-AE127)*(AF127-AE127)+AE155","v":790.00000000000045},{"$f":"(AG156-AG154)/(A156-A154)*(A155-A154)+AG154","v":1350},29]
[300,{"$f":"B154+1","v":14},"-",{"$f":"(E156-C156)/(E127-C127)*(D127-C127)+C156","v":{"$error":"#VALUE!"}},"-",{"$f":"(G156-E156)/(G127-E127)*(F127-E127)+E156","v":{"$error":"#VALUE!"}},"-",{"$f":"(I156-G156)/(I127-G127)*(H127-G127)+G156","v":{"$error":"#VALUE!"}},"-",{"$f":"(K156-I156)/(K127-I127)*(J127-I127)+I156","v":{"$error":"#VALUE!"}},"-",{"$f":"(M156-K156)/(M127-K127)*(L127-K127)+K156","v":{"$error":"#VALUE!"}},"-",{"$f":"(O156-M156)/(O127-M127)*(N127-M127)+M156","v":{"$error":"#VALUE!"}},"-",{"$f":"(Q156-O156)/(Q127-O127)*(P127-O127)+O156","v":{"$error":"#VALUE!"}},0,{"$f":"(S156-Q156)/(S127-Q127)*(R127-Q127)+Q156","v":191.62499999999997},{"$f":"Q156+((U156-Q156)/((U127-Q127)*10))","v":262.5},{"$f":"(U156-S156)/(U127-S127)*(T127-S127)+S156","v":-787.50000000000023},525,{"$f":"(W156-U156)/(W127-U127)*(V127-U127)+U156","v":-16.666666666666401},{"$f":"(Y156-U156)/(Y127-U127)*(W127-U127)+U156","v":633.33333333333326},{"$f":"(Y156-W156)/(Y127-W127)*(X127-W127)+W156","v":-16.666666666666629},850,{"$f":"(AA156-Y156)/(AA127-Y127)*(Z127-Y127)+Y156","v":89.999999999999773},1040,{"$f":"(AC156-AA156)/(AC127-AA127)*(AB127-AA127)+AA156","v":289.99999999999989},1190,{"$f":"(AE156-AC156)/(AE127-AC127)*(AD127-AC127)+AC156","v":649.99999999999989},1280,{"$f":"(AG156-AE156)/(AG127-AE127)*(AF127-AE127)+AE156","v":790.00000000000045},1350,30]
[{"$f":"IF(AND(AL134>A156,AL134<A158)=TRUE,AL134,0)","v":0},null,{"$f":"(C158-C154)/(A158-A154)*(A157-A154)+C154","v":{"$error":"#VALUE!"}},{"$f":"(E157-C157)/(E127-C127)*(D127-C127)+C157","v":{"$error":"#VALUE!"}},{"$f":"(E158-E154)/(A158-A154)*(A157-A154)+E154","v":{"$error":"#VALUE!"}},{"$f":"(G157-E157)/(G127-E127)*(F127-E127)+E157","v":{"$error":"#VALUE!"}},{"$f":"(G158-G154)/(A158-A154)*(A157-A154)+G154","v":{"$error":"#VALUE!"}},{"$f":"(I157-G157)/(I127-G127)*(H127-G127)+G157","v":{"$error":"#VALUE!"}},{"$f":"(I158-I154)/(A158-A154)*(A157-A154)+I154","v":{"$error":"#VALUE!"}},{"$f":"(K157-I157)/(K127-I127)*(J127-I127)+I157","v":{"$error":"#VALUE!"}},{"$f":"(K158-K154)/(A158-A154)*(A157-A154)+K154","v":{"$error":"#VALUE!"}},{"$f":"(M157-K157)/(M127-K127)*(L127-K127)+K157","v":{"$error":"#VALUE!"}},{"$f":"(M158-M154)/(A158-A154)*(A157-A154)+M154","v":{"$error":"#VALUE!"}},{"$f":"(O157-M157)/(O127-M127)*(N127-M127)+M157","v":{"$error":"#VALUE!"}},{"$f":"(O158-O154)/(A158-A154)*(A157-A154)+O154","v":{"$error":"#VALUE!"}},{"$f":"(Q157-O157)/(Q127-O127)*(P127-O127)+O157","v":{"$error":"#VALUE!"}},{"$f":"(Q158-Q156)/(A158-A156)*(A157-A156)+Q156","v":{"$error":"#VALUE!"}},{"$f":"(S157-Q157)/(S127-Q127)*(R127-Q127)+Q157","v":{"$error":"#VALUE!"}},{"$f":"(S158-S156)/(A158-A156)*(A157-A156)+S156","v":1050},{"$f":"(U157-S157)/(U127-S127)*(T127-S127)+S157","v":2830.0000000000005},{"$f":"(U158-U154)/(A158-A154)*(A157-A154)+U154","v":605},{"$f":"(W157-U157)/(W127-U127)*(V127-U127)+U157","v":196.66666666666674},{"$f":"(W158-W154)/(A158-A154)*(A157-A154)+W154","v":686.66666666666663},{"$f":"(Y157-W157)/(Y127-W127)*(X127-W127)+W157","v":196.66666666666669},{"$f":"(Y158-Y154)/(A158-A154)*(A157-A154)+Y154","v":850},{"$f":"(AA157-Y157)/(AA127-Y127)*(Z127-Y127)+Y157","v":89.999999999999773},{"$f":"(AA158-AA154)/(A158-A154)*(A157-A154)+AA154","v":1040},{"$f":"(AC157-AA157)/(AC127-AA127)*(AB127-AA127)+AA157","v":289.99999999999989},{"$f":"(AC158-AC154)/(A158-A154)*(A157-A154)+AC154","v":1190},{"$f":"(AE157-AC157)/(AE127-AC127)*(AD127-AC127)+AC157","v":649.99999999999989},{"$f":"(AE158-AE154)/(A158-A154)*(A157-A154)+AE154","v":1280},{"$f":"(AG157-AE157)/(AG127-AE127)*(AF127-AE127)+AE157","v":790.00000000000045},{"$f":"(AG158-AG154)/(A158-A154)*(A157-A154)+AG154","v":1350},31]
[400,15,"-",{"$f":"(E158-C158)/(E127-C127)*(D127-C127)+C158","v":{"$error":"#VALUE!"}},"-",{"$f":"(G158-E158)/(G127-E127)*(F127-E127)+E158","v":{"$error":"#VALUE!"}},"-",{"$f":"(I158-G158)/(I127-G127)*(H127-G127)+G158","v":{"$error":"#VALUE!"}},"-",{"$f":"(K158-I158)/(K127-I127)*(J127-I127)+I158","v":{"$error":"#VALUE!"}},"-",{"$f":"(M158-K158)/(M127-K127)*(L127-K127)+K158","v":{"$error":"#VALUE!"}},"-",{"$f":"(O158-M158)/(O127-M127)*(N127-M127)+M158","v":{"$error":"#VALUE!"}},"-",{"$f":"(Q158-O158)/(Q127-O127)*(P127-O127)+O158","v":{"$error":"#VALUE!"}},"-",{"$f":"(S158-Q158)/(S127-Q127)*(R127-Q127)+Q158","v":{"$error":"#VALUE!"}},0,{"$f":"(U158-S158)/(U127-S127)*(T127-S127)+S158","v":-2060.0000000000005},515,{"$f":"(W158-U158)/(W127-U127)*(V127-U127)+U158","v":-43.333333333333258},{"$f":"(Y158-U158)/(Y127-U127)*(W127-U127)+U158","v":626.66666666666663},{"$f":"(Y158-W158)/(Y127-W127)*(X127-W127)+W158","v":-43.333333333333258},850,{"$f":"(AA158-Y158)/(AA127-Y127)*(Z127-Y127)+Y158","v":89.999999999999773},1040,{"$f":"(AC158-AA158)/(AC127-AA127)*(AB127-AA127)+AA158","v":289.99999999999989},1190,{"$f":"(AE158-AC158)/(AE127-AC127)*(AD127-AC127)+AC158","v":649.99999999999989},1280,{"$f":"(AG158-AE158)/(AG127-AE127)*(AF127-AE127)+AE158","v":790.00000000000045},1350,32]
[null,null,null,null,null,null,null,null,null,null,null,null,null,null,null,null,null,null,null,null,null,null,null,null,null,null,null,null,null,null,null,null,null,33]
["COL",null,3,{"$f":"C123+1","v":4},{"$f":"D123+1","v":5},6,7,8,9,10,11,12,13,{"$f":"M123+1","v":14},{"$f":"N123+1","v":15},{"$f":"O123+1","v":16},17,18,19,20,21,22,23,24,25,26,27,28,{"$f":"AB160+1","v":29},{"$f":"AC160+1","v":30},31,32,33,34]
[null,null,1,2,null,3,null,4,null,5,null,6,null,7,null,8,null,9,null,10,null,11,null,12,null,13,null,14,null,15,null,16]
[]
[]
[null,"Рвх",5.0000000000000001E-3,{"$f":"IF(AND(AS171>C164,AS171<E164)=TRUE,AS171,0)","v":0},0.01,{"$f":"IF(AND(AS171>E164,AS171<G164)=TRUE,AS171,0)","v":0},1.4999999999999999E-2,{"$f":"IF(AND(AS171>G164,AS171<I164)=TRUE,AS171,0)","v":0},0.02,{"$f":"IF(AND(AS171>I164,AS171<K164)=TRUE,AS171,0)","v":0},0.03,{"$f":"IF(AND(AS171>K164,AS171<M164)=TRUE,AS171,0)","v":0},0.04,{"$f":"IF(AND(AS171>M164,AS171<O164)=TRUE,AS171,0)","v":0},0.05,{"$f":"IF(AND(AS171>O164,AS171<Q164)=TRUE,AS171,0)","v":0},0.06,{"$f":"IF(AND(AS171>Q164,AS171<S164)=TRUE,AS171,0)","v":0},7.0000000000000007E-2,{"$f":"IF(AND(AS171>S164,AS171<U164)=TRUE,AS171,0)","v":0},0.08,{"$f":"IF(AND(AS171>U164,AS171<W164)=TRUE,AS171,0)","v":0},0.1,{"$f":"IF(AND(AS171>W164,AS171<Y164)=TRUE,AS171,0)","v":0},0.125,{"$f":"IF(AND(AS171>Y164,AS171<AA164)=TRUE,AS171,0)","v":0},0.15,{"$f":"IF(AND(AS171>AA164,AS171<AC164)=TRUE,AS171,0)","v":0},0.2,{"$f":"IF(AND(AS171>AC164,AS171<AE164)=TRUE,AS171,0)","v":0},0.3,{"$f":"IF(AND(AS171>AE164,AS171<AG164)=TRUE,AS171,0)","v":0.373},0.4,{"$f":"IF(AND(AS171>AG164,AS171<AI164)=TRUE,AS171,0)","v":0},0.5,{"$f":"IF(AND(AS171>AI164,AS171<AK164)=TRUE,AS171,0)","v":0},0.6,{"$f":"IF(AND(AS171>AK164,AS171<AM164)=TRUE,AS171,0)","v":0},0.8,{"$f":"IF(AND(AS171>AM164,AS171<AO164)=TRUE,AS171,0)","v":0},1.2,{"$f":"IF(AND(AS171>AO164,AS171<AQ164)=TRUE,AS171,0)","v":0},1.6,1]
["Рвых","МПа",null,null,null,null,null,null,null,null,null,null,null,null,null,null,null,null,null,null,null,null,null,null,null,null,null,null,null,null,null,null,null,null,null,null,null,null,null,null,null,null,null,{"$f":"AR164+1","v":2}]
["кПа",null,null,null,null,null,null,null,null,null,null,null,null,null,null,null,null,null,null,null,null,null,null,null,null,null,null,null,null,null,null,null,null,null,null,null,null,null,null,null,null,null,null,{"$f":"AR165+1","v":3}]
[2,1,60,{"$f":"(E167-C167)/(E164-C164)*(D164-C164)+C167","v":10},110,{"$f":"(G167-E167)/(G164-E164)*(F164-E164)+E167","v":49.999999999999993},140,{"$f":"(I167-G167)/(I164-G164)*(H164-G164)+G167","v":-39.999999999999972},200,{"$f":"(K167-I167)/(K164-I164)*(J164-I164)+I167","v":99.999999999999986},250,{"$f":"(M167-K167)/(M164-K164)*(L164-K164)+K167","v":130.00000000000003},290,{"$f":"(O167-M167)/(O164-M164)*(N164-M164)+M167","v":170},320,{"$f":"(Q167-O167)/(Q164-O164)*(P164-O164)+O167","v":169.99999999999991},350,{"$f":"(S167-Q167)/(S164-Q164)*(R164-Q164)+Q167","v":170.00000000000017},380,{"$f":"(U167-S167)/(U164-S164)*(T164-S164)+S167","v":169.99999999999989},410,{"$f":"(W167-U167)/(W164-U164)*(V164-U164)+U167","v":250.00000000000003},450,{"$f":"(Y167-W167)/(Y164-W164)*(X164-W164)+W167","v":169.99999999999994},520,{"$f":"(AA167-Y167)/(AA164-Y164)*(Z164-Y164)+Y167","v":219.99999999999994},580,{"$f":"(AC167-AA167)/(AC164-AA164)*(AB164-AA164)+AA167","v":220.00000000000017},700,{"$f":"(AE167-AC167)/(AE164-AC164)*(AD164-AC164)+AC167","v":259.99999999999989},920,{"$f":"(AG167-AE167)/(AG164-AE164)*(AF164-AE164)+AE167","v":978.4},1000,{"$f":"(AI167-AG167)/(AI164-AG164)*(AH164-AG164)+AG167","v":1000},1000,{"$f":"(AK167-AI167)/(AK164-AI164)*(AJ164-AI164)+AI167","v":1000},1000,{"$f":"(AM167-AK167)/(AM164-AK164)*(AL164-AK164)+AK167","v":{"$error":"#VALUE!"}},"-",{"$f":"(AO167-AM167)/(AO164-AM164)*(AN164-AM164)+AM167","v":{"$error":"#VALUE!"}},"-",{"$f":"(AQ167-AO167)/(AQ164-AO164)*(AP164-AO164)+AO167","v":{"$error":"#VALUE!"}},"-",4,"Рвх","Q","Qcрасч","Рвых","Рвых"]
[{"$f":"IF(AND(AV171>A167,AV171<A169)=TRUE,AV171,0)","v":0},null,{"$f":"(C169-C167)/(A169-A167)*(A168-A167)+C167","v":60},{"$f":"(E168-C168)/(E164-C164)*(D164-C164)+C168","v":10},{"$f":"(E169-E167)/(A169-A167)*(A168-A167)+E167","v":110},{"$f":"(G168-E168)/(G164-E164)*(F164-E164)+E168","v":49.999999999999993},{"$f":"(G169-G167)/(A169-A167)*(A168-A167)+G167","v":140},{"$f":"(I168-G168)/(I164-G164)*(H164-G164)+G168","v":-39.999999999999972},{"$f":"(I169-I167)/(A169-A167)*(A168-A167)+I167","v":200},{"$f":"(K168-I168)/(K164-I164)*(J164-I164)+I168","v":99.999999999999986},{"$f":"(K169-K167)/(A169-A167)*(A168-A167)+K167","v":250},{"$f":"(M168-K168)/(M164-K164)*(L164-K164)+K168","v":130.00000000000003},{"$f":"(M169-M167)/(A169-A167)*(A168-A167)+M167","v":290},{"$f":"(O168-M168)/(O164-M164)*(N164-M164)+M168","v":170},{"$f":"(O169-O167)/(A169-A167)*(A168-A167)+O167","v":320},{"$f":"(Q168-O168)/(Q164-O164)*(P164-O164)+O168","v":169.99999999999991},{"$f":"(Q169-Q167)/(A169-A167)*(A168-A167)+Q167","v":350},{"$f":"(S168-Q168)/(S164-Q164)*(R164-Q164)+Q168","v":170.00000000000017},{"$f":"(S169-S167)/(A169-A167)*(A168-A167)+S167","v":380},{"$f":"(U168-S168)/(U164-S164)*(T164-S164)+S168","v":169.99999999999989},{"$f":"(U169-U167)/(A169-A167)*(A168-A167)+U167","v":410},{"$f":"(W168-U168)/(W164-U164)*(V164-U164)+U168","v":250.00000000000003},{"$f":"(W169-W167)/(A169-A167)*(A168-A167)+W167","v":450},{"$f":"(Y168-W168)/(Y164-W164)*(X164-W164)+W168","v":169.99999999999994},{"$f":"(Y169-Y167)/(A169-A167)*(A168-A167)+Y167","v":520},{"$f":"(AA168-Y168)/(AA164-Y164)*(Z164-Y164)+Y168","v":219.99999999999994},{"$f":"(AA169-AA167)/(A169-A167)*(A168-A167)+AA167","v":580},{"$f":"(AC168-AA168)/(AC164-AA164)*(AB164-AA164)+AA168","v":220.00000000000017},{"$f":"(AC169-AC167)/(A169-A167)*(A168-A167)+AC167","v":700},{"$f":"(AE168-AC168)/(AE164-AC164)*(AD164-AC164)+AC168","v":259.99999999999989},{"$f":"(AE169-AE167)/(A169-A167)*(A168-A167)+AE167","v":920},{"$f":"(AG168-AE168)/(AG164-AE164)*(AF164-AE164)+AE168","v":978.4},{"$f":"(AG169-AG167)/(A169-A167)*(A168-A167)+AG167","v":1000},{"$f":"(AI168-AG168)/(AI164-AG164)*(AH164-AG164)+AG168","v":1000},{"$f":"(AI169-AI167)/(A169-A167)*(A168-A167)+AI167","v":1000},{"$f":"(AK168-AI168)/(AK164-AI164)*(AJ164-AI164)+AI168","v":1000},{"$f":"(AK169-AK167)/(A169-A167)*(A168-A167)+AK167","v":1000},{"$f":"(AM168-AK168)/(AM164-AK164)*(AL164-AK164)+AK168","v":{"$error":"#VALUE!"}},{"$f":"(AM169-AM167)/(A169-A167)*(A168-A167)+AM167","v":{"$error":"#VALUE!"}},{"$f":"(AO168-AM168)/(AO164-AM164)*(AN164-AM164)+AM168","v":{"$error":"#VALUE!"}},{"$f":"(AO169-AO167)/(A169-A167)*(A168-A167)+AO167","v":{"$error":"#VALUE!"}},{"$f":"(AQ168-AO168)/(AQ164-AO164)*(AP164-AO164)+AO168","v":{"$error":"#VALUE!"}},{"$f":"(AQ169-AQ167)/(A169-A167)*(A168-A167)+AQ167","v":{"$error":"#VALUE!"}},5]
[3,{"$f":"B167+1","v":2},60,{"$f":"(E169-C169)/(E164-C164)*(D164-C164)+C169","v":10},110,{"$f":"(G169-E169)/(G164-E164)*(F164-E164)+E169","v":49.999999999999993},140,{"$f":"(I169-G169)/(I164-G164)*(H164-G164)+G169","v":-39.999999999999972},200,{"$f":"(K169-I169)/(K164-I164)*(J164-I164)+I169","v":99.999999999999986},250,{"$f":"(M169-K169)/(M164-K164)*(L164-K164)+K169","v":130.00000000000003},290,{"$f":"(O169-M169)/(O164-M164)*(N164-M164)+M169","v":170},320,{"$f":"(Q169-O169)/(Q164-O164)*(P164-O164)+O169","v":169.99999999999991},350,{"$f":"(S169-Q169)/(S164-Q164)*(R164-Q164)+Q169","v":170.00000000000017},380,{"$f":"(U169-S169)/(U164-S164)*(T164-S164)+S169","v":169.99999999999989},410,{"$f":"(W169-U169)/(W164-U164)*(V164-U164)+U169","v":250.00000000000003},450,{"$f":"(Y169-W169)/(Y164-W164)*(X164-W164)+W169","v":169.99999999999994},520,{"$f":"(AA169-Y169)/(AA164-Y164)*(Z164-Y164)+Y169","v":219.99999999999994},580,{"$f":"(AC169-AA169)/(AC164-AA164)*(AB164-AA164)+AA169","v":220.00000000000017},700,{"$f":"(AE169-AC169)/(AE164-AC164)*(AD164-AC164)+AC169","v":259.99999999999989},920,{"$f":"(AG169-AE169)/(AG164-AE164)*(AF164-AE164)+AE169","v":978.4},1000,{"$f":"(AI169-AG169)/(AI164-AG164)*(AH164-AG164)+AG169","v":1000},1000,{"$f":"(AK169-AI169)/(AK164-AI164)*(AJ164-AI164)+AI169","v":1000},1000,{"$f":"(AM169-AK169)/(AM164-AK164)*(AL164-AK164)+AK169","v":{"$error":"#VALUE!"}},"-",{"$f":"(AO169-AM169)/(AO164-AM164)*(AN164-AM164)+AM169","v":{"$error":"#VALUE!"}},"-",{"$f":"(AQ169-AO169)/(AQ164-AO164)*(AP164-AO164)+AO169","v":{"$error":"#VALUE!"}},"-",6,"МПа","нм3/час","нм3/час","кПа","кПа"]
[{"$f":"IF(AND(AV171>A169,AV171<A171)=TRUE,AV171,0)","v":0},null,{"$f":"(C171-C169)/(A171-A169)*(A170-A169)+C169","v":150},{"$f":"(E170-C170)/(E164-C164)*(D164-C164)+C170","v":160},{"$f":"(E171-E169)/(A171-A169)*(A170-A169)+E169","v":140},{"$f":"(G170-E170)/(G164-E164)*(F164-E164)+E170","v":95},{"$f":"(G171-G169)/(A171-A169)*(A170-A169)+G169","v":162.5},{"$f":"(I170-G170)/(I164-G164)*(H164-G164)+G170","v":5.0000000000000284},{"$f":"(I171-I169)/(A171-A169)*(A170-A169)+I169","v":215},{"$f":"(K170-I170)/(K164-I164)*(J164-I164)+I170","v":114.99999999999999},{"$f":"(K171-K169)/(A171-A169)*(A170-A169)+K169","v":265},{"$f":"(M170-K170)/(M164-K164)*(L164-K164)+K170","v":145.00000000000003},{"$f":"(M171-M169)/(A171-A169)*(A170-A169)+M169","v":305},{"$f":"(O170-M170)/(O164-M164)*(N164-M164)+M170","v":185},{"$f":"(O171-O169)/(A171-A169)*(A170-A169)+O169","v":335},{"$f":"(Q170-O170)/(Q164-O164)*(P164-O164)+O170","v":184.99999999999991},{"$f":"(Q171-Q169)/(A171-A169)*(A170-A169)+Q169","v":365},{"$f":"(S170-Q170)/(S164-Q164)*(R164-Q164)+Q170","v":275.00000000000011},{"$f":"(S171-S169)/(E171-E169)*(E170-E169)+S169","v":380},{"$f":"(U170-S170)/(U164-S164)*(T164-S164)+S170","v":169.99999999999989},{"$f":"(U171-U169)/(G171-G169)*(G170-G169)+U169","v":410},{"$f":"(W170-U170)/(W164-U164)*(V164-U164)+U170","v":250.00000000000003},{"$f":"(W171-W169)/(I171-I169)*(I170-I169)+W169","v":450},{"$f":"(Y170-W170)/(Y164-W164)*(X164-W164)+W170","v":169.99999999999994},{"$f":"(Y171-Y169)/(A171-A169)*(A170-A169)+Y169","v":520},{"$f":"(AA170-Y170)/(AA164-Y164)*(Z164-Y164)+Y170","v":219.99999999999994},{"$f":"(AA171-AA169)/(E171-E169)*(E170-E169)+AA169","v":580},{"$f":"(AC170-AA170)/(AC164-AA164)*(AB164-AA164)+AA170","v":220.00000000000017},{"$f":"(AC171-AC169)/(A171-A169)*(A170-A169)+AC169","v":700},{"$f":"(AE170-AC170)/(AE164-AC164)*(AD164-AC164)+AC170","v":259.99999999999989},{"$f":"(AE171-AE169)/(A171-A169)*(A170-A169)+AE169","v":920},{"$f":"(AG170-AE170)/(AG164-AE164)*(AF164-AE164)+AE170","v":978.4},{"$f":"(AG171-AG169)/(A171-A169)*(A170-A169)+AG169","v":1000},{"$f":"(AI170-AG170)/(AI164-AG164)*(AH164-AG164)+AG170","v":1000},{"$f":"(AI171-AI169)/(A171-A169)*(A170-A169)+AI169","v":1000},{"$f":"(AK170-AI170)/(AK164-AI164)*(AJ164-AI164)+AI170","v":1000},{"$f":"(AK171-AK169)/(A171-A169)*(A170-A169)+AK169","v":1000},{"$f":"(AM170-AK170)/(AM164-AK164)*(AL164-AK164)+AK170","v":{"$error":"#VALUE!"}},{"$f":"(AM171-AM169)/(A171-A169)*(A170-A169)+AM169","v":{"$error":"#VALUE!"}},{"$f":"(AO170-AM170)/(AO164-AM164)*(AN164-AM164)+AM170","v":{"$error":"#VALUE!"}},{"$f":"(AO171-AO169)/(A171-A169)*(A170-A169)+AO169","v":{"$error":"#VALUE!"}},{"$f":"(AQ170-AO170)/(AQ164-AO164)*(AP164-AO164)+AO170","v":{"$error":"#VALUE!"}},{"$f":"(AQ171-AQ169)/(A171-A169)*(A170-A169)+AQ169","v":{"$error":"#VALUE!"}},7]
[5,{"$f":"B169+1","v":3},0,{"$f":"(E171-C171)/(E164-C164)*(D164-C164)+C171","v":-90},90,{"$f":"(G171-E171)/(G164-E164)*(F164-E164)+E171","v":19.999999999999986},125,{"$f":"(I171-G171)/(I164-G164)*(H164-G164)+G171","v":-69.999999999999972},190,{"$f":"(K171-I171)/(K164-I164)*(J164-I164)+I171","v":89.999999999999986},240,{"$f":"(M171-K171)/(M164-K164)*(L164-K164)+K171","v":120.00000000000003},280,{"$f":"(O171-M171)/(O164-M164)*(N164-M164)+M171","v":160},310,{"$f":"(Q171-O171)/(Q164-O164)*(P164-O164)+O171","v":159.99999999999991},340,{"$f":"(S171-Q171)/(S164-Q164)*(R164-Q164)+Q171","v":100.00000000000023},380,{"$f":"(U171-S171)/(U164-S164)*(T164-S164)+S171","v":169.99999999999989},410,{"$f":"(W171-U171)/(W164-U164)*(V164-U164)+U171","v":250.00000000000003},450,{"$f":"(Y171-W171)/(Y164-W164)*(X164-W164)+W171","v":169.99999999999994},520,{"$f":"(AA171-Y171)/(AA164-Y164)*(Z164-Y164)+Y171","v":219.99999999999994},580,{"$f":"(AC171-AA171)/(AC164-AA164)*(AB164-AA164)+AA171","v":220.00000000000017},700,{"$f":"(AE171-AC171)/(AE164-AC164)*(AD164-AC164)+AC171","v":259.99999999999989},920,{"$f":"(AG171-AE171)/(AG164-AE164)*(AF164-AE164)+AE171","v":978.4},1000,{"$f":"(AI171-AG171)/(AI164-AG164)*(AH164-AG164)+AG171","v":1000},1000,{"$f":"(AK171-AI171)/(AK164-AI164)*(AJ164-AI164)+AI171","v":1000},1000,{"$f":"(AM171-AK171)/(AM164-AK164)*(AL164-AK164)+AK171","v":{"$error":"#VALUE!"}},"-",{"$f":"(AO171-AM171)/(AO164-AM164)*(AN164-AM164)+AM171","v":{"$error":"#VALUE!"}},"-",{"$f":"(AQ171-AO171)/(AQ164-AO164)*(AP164-AO164)+AO171","v":{"$error":"#VALUE!"}},"-",8,{"$f":"AK21","v":0.373},{"$f":"AL21","v":229.2},{"$f":"VLOOKUP(AV171,A164:AQ201,HLOOKUP(AS171,A164:AQ201,38,0),0)","v":729.99999999999977},{"$f":"AN21","v":300},{"$f":"IF(AS171<A167,\"NO\",IF(AS171>A199,\"N0\",IF(VLOOKUP(AS171,A167:AQ199,3,0)>AT171,\"NO\",IF(VLOOKUP(AS171,A167:AQ199,17,0)<AT171,\"NO\",IF(AND(AU171>=AT171-0.1,AU171<AT171+0.1)=TRUE,AV171,\"NO\")))))","v":"NO"}]
[{"$f":"IF(AND(AV171>A171,AV171<A173)=TRUE,AV171,0)","v":0},null,{"$f":"(C173-C171)/(A173-A171)*(A172-A171)+C171","v":{"$error":"#VALUE!"}},{"$f":"(E172-C172)/(E164-C164)*(D164-C164)+C172","v":{"$error":"#VALUE!"}},{"$f":"(E173-E171)/(A173-A171)*(A172-A171)+E171","v":140},{"$f":"(G172-E172)/(G164-E164)*(F164-E164)+E172","v":120},{"$f":"(G173-G171)/(A173-A171)*(A172-A171)+G171","v":150},{"$f":"(I172-G172)/(I164-G164)*(H164-G164)+G172","v":-69.999999999999972},{"$f":"(I173-I171)/(A173-A171)*(A172-A171)+I171","v":223.33333333333334},{"$f":"(K172-I172)/(K164-I164)*(J164-I164)+I172","v":156.66666666666663},{"$f":"(K173-K171)/(A173-A171)*(A172-A171)+K171","v":256.66666666666669},{"$f":"(M172-K172)/(M164-K164)*(L164-K164)+K172","v":136.66666666666671},{"$f":"(M173-M171)/(A173-A171)*(A172-A171)+M171","v":296.66666666666669},{"$f":"(O172-M172)/(O164-M164)*(N164-M164)+M172","v":243.33333333333343},{"$f":"(O173-O171)/(A173-A171)*(A172-A171)+O171","v":310},{"$f":"(Q172-O172)/(Q164-O164)*(P164-O164)+O172","v":159.99999999999991},{"$f":"(Q173-Q171)/(A173-A171)*(A172-A171)+Q171","v":340},{"$f":"(S172-Q172)/(S164-Q164)*(R164-Q164)+Q172","v":100.00000000000023},{"$f":"(S173-S171)/(A173-A171)*(A172-A171)+S171","v":380},{"$f":"(U172-S172)/(U164-S164)*(T164-S164)+S172","v":53.33333333333303},{"$f":"(U173-U171)/(G173-G171)*(G172-G171)+U171","v":426.66666666666669},{"$f":"(W172-U172)/(W164-U164)*(V164-U164)+U172","v":333.33333333333343},{"$f":"(W173-W171)/(I173-I171)*(I172-I171)+W171","v":450},{"$f":"(Y172-W172)/(Y164-W164)*(X164-W164)+W172","v":169.99999999999994},{"$f":"(Y173-Y171)/(A173-A171)*(A172-A171)+Y171","v":520},{"$f":"(AA172-Y172)/(AA164-Y164)*(Z164-Y164)+Y172","v":219.99999999999994},{"$f":"(AA173-AA171)/(A173-A171)*(A172-A171)+AA171","v":580},{"$f":"(AC172-AA172)/(AC164-AA164)*(AB164-AA164)+AA172","v":220.00000000000017},{"$f":"(AC173-AC171)/(A173-A171)*(A172-A171)+AC171","v":700},{"$f":"(AE172-AC172)/(AE164-AC164)*(AD164-AC164)+AC172","v":259.99999999999989},{"$f":"(AE173-AE171)/(A173-A171)*(A172-A171)+AE171","v":920},{"$f":"(AG172-AE172)/(AG164-AE164)*(AF164-AE164)+AE172","v":978.4},{"$f":"(AG173-AG171)/(A173-A171)*(A172-A171)+AG171","v":1000},{"$f":"(AI172-AG172)/(AI164-AG164)*(AH164-AG164)+AG172","v":1000},{"$f":"(AI173-AI171)/(A173-A171)*(A172-A171)+AI171","v":1000},{"$f":"(AK172-AI172)/(AK164-AI164)*(AJ164-AI164)+AI172","v":1000},{"$f":"(AK173-AK171)/(A173-A171)*(A172-A171)+AK171","v":1000},{"$f":"(AM172-AK172)/(AM164-AK164)*(AL164-AK164)+AK172","v":{"$error":"#VALUE!"}},{"$f":"(AM173-AM171)/(A173-A171)*(A172-A171)+AM171","v":{"$error":"#VALUE!"}},{"$f":"(AO172-AM172)/(AO164-AM164)*(AN164-AM164)+AM172","v":{"$error":"#VALUE!"}},{"$f":"(AO173-AO171)/(A173-A171)*(A172-A171)+AO171","v":{"$error":"#VALUE!"}},{"$f":"(AQ172-AO172)/(AQ164-AO164)*(AP164-AO164)+AO172","v":{"$error":"#VALUE!"}},{"$f":"(AQ173-AQ171)/(A173-A171)*(A172-A171)+AQ171","v":{"$error":"#VALUE!"}},9]
[8,{"$f":"B171+1","v":4},"-",{"$f":"(E173-C173)/(E164-C164)*(D164-C164)+C173","v":{"$error":"#VALUE!"}},60,{"$f":"(G173-E173)/(G164-E164)*(F164-E164)+E173","v":-40.000000000000014},110,{"$f":"(I173-G173)/(I164-G164)*(H164-G164)+G173","v":-69.999999999999972},170,{"$f":"(K173-I173)/(K164-I164)*(J164-I164)+I173","v":49.999999999999986},230,{"$f":"(M173-K173)/(M164-K164)*(L164-K164)+K173","v":110.00000000000003},270,{"$f":"(O173-M173)/(O164-M164)*(N164-M164)+M173","v":110.00000000000003},310,{"$f":"(Q173-O173)/(Q164-O164)*(P164-O164)+O173","v":159.99999999999991},340,{"$f":"(S173-Q173)/(S164-Q164)*(R164-Q164)+Q173","v":100.00000000000023},380,{"$f":"(U173-S173)/(U164-S164)*(T164-S164)+S173","v":239.99999999999991},400,{"$f":"(W173-U173)/(W164-U164)*(V164-U164)+U173","v":200.00000000000003},450,{"$f":"(Y173-W173)/(Y164-W164)*(X164-W164)+W173","v":169.99999999999994},520,{"$f":"(AA173-Y173)/(AA164-Y164)*(Z164-Y164)+Y173","v":219.99999999999994},580,{"$f":"(AC173-AA173)/(AC164-AA164)*(AB164-AA164)+AA173","v":220.00000000000017},700,{"$f":"(AE173-AC173)/(AE164-AC164)*(AD164-AC164)+AC173","v":259.99999999999989},920,{"$f":"(AG173-AE173)/(AG164-AE164)*(AF164-AE164)+AE173","v":978.4},1000,{"$f":"(AI173-AG173)/(AI164-AG164)*(AH164-AG164)+AG173","v":1000},1000,{"$f":"(AK173-AI173)/(AK164-AI164)*(AJ164-AI164)+AI173","v":1000},1000,{"$f":"(AM173-AK173)/(AM164-AK164)*(AL164-AK164)+AK173","v":{"$error":"#VALUE!"}},"-",{"$f":"(AO173-AM173)/(AO164-AM164)*(AN164-AM164)+AM173","v":{"$error":"#VALUE!"}},"-",{"$f":"(AQ173-AO173)/(AQ164-AO164)*(AP164-AO164)+AO173","v":{"$error":"#VALUE!"}},"-",10,0.1,{"$f":"AL23","v":263.58}]
[{"$f":"IF(AND(AV171>A173,AV171<A175)=TRUE,AV171,0)","v":0},null,{"$f":"(C175-C173)/(A175-A173)*(A174-A173)+C173","v":{"$error":"#VALUE!"}},{"$f":"(E174-C174)/(E164-C164)*(D164-C164)+C174","v":{"$error":"#VALUE!"}},{"$f":"(E175-E173)/(A175-A173)*(A174-A173)+E173","v":300},{"$f":"(G174-E174)/(G164-E164)*(F164-E164)+E174","v":520},{"$f":"(G175-G173)/(A175-A173)*(A174-A173)+G173","v":190},{"$f":"(I174-G174)/(I164-G164)*(H164-G164)+G174","v":130},{"$f":"(I175-I173)/(A175-A173)*(A174-A173)+I173","v":210},{"$f":"(K174-I174)/(K164-I164)*(J164-I164)+I174","v":89.999999999999986},{"$f":"(K175-K173)/(A175-A173)*(A174-A173)+K173","v":270},{"$f":"(M174-K174)/(M164-K164)*(L164-K164)+K174","v":150.00000000000003},{"$f":"(M175-M173)/(A175-A173)*(A174-A173)+M173","v":310},{"$f":"(O174-M174)/(O164-M164)*(N164-M164)+M174","v":150.00000000000003},{"$f":"(O175-O173)/(A175-A173)*(A174-A173)+O173","v":350},{"$f":"(Q174-O174)/(Q164-O164)*(P164-O164)+O174","v":400},{"$f":"(Q175-Q173)/(A175-A173)*(A174-A173)+Q173","v":340},{"$f":"(S174-Q174)/(S164-Q164)*(R164-Q164)+Q174","v":-139.99999999999955},{"$f":"(S175-S173)/(A175-A173)*(A174-A173)+S173","v":420},{"$f":"(U174-S174)/(U164-S164)*(T164-S164)+S174","v":560.00000000000011},{"$f":"(U175-U173)/(G175-G173)*(G174-G173)+U173","v":400},{"$f":"(W174-U174)/(W164-U164)*(V164-U164)+U174","v":200.00000000000003},{"$f":"(W175-W173)/(I175-I173)*(I174-I173)+W173","v":450},{"$f":"(Y174-W174)/(Y164-W164)*(X164-W164)+W174","v":169.99999999999994},{"$f":"(Y175-Y173)/(A175-A173)*(A174-A173)+Y173","v":520},{"$f":"(AA174-Y174)/(AA164-Y164)*(Z164-Y164)+Y174","v":219.99999999999994},{"$f":"(AA175-AA173)/(A175-A173)*(A174-A173)+AA173","v":580},{"$f":"(AC174-AA174)/(AC164-AA164)*(AB164-AA164)+AA174","v":220.00000000000017},{"$f":"(AC175-AC173)/(A175-A173)*(A174-A173)+AC173","v":700},{"$f":"(AE174-AC174)/(AE164-AC164)*(AD164-AC164)+AC174","v":259.99999999999989},{"$f":"(AE175-AE173)/(A175-A173)*(A174-A173)+AE173","v":920},{"$f":"(AG174-AE174)/(AG164-AE164)*(AF164-AE164)+AE174","v":978.4},{"$f":"(AG175-AG173)/(A175-A173)*(A174-A173)+AG173","v":1000},{"$f":"(AI174-AG174)/(AI164-AG164)*(AH164-AG164)+AG174","v":1800.0000000000002},{"$f":"(AI175-AI173)/(A175-A173)*(A174-A173)+AI173","v":800},{"$f":"(AK174-AI174)/(AK164-AI164)*(AJ164-AI164)+AI174","v":800},{"$f":"(AK175-AK173)/(A175-A173)*(A174-A173)+AK173","v":800},{"$f":"(AM174-AK174)/(AM164-AK164)*(AL164-AK164)+AK174","v":{"$error":"#VALUE!"}},{"$f":"(AM175-AM173)/(A175-A173)*(A174-A173)+AM173","v":{"$error":"#VALUE!"}},{"$f":"(AO174-AM174)/(AO164-AM164)*(AN164-AM164)+AM174","v":{"$error":"#VALUE!"}},{"$f":"(AO175-AO173)/(A175-A173)*(A174-A173)+AO173","v":{"$error":"#VALUE!"}},{"$f":"(AQ174-AO174)/(AQ164-AO164)*(AP164-AO164)+AO174","v":{"$error":"#VALUE!"}},{"$f":"(AQ175-AQ173)/(A175-A173)*(A174-A173)+AQ173","v":{"$error":"#VALUE!"}},11]
[10,{"$f":"B173+1","v":5},"-",{"$f":"(E175-C175)/(E164-C164)*(D164-C164)+C175","v":{"$error":"#VALUE!"}},0,{"$f":"(G175-E175)/(G164-E164)*(F164-E164)+E175","v":-180.00000000000003},90,{"$f":"(I175-G175)/(I164-G164)*(H164-G164)+G175","v":-119.99999999999997},160,{"$f":"(K175-I175)/(K164-I164)*(J164-I164)+I175","v":39.999999999999986},220,{"$f":"(M175-K175)/(M164-K164)*(L164-K164)+K175","v":100.00000000000003},260,{"$f":"(O175-M175)/(O164-M164)*(N164-M164)+M175","v":100.00000000000003},300,{"$f":"(Q175-O175)/(Q164-O164)*(P164-O164)+O175","v":99.999999999999886},340,{"$f":"(S175-Q175)/(S164-Q164)*(R164-Q164)+Q175","v":160.00000000000017},370,{"$f":"(U175-S175)/(U164-S164)*(T164-S164)+S175","v":159.99999999999989},400,{"$f":"(W175-U175)/(W164-U164)*(V164-U164)+U175","v":200.00000000000003},450,{"$f":"(Y175-W175)/(Y164-W164)*(X164-W164)+W175","v":169.99999999999994},520,{"$f":"(AA175-Y175)/(AA164-Y164)*(Z164-Y164)+Y175","v":219.99999999999994},580,{"$f":"(AC175-AA175)/(AC164-AA164)*(AB164-AA164)+AA175","v":220.00000000000017},700,{"$f":"(AE175-AC175)/(AE164-AC164)*(AD164-AC164)+AC175","v":259.99999999999989},920,{"$f":"(AG175-AE175)/(AG164-AE164)*(AF164-AE164)+AE175","v":978.4},1000,{"$f":"(AI175-AG175)/(AI164-AG164)*(AH164-AG164)+AG175","v":800},1050,{"$f":"(AK175-AI175)/(AK164-AI164)*(AJ164-AI164)+AI175","v":1050},1050,{"$f":"(AM175-AK175)/(AM164-AK164)*(AL164-AK164)+AK175","v":{"$error":"#VALUE!"}},"-",{"$f":"(AO175-AM175)/(AO164-AM164)*(AN164-AM164)+AM175","v":{"$error":"#VALUE!"}},"-",{"$f":"(AQ175-AO175)/(AQ164-AO164)*(AP164-AO164)+AO175","v":{"$error":"#VALUE!"}},"-",12,"Регулятор давления",null,null,{"$f":"Лист1!F71","v":"РЕД-6-25х65-Н DN25x65 Qmax=1150 нм3/час"}]
[{"$f":"IF(AND(AV171>A175,AV171<A177)=TRUE,AV171,0)","v":0},null,{"$f":"(C177-C175)/(A177-A175)*(A176-A175)+C175","v":{"$error":"#VALUE!"}},{"$f":"(E176-C176)/(E164-C164)*(D164-C164)+C176","v":{"$error":"#VALUE!"}},{"$f":"(E177-E175)/(A177-A175)*(A176-A175)+E175","v":{"$error":"#VALUE!"}},{"$f":"(G176-E176)/(G164-E164)*(F164-E164)+E176","v":{"$error":"#VALUE!"}},{"$f":"(G177-G175)/(A177-A175)*(A176-A175)+G175","v":270},{"$f":"(I176-G176)/(I164-G164)*(H164-G164)+G176","v":240},{"$f":"(I177-I175)/(A177-A175)*(A176-A175)+I175","v":280},{"$f":"(K176-I176)/(K164-I164)*(J164-I164)+I176","v":320},{"$f":"(K177-K175)/(A177-A175)*(A176-A175)+K175","v":260},{"$f":"(M176-K176)/(M164-K164)*(L164-K164)+K176","v":200},{"$f":"(M177-M175)/(A177-A175)*(A176-A175)+M175","v":280},{"$f":"(O176-M176)/(O164-M164)*(N164-M164)+M176","v":200},{"$f":"(O177-O175)/(A177-A175)*(A176-A175)+O175","v":300},{"$f":"(Q176-O176)/(Q164-O164)*(P164-O164)+O176","v":0},{"$f":"(Q177-Q175)/(A177-A175)*(A176-A175)+Q175","v":360},{"$f":"(S176-Q176)/(S164-Q164)*(R164-Q164)+Q176","v":180.00000000000017},{"$f":"(S177-S175)/(A177-A175)*(A176-A175)+S175","v":390},{"$f":"(U176-S176)/(U164-S164)*(T164-S164)+S176","v":179.99999999999989},{"$f":"(U177-U175)/(A177-A175)*(A176-A175)+U175","v":420},{"$f":"(W176-U176)/(W164-U164)*(V164-U164)+U176","v":300},{"$f":"(W177-W175)/(A177-A175)*(A176-A175)+W175","v":450},{"$f":"(Y176-W176)/(Y164-W164)*(X164-W164)+W176","v":169.99999999999994},{"$f":"(Y177-Y175)/(A177-A175)*(A176-A175)+Y175","v":520},{"$f":"(AA176-Y176)/(AA164-Y164)*(Z164-Y164)+Y176","v":219.99999999999994},{"$f":"(AA177-AA175)/(A177-A175)*(A176-A175)+AA175","v":580},{"$f":"(AC176-AA176)/(AC164-AA164)*(AB164-AA164)+AA176","v":220.00000000000017},{"$f":"(AC177-AC175)/(A177-A175)*(A176-A175)+AC175","v":700},{"$f":"(AE176-AC176)/(AE164-AC164)*(AD164-AC164)+AC176","v":259.99999999999989},{"$f":"(AE177-AE175)/(A177-A175)*(A176-A175)+AE175","v":920},{"$f":"(AG176-AE176)/(AG164-AE164)*(AF164-AE164)+AE176","v":978.4},{"$f":"(AG177-AG175)/(A177-A175)*(A176-A175)+AG175","v":1000},{"$f":"(AI176-AG176)/(AI164-AG164)*(AH164-AG164)+AG176","v":800},{"$f":"(AI177-AI175)/(A177-A175)*(A176-A175)+AI175","v":1050},{"$f":"(AK176-AI176)/(AK164-AI164)*(AJ164-AI164)+AI176","v":1050},{"$f":"(AK177-AK175)/(A177-A175)*(A176-A175)+AK175","v":1050},{"$f":"(AM176-AK176)/(AM164-AK164)*(AL164-AK164)+AK176","v":{"$error":"#VALUE!"}},{"$f":"(AM177-AM175)/(A177-A175)*(A176-A175)+AM175","v":{"$error":"#VALUE!"}},{"$f":"(AO176-AM176)/(AO164-AM164)*(AN164-AM164)+AM176","v":{"$error":"#VALUE!"}},{"$f":"(AO177-AO175)/(A177-A175)*(A176-A175)+AO175","v":{"$error":"#VALUE!"}},{"$f":"(AQ176-AO176)/(AQ164-AO164)*(AP164-AO164)+AO176","v":{"$error":"#VALUE!"}},{"$f":"(AQ177-AQ175)/(A177-A175)*(A176-A175)+AQ175","v":{"$error":"#VALUE!"}},13]
[15,{"$f":"B175+1","v":6},"-",{"$f":"(E177-C177)/(E164-C164)*(D164-C164)+C177","v":{"$error":"#VALUE!"}},"-",{"$f":"(G177-E177)/(G164-E164)*(F164-E164)+E177","v":{"$error":"#VALUE!"}},0,{"$f":"(I177-G177)/(I164-G164)*(H164-G164)+G177","v":-299.99999999999994},100,{"$f":"(K177-I177)/(K164-I164)*(J164-I164)+I177","v":-100.00000000000003},200,{"$f":"(M177-K177)/(M164-K164)*(L164-K164)+K177","v":50.000000000000028},250,{"$f":"(O177-M177)/(O164-M164)*(N164-M164)+M177","v":50.000000000000028},300,{"$f":"(Q177-O177)/(Q164-O164)*(P164-O164)+O177","v":149.99999999999991},330,{"$f":"(S177-Q177)/(S164-Q164)*(R164-Q164)+Q177","v":150.00000000000017},360,{"$f":"(U177-S177)/(U164-S164)*(T164-S164)+S177","v":149.99999999999989},390,{"$f":"(W177-U177)/(W164-U164)*(V164-U164)+U177","v":150.00000000000003},450,{"$f":"(Y177-W177)/(Y164-W164)*(X164-W164)+W177","v":169.99999999999994},520,{"$f":"(AA177-Y177)/(AA164-Y164)*(Z164-Y164)+Y177","v":219.99999999999994},580,{"$f":"(AC177-AA177)/(AC164-AA164)*(AB164-AA164)+AA177","v":220.00000000000017},700,{"$f":"(AE177-AC177)/(AE164-AC164)*(AD164-AC164)+AC177","v":259.99999999999989},920,{"$f":"(AG177-AE177)/(AG164-AE164)*(AF164-AE164)+AE177","v":978.4},1000,{"$f":"(AI177-AG177)/(AI164-AG164)*(AH164-AG164)+AG177","v":800},1050,{"$f":"(AK177-AI177)/(AK164-AI164)*(AJ164-AI164)+AI177","v":1050},1050,{"$f":"(AM177-AK177)/(AM164-AK164)*(AL164-AK164)+AK177","v":{"$error":"#VALUE!"}},"-",{"$f":"(AO177-AM177)/(AO164-AM164)*(AN164-AM164)+AM177","v":{"$error":"#VALUE!"}},"-",{"$f":"(AQ177-AO177)/(AQ164-AO164)*(AP164-AO164)+AO177","v":{"$error":"#VALUE!"}},"-",14]
[{"$f":"IF(AND(AV171>A177,AV171<A179)=TRUE,AV171,0)","v":0},null,{"$f":"(C179-C177)/(A179-A177)*(A178-A177)+C177","v":{"$error":"#VALUE!"}},{"$f":"(E178-C178)/(E164-C164)*(D164-C164)+C178","v":{"$error":"#VALUE!"}},{"$f":"(E179-E177)/(A179-A177)*(A178-A177)+E177","v":{"$error":"#VALUE!"}},{"$f":"(G178-E178)/(G164-E164)*(F164-E164)+E178","v":{"$error":"#VALUE!"}},{"$f":"(G179-G177)/(A179-A177)*(A178-A177)+G177","v":{"$error":"#VALUE!"}},{"$f":"(I178-G178)/(I164-G164)*(H164-G164)+G178","v":{"$error":"#VALUE!"}},{"$f":"(I179-I177)/(A179-A177)*(A178-A177)+I177","v":400},{"$f":"(K178-I178)/(K164-I164)*(J164-I164)+I178","v":560},{"$f":"(K179-K177)/(A179-A177)*(A178-A177)+K177","v":320},{"$f":"(M178-K178)/(M164-K164)*(L164-K164)+K178","v":350},{"$f":"(M179-M177)/(A179-A177)*(A178-A177)+M177","v":310},{"$f":"(O178-M178)/(O164-M164)*(N164-M164)+M178","v":110.00000000000003},{"$f":"(O179-O177)/(A179-A177)*(A178-A177)+O177","v":360},{"$f":"(Q178-O178)/(Q164-O164)*(P164-O164)+O178","v":360},{"$f":"(Q179-Q177)/(A179-A177)*(A178-A177)+Q177","v":360},{"$f":"(S178-Q178)/(S164-Q164)*(R164-Q164)+Q178","v":360},{"$f":"(S179-S177)/(A179-A177)*(A178-A177)+S177","v":360},{"$f":"(U178-S178)/(U164-S164)*(T164-S164)+S178","v":149.99999999999989},{"$f":"(U179-U177)/(A179-A177)*(A178-A177)+U177","v":390},{"$f":"(W178-U178)/(W164-U164)*(V164-U164)+U178","v":150.00000000000003},{"$f":"(W179-W177)/(A179-A177)*(A178-A177)+W177","v":450},{"$f":"(Y178-W178)/(Y164-W164)*(X164-W164)+W178","v":169.99999999999994},{"$f":"(Y179-Y177)/(A179-A177)*(A178-A177)+Y177","v":520},{"$f":"(AA178-Y178)/(AA164-Y164)*(Z164-Y164)+Y178","v":219.99999999999994},{"$f":"(AA179-AA177)/(A179-A177)*(A178-A177)+AA177","v":580},{"$f":"(AC178-AA178)/(AC164-AA164)*(AB164-AA164)+AA178","v":220.00000000000017},{"$f":"(AC179-AC177)/(A179-A177)*(A178-A177)+AC177","v":700},{"$f":"(AE178-AC178)/(AE164-AC164)*(AD164-AC164)+AC178","v":259.99999999999989},{"$f":"(AE179-AE177)/(A179-A177)*(A178-A177)+AE177","v":920},{"$f":"(AG178-AE178)/(AG164-AE164)*(AF164-AE164)+AE178","v":978.4},{"$f":"(AG179-AG177)/(A179-A177)*(A178-A177)+AG177","v":1000},{"$f":"(AI178-AG178)/(AI164-AG164)*(AH164-AG164)+AG178","v":800},{"$f":"(AI179-AI177)/(A179-A177)*(A178-A177)+AI177","v":1050},{"$f":"(AK178-AI178)/(AK164-AI164)*(AJ164-AI164)+AI178","v":1800},{"$f":"(AK179-AK177)/(A179-A177)*(A178-A177)+AK177","v":900},{"$f":"(AM178-AK178)/(AM164-AK164)*(AL164-AK164)+AK178","v":{"$error":"#VALUE!"}},{"$f":"(AM179-AM177)/(A179-A177)*(A178-A177)+AM177","v":{"$error":"#VALUE!"}},{"$f":"(AO178-AM178)/(AO164-AM164)*(AN164-AM164)+AM178","v":{"$error":"#VALUE!"}},{"$f":"(AO179-AO177)/(A179-A177)*(A178-A177)+AO177","v":{"$error":"#VALUE!"}},{"$f":"(AQ178-AO178)/(AQ164-AO164)*(AP164-AO164)+AO178","v":{"$error":"#VALUE!"}},{"$f":"(AQ179-AQ177)/(A179-A177)*(A178-A177)+AQ177","v":{"$error":"#VALUE!"}},15]
[20,{"$f":"B177+1","v":7},"-",{"$f":"(E179-C179)/(E164-C164)*(D164-C164)+C179","v":{"$error":"#VALUE!"}},"-",{"$f":"(G179-E179)/(G164-E164)*(F164-E164)+E179","v":{"$error":"#VALUE!"}},"-",{"$f":"(I179-G179)/(I164-G164)*(H164-G164)+G179","v":{"$error":"#VALUE!"}},0,{"$f":"(K179-I179)/(K164-I164)*(J164-I164)+I179","v":-320.00000000000006},160,{"$f":"(M179-K179)/(M164-K164)*(L164-K164)+K179","v":-49.999999999999972},230,{"$f":"(O179-M179)/(O164-M164)*(N164-M164)+M179","v":30.000000000000028},280,{"$f":"(Q179-O179)/(Q164-O164)*(P164-O164)+O179","v":79.999999999999886},320,{"$f":"(S179-Q179)/(S164-Q164)*(R164-Q164)+Q179","v":80.000000000000227},360,{"$f":"(U179-S179)/(U164-S164)*(T164-S164)+S179","v":149.99999999999989},390,{"$f":"(W179-U179)/(W164-U164)*(V164-U164)+U179","v":150.00000000000003},450,{"$f":"(Y179-W179)/(Y164-W164)*(X164-W164)+W179","v":169.99999999999994},520,{"$f":"(AA179-Y179)/(AA164-Y164)*(Z164-Y164)+Y179","v":219.99999999999994},580,{"$f":"(AC179-AA179)/(AC164-AA164)*(AB164-AA164)+AA179","v":220.00000000000017},700,{"$f":"(AE179-AC179)/(AE164-AC164)*(AD164-AC164)+AC179","v":259.99999999999989},920,{"$f":"(AG179-AE179)/(AG164-AE164)*(AF164-AE164)+AE179","v":978.4},1000,{"$f":"(AI179-AG179)/(AI164-AG164)*(AH164-AG164)+AG179","v":800},1050,{"$f":"(AK179-AI179)/(AK164-AI164)*(AJ164-AI164)+AI179","v":800},1100,{"$f":"(AM179-AK179)/(AM164-AK164)*(AL164-AK164)+AK179","v":{"$error":"#VALUE!"}},"-",{"$f":"(AO179-AM179)/(AO164-AM164)*(AN164-AM164)+AM179","v":{"$error":"#VALUE!"}},"-",{"$f":"(AQ179-AO179)/(AQ164-AO164)*(AP164-AO164)+AO179","v":{"$error":"#VALUE!"}},"-",16]
[{"$f":"IF(AND(AV171>A179,AV171<A181)=TRUE,AV171,0)","v":0},null,{"$f":"(C181-C179)/(A181-A179)*(A180-A179)+C179","v":{"$error":"#VALUE!"}},{"$f":"(E180-C180)/(E164-C164)*(D164-C164)+C180","v":{"$error":"#VALUE!"}},{"$f":"(E181-E179)/(A181-A179)*(A180-A179)+E179","v":{"$error":"#VALUE!"}},{"$f":"(G180-E180)/(G164-E164)*(F164-E164)+E180","v":{"$error":"#VALUE!"}},{"$f":"(G181-G179)/(A181-A179)*(A180-A179)+G179","v":{"$error":"#VALUE!"}},{"$f":"(I180-G180)/(I164-G164)*(H164-G164)+G180","v":{"$error":"#VALUE!"}},{"$f":"(I181-I179)/(A181-A179)*(A180-A179)+I179","v":{"$error":"#VALUE!"}},{"$f":"(K180-I180)/(K164-I164)*(J164-I164)+I180","v":{"$error":"#VALUE!"}},{"$f":"(K181-K179)/(A181-A179)*(A180-A179)+K179","v":800},{"$f":"(M180-K180)/(M164-K164)*(L164-K164)+K180","v":2270},{"$f":"(M181-M179)/(A181-A179)*(A180-A179)+M179","v":310},{"$f":"(O180-M180)/(O164-M164)*(N164-M164)+M180","v":110.00000000000003},{"$f":"(O181-O179)/(A181-A179)*(A180-A179)+O179","v":360},{"$f":"(Q180-O180)/(Q164-O164)*(P164-O164)+O180","v":360},{"$f":"(Q181-Q179)/(A181-A179)*(A180-A179)+Q179","v":360},{"$f":"(S180-Q180)/(S164-Q164)*(R164-Q164)+Q180","v":120.00000000000023},{"$f":"(S181-S179)/(A181-A179)*(A180-A179)+S179","v":400},{"$f":"(U180-S180)/(U164-S164)*(T164-S164)+S180","v":470.00000000000006},{"$f":"(U181-U179)/(A181-A179)*(A180-A179)+U179","v":390},{"$f":"(W180-U180)/(W164-U164)*(V164-U164)+U180","v":150.00000000000003},{"$f":"(W181-W179)/(A181-A179)*(A180-A179)+W179","v":450},{"$f":"(Y180-W180)/(Y164-W164)*(X164-W164)+W180","v":169.99999999999994},{"$f":"(Y181-Y179)/(A181-A179)*(A180-A179)+Y179","v":520},{"$f":"(AA180-Y180)/(AA164-Y164)*(Z164-Y164)+Y180","v":219.99999999999994},{"$f":"(AA181-AA179)/(A181-A179)*(A180-A179)+AA179","v":580},{"$f":"(AC180-AA180)/(AC164-AA164)*(AB164-AA164)+AA180","v":220.00000000000017},{"$f":"(AC181-AC179)/(A181-A179)*(A180-A179)+AC179","v":700},{"$f":"(AE180-AC180)/(AE164-AC164)*(AD164-AC164)+AC180","v":259.99999999999989},{"$f":"(AE181-AE179)/(A181-A179)*(A180-A179)+AE179","v":920},{"$f":"(AG180-AE180)/(AG164-AE164)*(AF164-AE164)+AE180","v":978.4},{"$f":"(AG181-AG179)/(A181-A179)*(A180-A179)+AG179","v":1000},{"$f":"(AI180-AG180)/(AI164-AG164)*(AH164-AG164)+AG180","v":800},{"$f":"(AI181-AI179)/(A181-A179)*(A180-A179)+AI179","v":1050},{"$f":"(AK180-AI180)/(AK164-AI164)*(AJ164-AI164)+AI180","v":1800},{"$f":"(AK181-AK179)/(A181-A179)*(A180-A179)+AK179","v":900},{"$f":"(AM180-AK180)/(AM164-AK164)*(AL164-AK164)+AK180","v":{"$error":"#VALUE!"}},{"$f":"(AM181-AM179)/(A181-A179)*(A180-A179)+AM179","v":{"$error":"#VALUE!"}},{"$f":"(AO180-AM180)/(AO164-AM164)*(AN164-AM164)+AM180","v":{"$error":"#VALUE!"}},{"$f":"(AO181-AO179)/(A181-A179)*(A180-A179)+AO179","v":{"$error":"#VALUE!"}},{"$f":"(AQ180-AO180)/(AQ164-AO164)*(AP164-AO164)+AO180","v":{"$error":"#VALUE!"}},{"$f":"(AQ181-AQ179)/(A181-A179)*(A180-A179)+AQ179","v":{"$error":"#VALUE!"}},17]
[25,{"$f":"B179+1","v":8},"-",{"$f":"(E181-C181)/(E164-C164)*(D164-C164)+C181","v":{"$error":"#VALUE!"}},"-",{"$f":"(G181-E181)/(G164-E164)*(F164-E164)+E181","v":{"$error":"#VALUE!"}},"-",{"$f":"(I181-G181)/(I164-G164)*(H164-G164)+G181","v":{"$error":"#VALUE!"}},"-",{"$f":"(K181-I181)/(K164-I164)*(J164-I164)+I181","v":{"$error":"#VALUE!"}},0,{"$f":"(M181-K181)/(M164-K164)*(L164-K164)+K181","v":-629.99999999999989},210,{"$f":"(O181-M181)/(O164-M164)*(N164-M164)+M181","v":10.000000000000028},260,{"$f":"(Q181-O181)/(Q164-O164)*(P164-O164)+O181","v":9.9999999999998579},310,{"$f":"(S181-Q181)/(S164-Q164)*(R164-Q164)+Q181","v":70.000000000000227},350,{"$f":"(U181-S181)/(U164-S164)*(T164-S164)+S181","v":69.999999999999829},390,{"$f":"(W181-U181)/(W164-U164)*(V164-U164)+U181","v":150.00000000000003},450,{"$f":"(Y181-W181)/(Y164-W164)*(X164-W164)+W181","v":169.99999999999994},520,{"$f":"(AA181-Y181)/(AA164-Y164)*(Z164-Y164)+Y181","v":219.99999999999994},580,{"$f":"(AC181-AA181)/(AC164-AA164)*(AB164-AA164)+AA181","v":220.00000000000017},700,{"$f":"(AE181-AC181)/(AE164-AC164)*(AD164-AC164)+AC181","v":259.99999999999989},920,{"$f":"(AG181-AE181)/(AG164-AE164)*(AF164-AE164)+AE181","v":978.4},1000,{"$f":"(AI181-AG181)/(AI164-AG164)*(AH164-AG164)+AG181","v":800},1050,{"$f":"(AK181-AI181)/(AK164-AI164)*(AJ164-AI164)+AI181","v":549.99999999999989},1150,{"$f":"(AM181-AK181)/(AM164-AK164)*(AL164-AK164)+AK181","v":{"$error":"#VALUE!"}},"-",{"$f":"(AO181-AM181)/(AO164-AM164)*(AN164-AM164)+AM181","v":{"$error":"#VALUE!"}},"-",{"$f":"(AQ181-AO181)/(AQ164-AO164)*(AP164-AO164)+AO181","v":{"$error":"#VALUE!"}},"-",18]
[{"$f":"IF(AND(AV171>A181,AV171<A183)=TRUE,AV171,0)","v":0},null,{"$f":"(C183-C181)/(A183-A181)*(A182-A181)+C181","v":{"$error":"#VALUE!"}},{"$f":"(E182-C182)/(E164-C164)*(D164-C164)+C182","v":{"$error":"#VALUE!"}},{"$f":"(E183-E181)/(A183-A181)*(A182-A181)+E181","v":{"$error":"#VALUE!"}},{"$f":"(G182-E182)/(G164-E164)*(F164-E164)+E182","v":{"$error":"#VALUE!"}},{"$f":"(G183-G181)/(A183-A181)*(A182-A181)+G181","v":{"$error":"#VALUE!"}},{"$f":"(I182-G182)/(I164-G164)*(H164-G164)+G182","v":{"$error":"#VALUE!"}},{"$f":"(I183-I181)/(A183-A181)*(A182-A181)+I181","v":{"$error":"#VALUE!"}},{"$f":"(K182-I182)/(K164-I164)*(J164-I164)+I182","v":{"$error":"#VALUE!"}},{"$f":"(K183-K181)/(A183-A181)*(A182-A181)+K181","v":{"$error":"#VALUE!"}},{"$f":"(M182-K182)/(M164-K164)*(L164-K164)+K182","v":{"$error":"#VALUE!"}},{"$f":"(M183-M181)/(A183-A181)*(A182-A181)+M181","v":410},{"$f":"(O182-M182)/(O164-M164)*(N164-M164)+M182","v":610},{"$f":"(O183-O181)/(A183-A181)*(A182-A181)+O181","v":360},{"$f":"(Q182-O182)/(Q164-O164)*(P164-O164)+O182","v":109.99999999999986},{"$f":"(Q183-Q181)/(A183-A181)*(A182-A181)+Q181","v":410},{"$f":"(S182-Q182)/(S164-Q164)*(R164-Q164)+Q182","v":469.99999999999994},{"$f":"(S183-S181)/(A183-A181)*(A182-A181)+S181","v":400},{"$f":"(U182-S182)/(U164-S164)*(T164-S164)+S182","v":119.99999999999983},{"$f":"(U183-U181)/(A183-A181)*(A182-A181)+U181","v":440},{"$f":"(W182-U182)/(W164-U164)*(V164-U164)+U182","v":200.00000000000003},{"$f":"(W183-W181)/(A183-A181)*(A182-A181)+W181","v":500},{"$f":"(Y182-W182)/(Y164-W164)*(X164-W164)+W182","v":219.99999999999994},{"$f":"(Y183-Y181)/(A183-A181)*(A182-A181)+Y181","v":570},{"$f":"(AA182-Y182)/(AA164-Y164)*(Z164-Y164)+Y182","v":520},{"$f":"(AA183-AA181)/(A183-A181)*(A182-A181)+AA181","v":580},{"$f":"(AC182-AA182)/(AC164-AA164)*(AB164-AA164)+AA182","v":220.00000000000017},{"$f":"(AC183-AC181)/(A183-A181)*(A182-A181)+AC181","v":700},{"$f":"(AE182-AC182)/(AE164-AC164)*(AD164-AC164)+AC182","v":259.99999999999989},{"$f":"(AE183-AE181)/(A183-A181)*(A182-A181)+AE181","v":920},{"$f":"(AG182-AE182)/(AG164-AE164)*(AF164-AE164)+AE182","v":978.4},{"$f":"(AG183-AG181)/(A183-A181)*(A182-A181)+AG181","v":1000},{"$f":"(AI182-AG182)/(AI164-AG164)*(AH164-AG164)+AG182","v":800},{"$f":"(AI183-AI181)/(A183-A181)*(A182-A181)+AI181","v":1050},{"$f":"(AK182-AI182)/(AK164-AI164)*(AJ164-AI164)+AI182","v":549.99999999999989},{"$f":"(AK183-AK181)/(A183-A181)*(A182-A181)+AK181","v":1150},{"$f":"(AM182-AK182)/(AM164-AK164)*(AL164-AK164)+AK182","v":{"$error":"#VALUE!"}},{"$f":"(AM183-AM181)/(A183-A181)*(A182-A181)+AM181","v":{"$error":"#VALUE!"}},{"$f":"(AO182-AM182)/(AO164-AM164)*(AN164-AM164)+AM182","v":{"$error":"#VALUE!"}},{"$f":"(AO183-AO181)/(A183-A181)*(A182-A181)+AO181","v":{"$error":"#VALUE!"}},{"$f":"(AQ182-AO182)/(AQ164-AO164)*(AP164-AO164)+AO182","v":{"$error":"#VALUE!"}},{"$f":"(AQ183-AQ181)/(A183-A181)*(A182-A181)+AQ181","v":{"$error":"#VALUE!"}},19]
[30,{"$f":"B181+1","v":9},"-",{"$f":"(E183-C183)/(E164-C164)*(D164-C164)+C183","v":{"$error":"#VALUE!"}},"-",{"$f":"(G183-E183)/(G164-E164)*(F164-E164)+E183","v":{"$error":"#VALUE!"}},"-",{"$f":"(I183-G183)/(I164-G164)*(H164-G164)+G183","v":{"$error":"#VALUE!"}},"-",{"$f":"(K183-I183)/(K164-I164)*(J164-I164)+I183","v":{"$error":"#VALUE!"}},"-",{"$f":"(M183-K183)/(M164-K164)*(L164-K164)+K183","v":{"$error":"#VALUE!"}},170,{"$f":"(O183-M183)/(O164-M164)*(N164-M164)+M183","v":-109.99999999999994},240,{"$f":"(Q183-O183)/(Q164-O164)*(P164-O164)+O183","v":-10.000000000000142},290,{"$f":"(S183-Q183)/(S164-Q164)*(R164-Q164)+Q183","v":-9.9999999999997158},340,{"$f":"(U183-S183)/(U164-S164)*(T164-S164)+S183","v":59.999999999999829},380,{"$f":"(W183-U183)/(W164-U164)*(V164-U164)+U183","v":140.00000000000003},440,{"$f":"(Y183-W183)/(Y164-W164)*(X164-W164)+W183","v":159.99999999999994},510,{"$f":"(AA183-Y183)/(AA164-Y164)*(Z164-Y164)+Y183","v":159.99999999999994},580,{"$f":"(AC183-AA183)/(AC164-AA164)*(AB164-AA164)+AA183","v":220.00000000000017},700,{"$f":"(AE183-AC183)/(AE164-AC164)*(AD164-AC164)+AC183","v":259.99999999999989},920,{"$f":"(AG183-AE183)/(AG164-AE164)*(AF164-AE164)+AE183","v":978.4},1000,{"$f":"(AI183-AG183)/(AI164-AG164)*(AH164-AG164)+AG183","v":800},1050,{"$f":"(AK183-AI183)/(AK164-AI164)*(AJ164-AI164)+AI183","v":549.99999999999989},1150,{"$f":"(AM183-AK183)/(AM164-AK164)*(AL164-AK164)+AK183","v":{"$error":"#VALUE!"}},"-",{"$f":"(AO183-AM183)/(AO164-AM164)*(AN164-AM164)+AM183","v":{"$error":"#VALUE!"}},"-",{"$f":"(AQ183-AO183)/(AQ164-AO164)*(AP164-AO164)+AO183","v":{"$error":"#VALUE!"}},"-",20]
[{"$f":"IF(AND(AV171>A183,AV171<A185)=TRUE,AV171,0)","v":0},null,{"$f":"(C185-C183)/(A185-A183)*(A184-A183)+C183","v":{"$error":"#VALUE!"}},{"$f":"(E184-C184)/(E164-C164)*(D164-C164)+C184","v":{"$error":"#VALUE!"}},{"$f":"(E185-E183)/(A185-A183)*(A184-A183)+E183","v":{"$error":"#VALUE!"}},{"$f":"(G184-E184)/(G164-E164)*(F164-E164)+E184","v":{"$error":"#VALUE!"}},{"$f":"(G185-G183)/(A185-A183)*(A184-A183)+G183","v":{"$error":"#VALUE!"}},{"$f":"(I184-G184)/(I164-G164)*(H164-G164)+G184","v":{"$error":"#VALUE!"}},{"$f":"(I185-I183)/(A185-A183)*(A184-A183)+I183","v":{"$error":"#VALUE!"}},{"$f":"(K184-I184)/(K164-I164)*(J164-I164)+I184","v":{"$error":"#VALUE!"}},{"$f":"(K185-K183)/(A185-A183)*(A184-A183)+K183","v":{"$error":"#VALUE!"}},{"$f":"(M184-K184)/(M164-K164)*(L164-K164)+K184","v":{"$error":"#VALUE!"}},{"$f":"(M185-M183)/(A185-A183)*(A184-A183)+M183","v":680},{"$f":"(O184-M184)/(O164-M164)*(N164-M164)+M184","v":1719.9999999999998},{"$f":"(O185-O183)/(A185-A183)*(A184-A183)+O183","v":420},{"$f":"(Q184-O184)/(Q164-O164)*(P164-O164)+O184","v":470},{"$f":"(Q185-Q183)/(A185-A183)*(A184-A183)+Q183","v":410},{"$f":"(S184-Q184)/(S164-Q164)*(R164-Q164)+Q184","v":290.00000000000011},{"$f":"(S185-S183)/(A185-A183)*(A184-A183)+S183","v":430},{"$f":"(U184-S184)/(U164-S164)*(T164-S164)+S184","v":149.99999999999983},{"$f":"(U185-U183)/(A185-A183)*(A184-A183)+U183","v":470},{"$f":"(W184-U184)/(W164-U164)*(V164-U164)+U184","v":470},{"$f":"(W185-W183)/(A185-A183)*(A184-A183)+W183","v":470},{"$f":"(Y184-W184)/(Y164-W164)*(X164-W164)+W184","v":309.99999999999994},{"$f":"(Y185-Y183)/(A185-A183)*(A184-A183)+Y183","v":510},{"$f":"(AA184-Y184)/(AA164-Y164)*(Z164-Y164)+Y184","v":159.99999999999994},{"$f":"(AA185-AA183)/(A185-A183)*(A184-A183)+AA183","v":580},{"$f":"(AC184-AA184)/(AC164-AA164)*(AB164-AA164)+AA184","v":220.00000000000017},{"$f":"(AC185-AC183)/(A185-A183)*(A184-A183)+AC183","v":700},{"$f":"(AE184-AC184)/(AE164-AC164)*(AD164-AC164)+AC184","v":259.99999999999989},{"$f":"(AE185-AE183)/(A185-A183)*(A184-A183)+AE183","v":920},{"$f":"(AG184-AE184)/(AG164-AE164)*(AF164-AE164)+AE184","v":978.4},{"$f":"(AG185-AG183)/(A185-A183)*(A184-A183)+AG183","v":1000},{"$f":"(AI184-AG184)/(AI164-AG164)*(AH164-AG164)+AG184","v":800},{"$f":"(AI185-AI183)/(A185-A183)*(A184-A183)+AI183","v":1050},{"$f":"(AK184-AI184)/(AK164-AI164)*(AJ164-AI164)+AI184","v":549.99999999999989},{"$f":"(AK185-AK183)/(A185-A183)*(A184-A183)+AK183","v":1150},{"$f":"(AM184-AK184)/(AM164-AK164)*(AL164-AK164)+AK184","v":{"$error":"#VALUE!"}},{"$f":"(AM185-AM183)/(A185-A183)*(A184-A183)+AM183","v":{"$error":"#VALUE!"}},{"$f":"(AO184-AM184)/(AO164-AM164)*(AN164-AM164)+AM184","v":{"$error":"#VALUE!"}},{"$f":"(AO185-AO183)/(A185-A183)*(A184-A183)+AO183","v":{"$error":"#VALUE!"}},{"$f":"(AQ184-AO184)/(AQ164-AO164)*(AP164-AO164)+AO184","v":{"$error":"#VALUE!"}},{"$f":"(AQ185-AQ183)/(A185-A183)*(A184-A183)+AQ183","v":{"$error":"#VALUE!"}},21]
[40,{"$f":"B183+1","v":10},"-",{"$f":"(E185-C185)/(E164-C164)*(D164-C164)+C185","v":{"$error":"#VALUE!"}},"-",{"$f":"(G185-E185)/(G164-E164)*(F164-E164)+E185","v":{"$error":"#VALUE!"}},"-",{"$f":"(I185-G185)/(I164-G164)*(H164-G164)+G185","v":{"$error":"#VALUE!"}},"-",{"$f":"(K185-I185)/(K164-I164)*(J164-I164)+I185","v":{"$error":"#VALUE!"}},"-",{"$f":"(M185-K185)/(M164-K164)*(L164-K164)+K185","v":{"$error":"#VALUE!"}},0,{"$f":"(O185-M185)/(O164-M164)*(N164-M164)+M185","v":-719.99999999999989},180,{"$f":"(Q185-O185)/(Q164-O164)*(P164-O164)+O185","v":-170.00000000000023},250,{"$f":"(S185-Q185)/(S164-Q164)*(R164-Q164)+Q185","v":-109.99999999999966},310,{"$f":"(U185-S185)/(U164-S164)*(T164-S164)+S185","v":29.999999999999829},350,{"$f":"(W185-U185)/(W164-U164)*(V164-U164)+U185","v":30.000000000000057},430,{"$f":"(Y185-W185)/(Y164-W164)*(X164-W164)+W185","v":109.99999999999989},510,{"$f":"(AA185-Y185)/(AA164-Y164)*(Z164-Y164)+Y185","v":159.99999999999994},580,{"$f":"(AC185-AA185)/(AC164-AA164)*(AB164-AA164)+AA185","v":220.00000000000017},700,{"$f":"(AE185-AC185)/(AE164-AC164)*(AD164-AC164)+AC185","v":259.99999999999989},920,{"$f":"(AG185-AE185)/(AG164-AE164)*(AF164-AE164)+AE185","v":978.4},1000,{"$f":"(AI185-AG185)/(AI164-AG164)*(AH164-AG164)+AG185","v":800},1050,{"$f":"(AK185-AI185)/(AK164-AI164)*(AJ164-AI164)+AI185","v":549.99999999999989},1150,{"$f":"(AM185-AK185)/(AM164-AK164)*(AL164-AK164)+AK185","v":{"$error":"#VALUE!"}},"-",{"$f":"(AO185-AM185)/(AO164-AM164)*(AN164-AM164)+AM185","v":{"$error":"#VALUE!"}},"-",{"$f":"(AQ185-AO185)/(AQ164-AO164)*(AP164-AO164)+AO185","v":{"$error":"#VALUE!"}},"-",22]
[{"$f":"IF(AND(AV171>A185,AV171<A187)=TRUE,AV171,0)","v":0},null,{"$f":"(C187-C185)/(A187-A185)*(A186-A185)+C185","v":{"$error":"#VALUE!"}},{"$f":"(E186-C186)/(E164-C164)*(D164-C164)+C186","v":{"$error":"#VALUE!"}},{"$f":"(E187-E185)/(A187-A185)*(A186-A185)+E185","v":{"$error":"#VALUE!"}},{"$f":"(G186-E186)/(G164-E164)*(F164-E164)+E186","v":{"$error":"#VALUE!"}},{"$f":"(G187-G185)/(A187-A185)*(A186-A185)+G185","v":{"$error":"#VALUE!"}},{"$f":"(I186-G186)/(I164-G164)*(H164-G164)+G186","v":{"$error":"#VALUE!"}},{"$f":"(I187-I185)/(A187-A185)*(A186-A185)+I185","v":{"$error":"#VALUE!"}},{"$f":"(K186-I186)/(K164-I164)*(J164-I164)+I186","v":{"$error":"#VALUE!"}},{"$f":"(K187-K185)/(A187-A185)*(A186-A185)+K185","v":{"$error":"#VALUE!"}},{"$f":"(M186-K186)/(M164-K164)*(L164-K164)+K186","v":{"$error":"#VALUE!"}},{"$f":"(M187-M185)/(A187-A185)*(A186-A185)+M185","v":{"$error":"#VALUE!"}},{"$f":"(O186-M186)/(O164-M164)*(N164-M164)+M186","v":{"$error":"#VALUE!"}},{"$f":"(O187-O185)/(A187-A185)*(A186-A185)+O185","v":900},{"$f":"(Q186-O186)/(Q164-O164)*(P164-O164)+O186","v":2950.0000000000014},{"$f":"(Q187-Q185)/(A187-A185)*(A186-A185)+Q185","v":490},{"$f":"(S186-Q186)/(S164-Q164)*(R164-Q164)+Q186","v":370.00000000000011},{"$f":"(S187-S185)/(A187-A185)*(A186-A185)+S185","v":510},{"$f":"(U186-S186)/(U164-S164)*(T164-S164)+S186","v":790.00000000000023},{"$f":"(U187-U185)/(A187-A185)*(A186-A185)+U185","v":470},{"$f":"(W186-U186)/(W164-U164)*(V164-U164)+U186","v":150.00000000000006},{"$f":"(W187-W185)/(A187-A185)*(A186-A185)+W185","v":550},{"$f":"(Y186-W186)/(Y164-W164)*(X164-W164)+W186","v":229.99999999999989},{"$f":"(Y187-Y185)/(A187-A185)*(A186-A185)+Y185","v":630},{"$f":"(AA186-Y186)/(AA164-Y164)*(Z164-Y164)+Y186","v":880},{"$f":"(AA187-AA185)/(A187-A185)*(A186-A185)+AA185","v":580},{"$f":"(AC186-AA186)/(AC164-AA164)*(AB164-AA164)+AA186","v":220.00000000000017},{"$f":"(AC187-AC185)/(A187-A185)*(A186-A185)+AC185","v":700},{"$f":"(AE186-AC186)/(AE164-AC164)*(AD164-AC164)+AC186","v":259.99999999999989},{"$f":"(AE187-AE185)/(A187-A185)*(A186-A185)+AE185","v":920},{"$f":"(AG186-AE186)/(AG164-AE164)*(AF164-AE164)+AE186","v":978.4},{"$f":"(AG187-AG185)/(A187-A185)*(A186-A185)+AG185","v":1000},{"$f":"(AI186-AG186)/(AI164-AG164)*(AH164-AG164)+AG186","v":800},{"$f":"(AI187-AI185)/(A187-A185)*(A186-A185)+AI185","v":1050},{"$f":"(AK186-AI186)/(AK164-AI164)*(AJ164-AI164)+AI186","v":549.99999999999989},{"$f":"(AK187-AK185)/(A187-A185)*(A186-A185)+AK185","v":1150},{"$f":"(AM186-AK186)/(AM164-AK164)*(AL164-AK164)+AK186","v":{"$error":"#VALUE!"}},{"$f":"(AM187-AM185)/(A187-A185)*(A186-A185)+AM185","v":{"$error":"#VALUE!"}},{"$f":"(AO186-AM186)/(AO164-AM164)*(AN164-AM164)+AM186","v":{"$error":"#VALUE!"}},{"$f":"(AO187-AO185)/(A187-A185)*(A186-A185)+AO185","v":{"$error":"#VALUE!"}},{"$f":"(AQ186-AO186)/(AQ164-AO164)*(AP164-AO164)+AO186","v":{"$error":"#VALUE!"}},{"$f":"(AQ187-AQ185)/(A187-A185)*(A186-A185)+AQ185","v":{"$error":"#VALUE!"}},23]
[50,{"$f":"B185+1","v":11},"-",{"$f":"(E187-C187)/(E164-C164)*(D164-C164)+C187","v":{"$error":"#VALUE!"}},"-",{"$f":"(G187-E187)/(G164-E164)*(F164-E164)+E187","v":{"$error":"#VALUE!"}},"-",{"$f":"(I187-G187)/(I164-G164)*(H164-G164)+G187","v":{"$error":"#VALUE!"}},"-",{"$f":"(K187-I187)/(K164-I164)*(J164-I164)+I187","v":{"$error":"#VALUE!"}},"-",{"$f":"(M187-K187)/(M164-K164)*(L164-K164)+K187","v":{"$error":"#VALUE!"}},"-",{"$f":"(O187-M187)/(O164-M164)*(N164-M164)+M187","v":{"$error":"#VALUE!"}},0,{"$f":"(Q187-O187)/(Q164-O164)*(P164-O164)+O187","v":-950.00000000000057},190,{"$f":"(S187-Q187)/(S164-Q164)*(R164-Q164)+Q187","v":-229.9999999999996},260,{"$f":"(U187-S187)/(U164-S164)*(T164-S164)+S187","v":-160.00000000000023},320,{"$f":"(W187-U187)/(W164-U164)*(V164-U164)+U187","v":0},400,{"$f":"(Y187-W187)/(Y164-W164)*(X164-W164)+W187","v":79.999999999999886},480,{"$f":"(AA187-Y187)/(AA164-Y164)*(Z164-Y164)+Y187","v":-20.000000000000114},580,{"$f":"(AC187-AA187)/(AC164-AA164)*(AB164-AA164)+AA187","v":220.00000000000017},700,{"$f":"(AE187-AC187)/(AE164-AC164)*(AD164-AC164)+AC187","v":259.99999999999989},920,{"$f":"(AG187-AE187)/(AG164-AE164)*(AF164-AE164)+AE187","v":978.4},1000,{"$f":"(AI187-AG187)/(AI164-AG164)*(AH164-AG164)+AG187","v":800},1050,{"$f":"(AK187-AI187)/(AK164-AI164)*(AJ164-AI164)+AI187","v":549.99999999999989},1150,{"$f":"(AM187-AK187)/(AM164-AK164)*(AL164-AK164)+AK187","v":{"$error":"#VALUE!"}},"-",{"$f":"(AO187-AM187)/(AO164-AM164)*(AN164-AM164)+AM187","v":{"$error":"#VALUE!"}},"-",{"$f":"(AQ187-AO187)/(AQ164-AO164)*(AP164-AO164)+AO187","v":{"$error":"#VALUE!"}},"-",24]
[{"$f":"IF(AND(AV171>A187,AV171<A189)=TRUE,AV171,0)","v":0},null,{"$f":"(C189-C187)/(A189-A187)*(A188-A187)+C187","v":{"$error":"#VALUE!"}},{"$f":"(E188-C188)/(E164-C164)*(D164-C164)+C188","v":{"$error":"#VALUE!"}},{"$f":"(E189-E187)/(A189-A187)*(A188-A187)+E187","v":{"$error":"#VALUE!"}},{"$f":"(G188-E188)/(G164-E164)*(F164-E164)+E188","v":{"$error":"#VALUE!"}},{"$f":"(G189-G187)/(A189-A187)*(A188-A187)+G187","v":{"$error":"#VALUE!"}},{"$f":"(I188-G188)/(I164-G164)*(H164-G164)+G188","v":{"$error":"#VALUE!"}},{"$f":"(I189-I187)/(A189-A187)*(A188-A187)+I187","v":{"$error":"#VALUE!"}},{"$f":"(K188-I188)/(K164-I164)*(J164-I164)+I188","v":{"$error":"#VALUE!"}},{"$f":"(K189-K187)/(A189-A187)*(A188-A187)+K187","v":{"$error":"#VALUE!"}},{"$f":"(M188-K188)/(M164-K164)*(L164-K164)+K188","v":{"$error":"#VALUE!"}},{"$f":"(M189-M187)/(A189-A187)*(A188-A187)+M187","v":{"$error":"#VALUE!"}},{"$f":"(O188-M188)/(O164-M164)*(N164-M164)+M188","v":{"$error":"#VALUE!"}},{"$f":"(O189-O187)/(A189-A187)*(A188-A187)+O187","v":{"$error":"#VALUE!"}},{"$f":"(Q188-O188)/(Q164-O164)*(P164-O164)+O188","v":{"$error":"#VALUE!"}},{"$f":"(Q189-Q187)/(A189-A187)*(A188-A187)+Q187","v":1140},{"$f":"(S188-Q188)/(S164-Q164)*(R164-Q164)+Q188","v":3719.9999999999977},{"$f":"(S189-S187)/(A189-A187)*(A188-A187)+S187","v":710},{"$f":"(U188-S188)/(U164-S164)*(T164-S164)+S188","v":289.99999999999977},{"$f":"(U189-U187)/(A189-A187)*(A188-A187)+U187","v":770},{"$f":"(W188-U188)/(W164-U164)*(V164-U164)+U188","v":1849.9999999999998},{"$f":"(W189-W187)/(A189-A187)*(A188-A187)+W187","v":500},{"$f":"(Y188-W188)/(Y164-W164)*(X164-W164)+W188","v":-820.00000000000045},{"$f":"(Y189-Y187)/(A189-A187)*(A188-A187)+Y187","v":830},{"$f":"(AA188-Y188)/(AA164-Y164)*(Z164-Y164)+Y188","v":1580},{"$f":"(AA189-AA187)/(A189-A187)*(A188-A187)+AA187","v":680},{"$f":"(AC188-AA188)/(AC164-AA164)*(AB164-AA164)+AA188","v":470.00000000000011},{"$f":"(AC189-AC187)/(A189-A187)*(A188-A187)+AC187","v":750},{"$f":"(AE188-AC188)/(AE164-AC164)*(AD164-AC164)+AC188","v":509.99999999999994},{"$f":"(AE189-AE187)/(A189-A187)*(A188-A187)+AE187","v":870},{"$f":"(AG188-AE188)/(AG164-AE164)*(AF164-AE164)+AE188","v":362.65000000000015},{"$f":"(AG189-AG187)/(A189-A187)*(A188-A187)+AG187","v":175},{"$f":"(AI188-AG188)/(AI164-AG164)*(AH164-AG164)+AG188","v":3675.0000000000009},{"$f":"(AI189-AI187)/(A189-A187)*(A188-A187)+AI187","v":-700},{"$f":"(AK188-AI188)/(AK164-AI164)*(AJ164-AI164)+AI188","v":-3700.0000000000005},{"$f":"(AK189-AK187)/(A189-A187)*(A188-A187)+AK187","v":-100},{"$f":"(AM188-AK188)/(AM164-AK164)*(AL164-AK164)+AK188","v":{"$error":"#VALUE!"}},{"$f":"(AM189-AM187)/(A189-A187)*(A188-A187)+AM187","v":{"$error":"#VALUE!"}},{"$f":"(AO188-AM188)/(AO164-AM164)*(AN164-AM164)+AM188","v":{"$error":"#VALUE!"}},{"$f":"(AO189-AO187)/(A189-A187)*(A188-A187)+AO187","v":{"$error":"#VALUE!"}},{"$f":"(AQ188-AO188)/(AQ164-AO164)*(AP164-AO164)+AO188","v":{"$error":"#VALUE!"}},{"$f":"(AQ189-AQ187)/(A189-A187)*(A188-A187)+AQ187","v":{"$error":"#VALUE!"}},25]
[60,{"$f":"B187+1","v":12},"-",{"$f":"(E189-C189)/(E164-C164)*(D164-C164)+C189","v":{"$error":"#VALUE!"}},"-",{"$f":"(G189-E189)/(G164-E164)*(F164-E164)+E189","v":{"$error":"#VALUE!"}},"-",{"$f":"(I189-G189)/(I164-G164)*(H164-G164)+G189","v":{"$error":"#VALUE!"}},"-",{"$f":"(K189-I189)/(K164-I164)*(J164-I164)+I189","v":{"$error":"#VALUE!"}},"-",{"$f":"(M189-K189)/(M164-K164)*(L164-K164)+K189","v":{"$error":"#VALUE!"}},"-",{"$f":"(O189-M189)/(O164-M164)*(N164-M164)+M189","v":{"$error":"#VALUE!"}},"-",{"$f":"(Q189-O189)/(Q164-O164)*(P164-O164)+O189","v":{"$error":"#VALUE!"}},0,{"$f":"(S189-Q189)/(S164-Q164)*(R164-Q164)+Q189","v":-1019.9999999999991},170,{"$f":"(U189-S189)/(U164-S164)*(T164-S164)+S189","v":-250.00000000000023},230,{"$f":"(W189-U189)/(W164-U164)*(V164-U164)+U189","v":-369.99999999999989},380,{"$f":"(Y189-W189)/(Y164-W164)*(X164-W164)+W189","v":260},410,{"$f":"(AA189-Y189)/(AA164-Y164)*(Z164-Y164)+Y189","v":-340.00000000000011},560,{"$f":"(AC189-AA189)/(AC164-AA164)*(AB164-AA164)+AA189","v":170.00000000000017},690,{"$f":"(AE189-AC189)/(AE164-AC164)*(AD164-AC164)+AC189","v":209.99999999999989},930,{"$f":"(AG189-AE189)/(AG164-AE164)*(AF164-AE164)+AE189","v":1101.55},1165,{"$f":"(AI189-AG189)/(AI164-AG164)*(AH164-AG164)+AG189","v":224.99999999999977},1400,{"$f":"(AK189-AI189)/(AK164-AI164)*(AJ164-AI164)+AI189","v":1400},1400,{"$f":"(AM189-AK189)/(AM164-AK164)*(AL164-AK164)+AK189","v":1100},1500,{"$f":"(AO189-AM189)/(AO164-AM164)*(AN164-AM164)+AM189","v":1500},1500,{"$f":"(AQ189-AO189)/(AQ164-AO164)*(AP164-AO164)+AO189","v":1500},1500,26]
[{"$f":"IF(AND(AV171>A189,AV171<A191)=TRUE,AV171,0)","v":0},null,{"$f":"(C191-C189)/(A191-A189)*(A190-A189)+C189","v":{"$error":"#VALUE!"}},{"$f":"(E190-C190)/(E164-C164)*(D164-C164)+C190","v":{"$error":"#VALUE!"}},{"$f":"(E191-E189)/(A191-A189)*(A190-A189)+E189","v":{"$error":"#VALUE!"}},{"$f":"(G190-E190)/(G164-E164)*(F164-E164)+E190","v":{"$error":"#VALUE!"}},{"$f":"(G191-G189)/(A191-A189)*(A190-A189)+G189","v":{"$error":"#VALUE!"}},{"$f":"(I190-G190)/(I164-G164)*(H164-G164)+G190","v":{"$error":"#VALUE!"}},{"$f":"(I191-I189)/(A191-A189)*(A190-A189)+I189","v":{"$error":"#VALUE!"}},{"$f":"(K190-I190)/(K164-I164)*(J164-I164)+I190","v":{"$error":"#VALUE!"}},{"$f":"(K191-K189)/(A191-A189)*(A190-A189)+K189","v":{"$error":"#VALUE!"}},{"$f":"(M190-K190)/(M164-K164)*(L164-K164)+K190","v":{"$error":"#VALUE!"}},{"$f":"(M191-M189)/(A191-A189)*(A190-A189)+M189","v":{"$error":"#VALUE!"}},{"$f":"(O190-M190)/(O164-M164)*(N164-M164)+M190","v":{"$error":"#VALUE!"}},{"$f":"(O191-O189)/(A191-A189)*(A190-A189)+O189","v":{"$error":"#VALUE!"}},{"$f":"(Q190-O190)/(Q164-O164)*(P164-O164)+O190","v":{"$error":"#VALUE!"}},{"$f":"(Q191-Q189)/(A191-A189)*(A190-A189)+Q189","v":{"$error":"#VALUE!"}},{"$f":"(S190-Q190)/(S164-Q164)*(R164-Q164)+Q190","v":{"$error":"#VALUE!"}},{"$f":"(S191-S189)/(A191-A189)*(A190-A189)+S189","v":{"$error":"#VALUE!"}},{"$f":"(U190-S190)/(U164-S164)*(T164-S164)+S190","v":{"$error":"#VALUE!"}},{"$f":"(U191-U189)/(A191-A189)*(A190-A189)+U189","v":920},{"$f":"(W190-U190)/(W164-U164)*(V164-U164)+U190","v":1520},{"$f":"(W191-W189)/(A191-A189)*(A190-A189)+W189","v":770},{"$f":"(Y190-W190)/(Y164-W164)*(X164-W164)+W190","v":1610.0000000000002},{"$f":"(Y191-Y189)/(A191-A189)*(A190-A189)+Y189","v":560},{"$f":"(AA190-Y190)/(AA164-Y164)*(Z164-Y164)+Y190","v":-40.000000000000114},{"$f":"(AA191-AA189)/(A191-A189)*(A190-A189)+AA189","v":680},{"$f":"(AC190-AA190)/(AC164-AA164)*(AB164-AA164)+AA190","v":560},{"$f":"(AC191-AC189)/(A191-A189)*(A190-A189)+AC189","v":720},{"$f":"(AE190-AC190)/(AE164-AC164)*(AD164-AC164)+AC190","v":299.99999999999989},{"$f":"(AE191-AE189)/(A191-A189)*(A190-A189)+AE189","v":930},{"$f":"(AG190-AE190)/(AG164-AE164)*(AF164-AE164)+AE190","v":1101.55},{"$f":"(AG191-AG189)/(A191-A189)*(A190-A189)+AG189","v":1165},{"$f":"(AI190-AG190)/(AI164-AG164)*(AH164-AG164)+AG190","v":224.99999999999977},{"$f":"(AI191-AI189)/(A191-A189)*(A190-A189)+AI189","v":1400},{"$f":"(AK190-AI190)/(AK164-AI164)*(AJ164-AI164)+AI190","v":1400},{"$f":"(AK191-AK189)/(A191-A189)*(A190-A189)+AK189","v":1400},{"$f":"(AM190-AK190)/(AM164-AK164)*(AL164-AK164)+AK190","v":1999.9999999999998},{"$f":"(AM191-AM189)/(A191-A189)*(A190-A189)+AM189","v":1200},{"$f":"(AO190-AM190)/(AO164-AM164)*(AN164-AM164)+AM190","v":1200},{"$f":"(AO191-AO189)/(A191-A189)*(A190-A189)+AO189","v":1200},{"$f":"(AQ190-AO190)/(AQ164-AO164)*(AP164-AO164)+AO190","v":1200},{"$f":"(AQ191-AQ189)/(A191-A189)*(A190-A189)+AQ189","v":1200},27]
[80,{"$f":"B189+1","v":13},"-",{"$f":"(E191-C191)/(E164-C164)*(D164-C164)+C191","v":{"$error":"#VALUE!"}},"-",{"$f":"(G191-E191)/(G164-E164)*(F164-E164)+E191","v":{"$error":"#VALUE!"}},"-",{"$f":"(I191-G191)/(I164-G164)*(H164-G164)+G191","v":{"$error":"#VALUE!"}},"-",{"$f":"(K191-I191)/(K164-I164)*(J164-I164)+I191","v":{"$error":"#VALUE!"}},"-",{"$f":"(M191-K191)/(M164-K164)*(L164-K164)+K191","v":{"$error":"#VALUE!"}},"-",{"$f":"(O191-M191)/(O164-M164)*(N164-M164)+M191","v":{"$error":"#VALUE!"}},"-",{"$f":"(Q191-O191)/(Q164-O164)*(P164-O164)+O191","v":{"$error":"#VALUE!"}},"-",{"$f":"(S191-Q191)/(S164-Q164)*(R164-Q164)+Q191","v":{"$error":"#VALUE!"}},"-",{"$f":"(U191-S191)/(U164-S164)*(T164-S164)+S191","v":{"$error":"#VALUE!"}},0,{"$f":"(W191-U191)/(W164-U164)*(V164-U164)+U191","v":-999.99999999999989},250,{"$f":"(Y191-W191)/(Y164-W164)*(X164-W164)+W191","v":-190.00000000000011},360,{"$f":"(AA191-Y191)/(AA164-Y164)*(Z164-Y164)+Y191","v":-440.00000000000023},520,{"$f":"(AC191-AA191)/(AC164-AA164)*(AB164-AA164)+AA191","v":40.000000000000171},680,{"$f":"(AE191-AC191)/(AE164-AC164)*(AD164-AC164)+AC191","v":179.99999999999989},930,{"$f":"(AG191-AE191)/(AG164-AE164)*(AF164-AE164)+AE191","v":1101.55},1165,{"$f":"(AI191-AG191)/(AI164-AG164)*(AH164-AG164)+AG191","v":224.99999999999977},1400,{"$f":"(AK191-AI191)/(AK164-AI164)*(AJ164-AI164)+AI191","v":1400},1400,{"$f":"(AM191-AK191)/(AM164-AK164)*(AL164-AK164)+AK191","v":800.00000000000023},1600,{"$f":"(AO191-AM191)/(AO164-AM164)*(AN164-AM164)+AM191","v":1600},1600,{"$f":"(AQ191-AO191)/(AQ164-AO164)*(AP164-AO164)+AO191","v":1600},1600,28]
[{"$f":"IF(AND(AV171>A191,AV171<A193)=TRUE,AV171,0)","v":0},null,{"$f":"(C193-C191)/(A193-A191)*(A192-A191)+C191","v":{"$error":"#VALUE!"}},{"$f":"(E192-C192)/(E164-C164)*(D164-C164)+C192","v":{"$error":"#VALUE!"}},{"$f":"(E193-E191)/(A193-A191)*(A192-A191)+E191","v":{"$error":"#VALUE!"}},{"$f":"(G192-E192)/(G164-E164)*(F164-E164)+E192","v":{"$error":"#VALUE!"}},{"$f":"(G193-G191)/(A193-A191)*(A192-A191)+G191","v":{"$error":"#VALUE!"}},{"$f":"(I192-G192)/(I164-G164)*(H164-G164)+G192","v":{"$error":"#VALUE!"}},{"$f":"(I193-I191)/(A193-A191)*(A192-A191)+I191","v":{"$error":"#VALUE!"}},{"$f":"(K192-I192)/(K164-I164)*(J164-I164)+I192","v":{"$error":"#VALUE!"}},{"$f":"(K193-K191)/(A193-A191)*(A192-A191)+K191","v":{"$error":"#VALUE!"}},{"$f":"(M192-K192)/(M164-K164)*(L164-K164)+K192","v":{"$error":"#VALUE!"}},{"$f":"(M193-M191)/(A193-A191)*(A192-A191)+M191","v":{"$error":"#VALUE!"}},{"$f":"(O192-M192)/(O164-M164)*(N164-M164)+M192","v":{"$error":"#VALUE!"}},{"$f":"(O193-O191)/(A193-A191)*(A192-A191)+O191","v":{"$error":"#VALUE!"}},{"$f":"(Q192-O192)/(Q164-O164)*(P164-O164)+O192","v":{"$error":"#VALUE!"}},{"$f":"(Q193-Q191)/(A193-A191)*(A192-A191)+Q191","v":{"$error":"#VALUE!"}},{"$f":"(S192-Q192)/(S164-Q164)*(R164-Q164)+Q192","v":{"$error":"#VALUE!"}},{"$f":"(S193-S191)/(A193-A191)*(A192-A191)+S191","v":{"$error":"#VALUE!"}},{"$f":"(U192-S192)/(U164-S164)*(T164-S164)+S192","v":{"$error":"#VALUE!"}},{"$f":"(U193-U191)/(A193-A191)*(A192-A191)+U191","v":{"$error":"#VALUE!"}},{"$f":"(W192-U192)/(W164-U164)*(V164-U164)+U192","v":{"$error":"#VALUE!"}},{"$f":"(W193-W191)/(A193-A191)*(A192-A191)+W191","v":1250},{"$f":"(Y192-W192)/(Y164-W164)*(X164-W164)+W192","v":3690.0000000000005},{"$f":"(Y193-Y191)/(A193-A191)*(A192-A191)+Y191","v":640},{"$f":"(AA192-Y192)/(AA164-Y164)*(Z164-Y164)+Y192","v":239.99999999999989},{"$f":"(AA193-AA191)/(A193-A191)*(A192-A191)+AA191","v":720},{"$f":"(AC192-AA192)/(AC164-AA164)*(AB164-AA164)+AA192","v":480.00000000000011},{"$f":"(AC193-AC191)/(A193-A191)*(A192-A191)+AC191","v":800},{"$f":"(AE192-AC192)/(AE164-AC164)*(AD164-AC164)+AC192","v":299.99999999999989},{"$f":"(AE193-AE191)/(A193-A191)*(A192-A191)+AE191","v":1050},{"$f":"(AG192-AE192)/(AG164-AE164)*(AF164-AE164)+AE192","v":1177.75},{"$f":"(AG193-AG191)/(A193-A191)*(A192-A191)+AG191","v":1225},{"$f":"(AI192-AG192)/(AI164-AG164)*(AH164-AG164)+AG192","v":524.99999999999977},{"$f":"(AI193-AI191)/(A193-A191)*(A192-A191)+AI191","v":1400},{"$f":"(AK192-AI192)/(AK164-AI164)*(AJ164-AI164)+AI192","v":1400},{"$f":"(AK193-AK191)/(A193-A191)*(A192-A191)+AK191","v":1400},{"$f":"(AM192-AK192)/(AM164-AK164)*(AL164-AK164)+AK192","v":800.00000000000023},{"$f":"(AM193-AM191)/(A193-A191)*(A192-A191)+AM191","v":1600},{"$f":"(AO192-AM192)/(AO164-AM164)*(AN164-AM164)+AM192","v":4800.0000000000009},{"$f":"(AO193-AO191)/(A193-A191)*(A192-A191)+AO191","v":0},{"$f":"(AQ192-AO192)/(AQ164-AO164)*(AP164-AO164)+AO192","v":0},{"$f":"(AQ193-AQ191)/(A193-A191)*(A192-A191)+AQ191","v":0},29]
[100,{"$f":"B191+1","v":14},"-",{"$f":"(E193-C193)/(E164-C164)*(D164-C164)+C193","v":{"$error":"#VALUE!"}},"-",{"$f":"(G193-E193)/(G164-E164)*(F164-E164)+E193","v":{"$error":"#VALUE!"}},"-",{"$f":"(I193-G193)/(I164-G164)*(H164-G164)+G193","v":{"$error":"#VALUE!"}},"-",{"$f":"(K193-I193)/(K164-I164)*(J164-I164)+I193","v":{"$error":"#VALUE!"}},"-",{"$f":"(M193-K193)/(M164-K164)*(L164-K164)+K193","v":{"$error":"#VALUE!"}},"-",{"$f":"(O193-M193)/(O164-M164)*(N164-M164)+M193","v":{"$error":"#VALUE!"}},"-",{"$f":"(Q193-O193)/(Q164-O164)*(P164-O164)+O193","v":{"$error":"#VALUE!"}},"-",{"$f":"(S193-Q193)/(S164-Q164)*(R164-Q164)+Q193","v":{"$error":"#VALUE!"}},"-",{"$f":"(U193-S193)/(U164-S164)*(T164-S164)+S193","v":{"$error":"#VALUE!"}},"-",{"$f":"(W193-U193)/(W164-U164)*(V164-U164)+U193","v":{"$error":"#VALUE!"}},0,{"$f":"(Y193-W193)/(Y164-W164)*(X164-W164)+W193","v":-1160.0000000000002},290,{"$f":"(AA193-Y193)/(AA164-Y164)*(Z164-Y164)+Y193","v":-610.00000000000023},470,{"$f":"(AC193-AA193)/(AC164-AA164)*(AB164-AA164)+AA193","v":-69.999999999999773},650,{"$f":"(AE193-AC193)/(AE164-AC164)*(AD164-AC164)+AC193","v":149.99999999999989},900,{"$f":"(AG193-AE193)/(AG164-AE164)*(AF164-AE164)+AE193","v":1082.5},1150,{"$f":"(AI193-AG193)/(AI164-AG164)*(AH164-AG164)+AG193","v":149.99999999999977},1400,{"$f":"(AK193-AI193)/(AK164-AI164)*(AJ164-AI164)+AI193","v":1400},1400,{"$f":"(AM193-AK193)/(AM164-AK164)*(AL164-AK164)+AK193","v":800.00000000000023},1600,{"$f":"(AO193-AM193)/(AO164-AM164)*(AN164-AM164)+AM193","v":799.99999999999977},2000,{"$f":"(AQ193-AO193)/(AQ164-AO164)*(AP164-AO164)+AO193","v":2000},2000,30]
[{"$f":"IF(AND(AV171>A193,AV171<A195)=TRUE,AV171,0)","v":0},null,{"$f":"(C195-C191)/(A195-A191)*(A194-A191)+C191","v":{"$error":"#VALUE!"}},{"$f":"(E194-C194)/(E164-C164)*(D164-C164)+C194","v":{"$error":"#VALUE!"}},{"$f":"(E195-E191)/(A195-A191)*(A194-A191)+E191","v":{"$error":"#VALUE!"}},{"$f":"(G194-E194)/(G164-E164)*(F164-E164)+E194","v":{"$error":"#VALUE!"}},{"$f":"(G195-G191)/(A195-A191)*(A194-A191)+G191","v":{"$error":"#VALUE!"}},{"$f":"(I194-G194)/(I164-G164)*(H164-G164)+G194","v":{"$error":"#VALUE!"}},{"$f":"(I195-I191)/(A195-A191)*(A194-A191)+I191","v":{"$error":"#VALUE!"}},{"$f":"(K194-I194)/(K164-I164)*(J164-I164)+I194","v":{"$error":"#VALUE!"}},{"$f":"(K195-K191)/(A195-A191)*(A194-A191)+K191","v":{"$error":"#VALUE!"}},{"$f":"(M194-K194)/(M164-K164)*(L164-K164)+K194","v":{"$error":"#VALUE!"}},{"$f":"(M195-M191)/(A195-A191)*(A194-A191)+M191","v":{"$error":"#VALUE!"}},{"$f":"(O194-M194)/(O164-M164)*(N164-M164)+M194","v":{"$error":"#VALUE!"}},{"$f":"(O195-O191)/(A195-A191)*(A194-A191)+O191","v":{"$error":"#VALUE!"}},{"$f":"(Q194-O194)/(Q164-O164)*(P164-O164)+O194","v":{"$error":"#VALUE!"}},{"$f":"(Q195-Q191)/(A195-A191)*(A194-A191)+Q191","v":{"$error":"#VALUE!"}},{"$f":"(S194-Q194)/(S164-Q164)*(R164-Q164)+Q194","v":{"$error":"#VALUE!"}},{"$f":"(S195-S191)/(A195-A191)*(A194-A191)+S191","v":{"$error":"#VALUE!"}},{"$f":"(U194-S194)/(U164-S164)*(T164-S164)+S194","v":{"$error":"#VALUE!"}},{"$f":"(U195-U191)/(A195-A191)*(A194-A191)+U191","v":{"$error":"#VALUE!"}},{"$f":"(W194-U194)/(W164-U164)*(V164-U164)+U194","v":{"$error":"#VALUE!"}},{"$f":"(W195-W191)/(A195-A191)*(A194-A191)+W191","v":{"$error":"#VALUE!"}},{"$f":"(Y194-W194)/(Y164-W164)*(X164-W164)+W194","v":{"$error":"#VALUE!"}},{"$f":"(Y195-Y191)/(A195-A191)*(A194-A191)+Y191","v":771.42857142857144},{"$f":"(AA194-Y194)/(AA164-Y164)*(Z164-Y164)+Y194","v":-942.85714285714278},{"$f":"(AA195-AA191)/(A195-A191)*(A194-A191)+AA191","v":1114.2857142857142},{"$f":"(AC194-AA194)/(AC164-AA164)*(AB164-AA164)+AA194","v":1902.8571428571422},{"$f":"(AC195-AC191)/(A195-A191)*(A194-A191)+AC191","v":851.42857142857144},{"$f":"(AE194-AC194)/(AE164-AC164)*(AD164-AC164)+AC194","v":754.28571428571433},{"$f":"(AE195-AE193)/(A195-A193)*(A194-A193)+AE193","v":900},{"$f":"(AG194-AE194)/(AG164-AE164)*(AF164-AE164)+AE194","v":1082.5},{"$f":"(AG195-AG193)/(A195-A193)*(A194-A193)+AG193","v":1150},{"$f":"(AI194-AG194)/(AI164-AG164)*(AH164-AG164)+AG194","v":149.99999999999977},{"$f":"(AI195-AI193)/(A195-A193)*(A194-A193)+AI193","v":1400},{"$f":"(AK194-AI194)/(AK164-AI164)*(AJ164-AI164)+AI194","v":1400},{"$f":"(AK195-AK193)/(A195-A193)*(A194-A193)+AK193","v":1400},{"$f":"(AM194-AK194)/(AM164-AK164)*(AL164-AK164)+AK194","v":800.00000000000023},{"$f":"(AM195-AM193)/(A195-A193)*(A194-A193)+AM193","v":1600},{"$f":"(AO194-AM194)/(AO164-AM164)*(AN164-AM164)+AM194","v":1600},{"$f":"(AO195-AO193)/(A195-A193)*(A194-A193)+AO193","v":1600},{"$f":"(AQ194-AO194)/(AQ164-AO164)*(AP164-AO164)+AO194","v":1600},{"$f":"(AQ195-AQ193)/(A195-A193)*(A194-A193)+AQ193","v":1600},31]
[150,{"$f":"B193+1","v":15},"-",{"$f":"(E195-C195)/(E164-C164)*(D164-C164)+C195","v":{"$error":"#VALUE!"}},"-",{"$f":"(G195-E195)/(G164-E164)*(F164-E164)+E195","v":{"$error":"#VALUE!"}},"-",{"$f":"(I195-G195)/(I164-G164)*(H164-G164)+G195","v":{"$error":"#VALUE!"}},"-",{"$f":"(K195-I195)/(K164-I164)*(J164-I164)+I195","v":{"$error":"#VALUE!"}},"-",{"$f":"(M195-K195)/(M164-K164)*(L164-K164)+K195","v":{"$error":"#VALUE!"}},"-",{"$f":"(O195-M195)/(O164-M164)*(N164-M164)+M195","v":{"$error":"#VALUE!"}},"-",{"$f":"(Q195-O195)/(Q164-O164)*(P164-O164)+O195","v":{"$error":"#VALUE!"}},"-",{"$f":"(S195-Q195)/(S164-Q164)*(R164-Q164)+Q195","v":{"$error":"#VALUE!"}},"-",{"$f":"(U195-S195)/(U164-S164)*(T164-S164)+S195","v":{"$error":"#VALUE!"}},"-",{"$f":"(W195-U195)/(W164-U164)*(V164-U164)+U195","v":{"$error":"#VALUE!"}},"-",{"$f":"(Y195-W195)/(Y164-W164)*(X164-W164)+W195","v":{"$error":"#VALUE!"}},0,{"$f":"(AA195-Y195)/(AA164-Y164)*(Z164-Y164)+Y195","v":0},0,{"$f":"(AC195-AA195)/(AC164-AA164)*(AB164-AA164)+AA195","v":-1589.9999999999993},530,{"$f":"(AE195-AC195)/(AE164-AC164)*(AD164-AC164)+AC195","v":-210.00000000000023},900,{"$f":"(AG195-AE195)/(AG164-AE164)*(AF164-AE164)+AE195","v":1082.5},1150,{"$f":"(AI195-AG195)/(AI164-AG164)*(AH164-AG164)+AG195","v":149.99999999999977},1400,{"$f":"(AK195-AI195)/(AK164-AI164)*(AJ164-AI164)+AI195","v":1400},1400,{"$f":"(AM195-AK195)/(AM164-AK164)*(AL164-AK164)+AK195","v":800.00000000000023},1600,{"$f":"(AO195-AM195)/(AO164-AM164)*(AN164-AM164)+AM195","v":399.99999999999977},2200,{"$f":"(AQ195-AO195)/(AQ164-AO164)*(AP164-AO164)+AO195","v":2200},2200,32]
[{"$f":"IF(AND(AV171>A195,AV171<A197)=TRUE,AV171,0)","v":0},null,{"$f":"(C197-C195)/(A197-A195)*(A196-A195)+C195","v":{"$error":"#VALUE!"}},{"$f":"(E196-C196)/(E164-C164)*(D164-C164)+C196","v":{"$error":"#VALUE!"}},{"$f":"(E197-E195)/(A197-A195)*(A196-A195)+E195","v":{"$error":"#VALUE!"}},{"$f":"(G196-E196)/(G164-E164)*(F164-E164)+E196","v":{"$error":"#VALUE!"}},{"$f":"(G197-G195)/(A197-A195)*(A196-A195)+G195","v":{"$error":"#VALUE!"}},{"$f":"(I196-G196)/(I164-G164)*(H164-G164)+G196","v":{"$error":"#VALUE!"}},{"$f":"(I197-I195)/(A197-A195)*(A196-A195)+I195","v":{"$error":"#VALUE!"}},{"$f":"(K196-I196)/(K164-I164)*(J164-I164)+I196","v":{"$error":"#VALUE!"}},{"$f":"(K197-K195)/(A197-A195)*(A196-A195)+K195","v":{"$error":"#VALUE!"}},{"$f":"(M196-K196)/(M164-K164)*(L164-K164)+K196","v":{"$error":"#VALUE!"}},{"$f":"(M197-M195)/(A197-A195)*(A196-A195)+M195","v":{"$error":"#VALUE!"}},{"$f":"(O196-M196)/(O164-M164)*(N164-M164)+M196","v":{"$error":"#VALUE!"}},{"$f":"(O197-O195)/(A197-A195)*(A196-A195)+O195","v":{"$error":"#VALUE!"}},{"$f":"(Q196-O196)/(Q164-O164)*(P164-O164)+O196","v":{"$error":"#VALUE!"}},{"$f":"(Q197-Q195)/(A197-A195)*(A196-A195)+Q195","v":{"$error":"#VALUE!"}},{"$f":"(S196-Q196)/(S164-Q164)*(R164-Q164)+Q196","v":{"$error":"#VALUE!"}},{"$f":"(S197-S195)/(A197-A195)*(A196-A195)+S195","v":{"$error":"#VALUE!"}},{"$f":"(U196-S196)/(U164-S164)*(T164-S164)+S196","v":{"$error":"#VALUE!"}},{"$f":"(U197-U195)/(A197-A195)*(A196-A195)+U195","v":{"$error":"#VALUE!"}},{"$f":"(W196-U196)/(W164-U164)*(V164-U164)+U196","v":{"$error":"#VALUE!"}},{"$f":"(W197-W195)/(A197-A195)*(A196-A195)+W195","v":{"$error":"#VALUE!"}},{"$f":"(Y196-W196)/(Y164-W164)*(X164-W164)+W196","v":{"$error":"#VALUE!"}},{"$f":"(Y197-Y195)/(A197-A195)*(A196-A195)+Y195","v":{"$error":"#VALUE!"}},{"$f":"(AA196-Y196)/(AA164-Y164)*(Z164-Y164)+Y196","v":{"$error":"#VALUE!"}},{"$f":"(AA197-AA195)/(A197-A195)*(A196-A195)+AA195","v":{"$error":"#VALUE!"}},{"$f":"(AC196-AA196)/(AC164-AA164)*(AB164-AA164)+AA196","v":{"$error":"#VALUE!"}},{"$f":"(AC197-AC195)/(A197-A195)*(A196-A195)+AC195","v":2120},{"$f":"(AE196-AC196)/(AE164-AC164)*(AD164-AC164)+AC196","v":3960.0000000000005},{"$f":"(AE197-AE195)/(A197-A195)*(A196-A195)+AE195","v":1200},{"$f":"(AG196-AE196)/(AG164-AE164)*(AF164-AE164)+AE196","v":1273},{"$f":"(AG197-AG195)/(A197-A195)*(A196-A195)+AG195","v":1300},{"$f":"(AI196-AG196)/(AI164-AG164)*(AH164-AG164)+AG196","v":899.99999999999989},{"$f":"(AI197-AI195)/(A197-A195)*(A196-A195)+AI195","v":1400},{"$f":"(AK196-AI196)/(AK164-AI164)*(AJ164-AI164)+AI196","v":1400},{"$f":"(AK197-AK195)/(A197-A195)*(A196-A195)+AK195","v":1400},{"$f":"(AM196-AK196)/(AM164-AK164)*(AL164-AK164)+AK196","v":800.00000000000023},{"$f":"(AM197-AM195)/(A197-A195)*(A196-A195)+AM195","v":1600},{"$f":"(AO196-AM196)/(AO164-AM164)*(AN164-AM164)+AM196","v":399.99999999999977},{"$f":"(AO197-AO195)/(A197-A195)*(A196-A195)+AO195","v":2200},{"$f":"(AQ196-AO196)/(AQ164-AO164)*(AP164-AO164)+AO196","v":2200},{"$f":"(AQ197-AQ195)/(A197-A195)*(A196-A195)+AQ195","v":2200},33]
[200,{"$f":"B195+1","v":16},"-",{"$f":"(E197-C197)/(E164-C164)*(D164-C164)+C197","v":{"$error":"#VALUE!"}},"-",{"$f":"(G197-E197)/(G164-E164)*(F164-E164)+E197","v":{"$error":"#VALUE!"}},"-",{"$f":"(I197-G197)/(I164-G164)*(H164-G164)+G197","v":{"$error":"#VALUE!"}},"-",{"$f":"(K197-I197)/(K164-I164)*(J164-I164)+I197","v":{"$error":"#VALUE!"}},"-",{"$f":"(M197-K197)/(M164-K164)*(L164-K164)+K197","v":{"$error":"#VALUE!"}},"-",{"$f":"(O197-M197)/(O164-M164)*(N164-M164)+M197","v":{"$error":"#VALUE!"}},"-",{"$f":"(Q197-O197)/(Q164-O164)*(P164-O164)+O197","v":{"$error":"#VALUE!"}},"-",{"$f":"(S197-Q197)/(S164-Q164)*(R164-Q164)+Q197","v":{"$error":"#VALUE!"}},"-",{"$f":"(U197-S197)/(U164-S164)*(T164-S164)+S197","v":{"$error":"#VALUE!"}},"-",{"$f":"(W197-U197)/(W164-U164)*(V164-U164)+U197","v":{"$error":"#VALUE!"}},"-",{"$f":"(Y197-W197)/(Y164-W164)*(X164-W164)+W197","v":{"$error":"#VALUE!"}},"-",{"$f":"(AA197-Y197)/(AA164-Y164)*(Z164-Y164)+Y197","v":{"$error":"#VALUE!"}},"-",{"$f":"(AC197-AA197)/(AC164-AA164)*(AB164-AA164)+AA197","v":{"$error":"#VALUE!"}},0,{"$f":"(AE197-AC197)/(AE164-AC164)*(AD164-AC164)+AC197","v":-1600.0000000000005},800,{"$f":"(AG197-AE197)/(AG164-AE164)*(AF164-AE164)+AE197","v":1019},1100,{"$f":"(AI197-AG197)/(AI164-AG164)*(AH164-AG164)+AG197","v":-100.00000000000023},1400,{"$f":"(AK197-AI197)/(AK164-AI164)*(AJ164-AI164)+AI197","v":1400},1400,{"$f":"(AM197-AK197)/(AM164-AK164)*(AL164-AK164)+AK197","v":800.00000000000023},1600,{"$f":"(AO197-AM197)/(AO164-AM164)*(AN164-AM164)+AM197","v":399.99999999999977},2200,{"$f":"(AQ197-AO197)/(AQ164-AO164)*(AP164-AO164)+AO197","v":2200},2200,34]
[{"$f":"IF(AND(AV171>A197,AV171<A199)=TRUE,AV171,0)","v":0},null,{"$f":"(C199-C197)/(A199-A197)*(A198-A197)+C197","v":{"$error":"#VALUE!"}},{"$f":"(E198-C198)/(E164-C164)*(D164-C164)+C198","v":{"$error":"#VALUE!"}},{"$f":"(E199-E197)/(A199-A197)*(A198-A197)+E197","v":{"$error":"#VALUE!"}},{"$f":"(G198-E198)/(G164-E164)*(F164-E164)+E198","v":{"$error":"#VALUE!"}},{"$f":"(G199-G197)/(A199-A197)*(A198-A197)+G197","v":{"$error":"#VALUE!"}},{"$f":"(I198-G198)/(I164-G164)*(H164-G164)+G198","v":{"$error":"#VALUE!"}},{"$f":"(I199-I197)/(A199-A197)*(A198-A197)+I197","v":{"$error":"#VALUE!"}},{"$f":"(K198-I198)/(K164-I164)*(J164-I164)+I198","v":{"$error":"#VALUE!"}},{"$f":"(K199-K197)/(A199-A197)*(A198-A197)+K197","v":{"$error":"#VALUE!"}},{"$f":"(M198-K198)/(M164-K164)*(L164-K164)+K198","v":{"$error":"#VALUE!"}},{"$f":"(M199-M197)/(A199-A197)*(A198-A197)+M197","v":{"$error":"#VALUE!"}},{"$f":"(O198-M198)/(O164-M164)*(N164-M164)+M198","v":{"$error":"#VALUE!"}},{"$f":"(O199-O197)/(A199-A197)*(A198-A197)+O197","v":{"$error":"#VALUE!"}},{"$f":"(Q198-O198)/(Q164-O164)*(P164-O164)+O198","v":{"$error":"#VALUE!"}},{"$f":"(Q199-Q197)/(A199-A197)*(A198-A197)+Q197","v":{"$error":"#VALUE!"}},{"$f":"(S198-Q198)/(S164-Q164)*(R164-Q164)+Q198","v":{"$error":"#VALUE!"}},{"$f":"(S199-S197)/(A199-A197)*(A198-A197)+S197","v":{"$error":"#VALUE!"}},{"$f":"(U198-S198)/(U164-S164)*(T164-S164)+S198","v":{"$error":"#VALUE!"}},{"$f":"(U199-U197)/(A199-A197)*(A198-A197)+U197","v":{"$error":"#VALUE!"}},{"$f":"(W198-U198)/(W164-U164)*(V164-U164)+U198","v":{"$error":"#VALUE!"}},{"$f":"(W199-W197)/(A199-A197)*(A198-A197)+W197","v":{"$error":"#VALUE!"}},{"$f":"(Y198-W198)/(Y164-W164)*(X164-W164)+W198","v":{"$error":"#VALUE!"}},{"$f":"(Y199-Y197)/(A199-A197)*(A198-A197)+Y197","v":{"$error":"#VALUE!"}},{"$f":"(AA198-Y198)/(AA164-Y164)*(Z164-Y164)+Y198","v":{"$error":"#VALUE!"}},{"$f":"(AA199-AA197)/(A199-A197)*(A198-A197)+AA197","v":{"$error":"#VALUE!"}},{"$f":"(AC198-AA198)/(AC164-AA164)*(AB164-AA164)+AA198","v":{"$error":"#VALUE!"}},{"$f":"(AC199-AC197)/(A199-A197)*(A198-A197)+AC197","v":{"$error":"#VALUE!"}},{"$f":"(AE198-AC198)/(AE164-AC164)*(AD164-AC164)+AC198","v":{"$error":"#VALUE!"}},{"$f":"(AE199-AE197)/(A199-A197)*(A198-A197)+AE197","v":2400},{"$f":"(AG198-AE198)/(AG164-AE164)*(AF164-AE164)+AE198","v":1597},{"$f":"(AG199-AG197)/(A199-A197)*(A198-A197)+AG197","v":1300},{"$f":"(AI198-AG198)/(AI164-AG164)*(AH164-AG164)+AG198","v":99.999999999999773},{"$f":"(AI199-AI197)/(A199-A197)*(A198-A197)+AI197","v":1600},{"$f":"(AK198-AI198)/(AK164-AI164)*(AJ164-AI164)+AI198","v":2600},{"$f":"(AK199-AK197)/(A199-A197)*(A198-A197)+AK197","v":1400},{"$f":"(AM198-AK198)/(AM164-AK164)*(AL164-AK164)+AK198","v":800.00000000000023},{"$f":"(AM199-AM197)/(A199-A197)*(A198-A197)+AM197","v":1600},{"$f":"(AO198-AM198)/(AO164-AM164)*(AN164-AM164)+AM198","v":399.99999999999977},{"$f":"(AO199-AO197)/(A199-A197)*(A198-A197)+AO197","v":2200},{"$f":"(AQ198-AO198)/(AQ164-AO164)*(AP164-AO164)+AO198","v":2200},{"$f":"(AQ199-AQ197)/(A199-A197)*(A198-A197)+AQ197","v":2200},35]
[300,{"$f":"B197+1","v":17},"-",{"$f":"(E199-C199)/(E164-C164)*(D164-C164)+C199","v":{"$error":"#VALUE!"}},"-",{"$f":"(G199-E199)/(G164-E164)*(F164-E164)+E199","v":{"$error":"#VALUE!"}},"-",{"$f":"(I199-G199)/(I164-G164)*(H164-G164)+G199","v":{"$error":"#VALUE!"}},"-",{"$f":"(K199-I199)/(K164-I164)*(J164-I164)+I199","v":{"$error":"#VALUE!"}},"-",{"$f":"(M199-K199)/(M164-K164)*(L164-K164)+K199","v":{"$error":"#VALUE!"}},"-",{"$f":"(O199-M199)/(O164-M164)*(N164-M164)+M199","v":{"$error":"#VALUE!"}},"-",{"$f":"(Q199-O199)/(Q164-O164)*(P164-O164)+O199","v":{"$error":"#VALUE!"}},"-",{"$f":"(S199-Q199)/(S164-Q164)*(R164-Q164)+Q199","v":{"$error":"#VALUE!"}},"-",{"$f":"(U199-S199)/(U164-S164)*(T164-S164)+S199","v":{"$error":"#VALUE!"}},"-",{"$f":"(W199-U199)/(W164-U164)*(V164-U164)+U199","v":{"$error":"#VALUE!"}},"-",{"$f":"(Y199-W199)/(Y164-W164)*(X164-W164)+W199","v":{"$error":"#VALUE!"}},"-",{"$f":"(AA199-Y199)/(AA164-Y164)*(Z164-Y164)+Y199","v":{"$error":"#VALUE!"}},"-",{"$f":"(AC199-AA199)/(AC164-AA164)*(AB164-AA164)+AA199","v":{"$error":"#VALUE!"}},"-",{"$f":"(AE199-AC199)/(AE164-AC164)*(AD164-AC164)+AC199","v":{"$error":"#VALUE!"}},0,{"$f":"(AG199-AE199)/(AG164-AE164)*(AF164-AE164)+AE199","v":729.99999999999977},1000,{"$f":"(AI199-AG199)/(AI164-AG164)*(AH164-AG164)+AG199","v":-200.00000000000023},1300,{"$f":"(AK199-AI199)/(AK164-AI164)*(AJ164-AI164)+AI199","v":799.99999999999989},1400,{"$f":"(AM199-AK199)/(AM164-AK164)*(AL164-AK164)+AK199","v":800.00000000000023},1600,{"$f":"(AO199-AM199)/(AO164-AM164)*(AN164-AM164)+AM199","v":399.99999999999977},2200,{"$f":"(AQ199-AO199)/(AQ164-AO164)*(AP164-AO164)+AO199","v":2200},2200,36]
[null,null,null,null,null,null,null,null,null,null,null,null,null,null,null,null,null,null,null,null,null,null,null,null,null,null,null,null,null,null,null,null,null,null,null,null,null,null,null,null,null,null," ",37]
["COL",null,3,{"$f":"C201+1","v":4},{"$f":"D201+1","v":5},6,7,8,9,10,11,12,13,14,15,16,17,18,{"$f":"R201+1","v":19},20,21,22,23,24,25,26,27,28,29,30,31,32,33,34,35,36,37,38,39,40,41,42,43,38]
[null,null,1,2,null,3,null,4,null,5,null,6,null,7,null,8,null,9,null,10,null,11,null,12,null,13,null,14,null,15,null,16,null,17,null,18,null,19,null,20,null,21]
[]
[]
[null,"Рвх",5.0000000000000001E-3,{"$f":"IF(AND(AS212>C205,AS212<E205)=TRUE,AS212,0)","v":0},0.01,{"$f":"IF(AND(AS212>E205,AS212<G205)=TRUE,AS212,0)","v":0},1.4999999999999999E-2,{"$f":"IF(AND(AS212>G205,AS212<I205)=TRUE,AS212,0)","v":0},0.02,{"$f":"IF(AND(AS212>I205,AS212<K205)=TRUE,AS212,0)","v":0},0.03,{"$f":"IF(AND(AS212>K205,AS212<M205)=TRUE,AS212,0)","v":0},0.04,{"$f":"IF(AND(AS212>M205,AS212<O205)=TRUE,AS212,0)","v":0},0.05,{"$f":"IF(AND(AS212>O205,AS212<Q205)=TRUE,AS212,0)","v":0},0.06,{"$f":"IF(AND(AS212>Q205,AS212<S205)=TRUE,AS212,0)","v":0},7.0000000000000007E-2,{"$f":"IF(AND(AS212>S205,AS212<U205)=TRUE,AS212,0)","v":0},0.08,{"$f":"IF(AND(AS212>U205,AS212<W205)=TRUE,AS212,0)","v":0},0.1,{"$f":"IF(AND(AS212>W205,AS212<Y205)=TRUE,AS212,0)","v":0},0.125,{"$f":"IF(AND(AS212>Y205,AS212<AA205)=TRUE,AS212,0)","v":0},0.15,{"$f":"IF(AND(AS212>AA205,AS212<AC205)=TRUE,AS212,0)","v":0},0.2,{"$f":"IF(AND(AS212>AC205,AS212<AE205)=TRUE,AS212,0)","v":0},0.3,{"$f":"IF(AND(AS212>AE205,AS212<AG205)=TRUE,AS212,0)","v":0.373},0.4,{"$f":"IF(AND(AS212>AG205,AS212<AI205)=TRUE,AS212,0)","v":0},0.5,{"$f":"IF(AND(AS212>AI205,AS212<AK205)=TRUE,AS212,0)","v":0},0.6,{"$f":"IF(AND(AS212>AK205,AS212<AM205)=TRUE,AS212,0)","v":0},0.8,{"$f":"IF(AND(AS212>AM205,AS212<AO205)=TRUE,AS212,0)","v":0},1.2,{"$f":"IF(AND(AS212>AO205,AS212<AQ205)=TRUE,AS212,0)","v":0},1.6,1]
["Рвых","МПа",null,null,null,null,null,null,null,null,null,null,null,null,null,null,null,null,null,null,null,null,null,null,null,null,null,null,null,null,null,null,null,null,null,null,null,null,null,null,null,null,null,{"$f":"AR205+1","v":2}]
["кПа",null,null,null,null,null,null,null,null,null,null,null,null,null,null,null,null,null,null,null,null,null,null,null,null,null,null,null,null,null,null,null,null,null,null,null,null,null,null,null,null,null,null,{"$f":"AR206+1","v":3}]
[2,1,200,{"$f":"(E208-C208)/(E205-C205)*(D205-C205)+C208","v":70},330,{"$f":"(G208-E208)/(G205-E205)*(F205-E205)+E208","v":210},390,{"$f":"(I208-G208)/(I205-G205)*(H205-G205)+G208","v":-89.999999999999886},550,{"$f":"(K208-I208)/(K205-I205)*(J205-I205)+I208","v":330},660,{"$f":"(M208-K208)/(M205-K205)*(L205-K205)+K208","v":375.00000000000006},755,{"$f":"(O208-M208)/(O205-M205)*(N205-M205)+M208","v":415.00000000000006},840,{"$f":"(Q208-O208)/(Q205-O205)*(P205-O205)+O208","v":539.99999999999977},900,{"$f":"(S208-Q208)/(S205-Q205)*(R205-Q205)+Q208","v":450.0000000000004},975,{"$f":"(U208-S208)/(U205-S205)*(T205-S205)+S208","v":589.99999999999977},1030,{"$f":"(W208-U208)/(W205-U205)*(V205-U205)+U208","v":470.00000000000011},1170,{"$f":"(Y208-W208)/(Y205-W205)*(X205-W205)+W208","v":689.99999999999989},1290,{"$f":"(AA208-Y208)/(AA205-Y205)*(Z205-Y205)+Y208","v":589.99999999999989},1430,{"$f":"(AC208-AA208)/(AC205-AA205)*(AB205-AA205)+AA208","v":620.00000000000034},1700,{"$f":"(AE208-AC208)/(AE205-AC205)*(AD205-AC205)+AC208","v":519.99999999999977},2290,{"$f":"(AG208-AE208)/(AG205-AE205)*(AF205-AE205)+AE208","v":2698.7999999999997},2850,{"$f":"(AI208-AG208)/(AI205-AG205)*(AH205-AG205)+AG208","v":529.99999999999955},3430,{"$f":"(AK208-AI208)/(AK205-AI205)*(AJ205-AI205)+AI208","v":3430},3430,{"$f":"(AM208-AK208)/(AM205-AK205)*(AL205-AK205)+AK208","v":{"$error":"#VALUE!"}},"-",{"$f":"(AO208-AM208)/(AO205-AM205)*(AN205-AM205)+AM208","v":{"$error":"#VALUE!"}},"-",{"$f":"(AQ208-AO208)/(AQ205-AO205)*(AP205-AO205)+AO208","v":{"$error":"#VALUE!"}},"-",4,"Рвх","Q","Qcрасч","Рвых","Рвых"]
[{"$f":"IF(AND(AV212>A208,AV212<A210)=TRUE,AV212,0)","v":0},null,{"$f":"(C210-C208)/(A210-A208)*(A209-A208)+C208","v":280},{"$f":"(E209-C209)/(E205-C205)*(D205-C205)+C209","v":210},{"$f":"(E210-E208)/(A210-A208)*(A209-A208)+E208","v":350},{"$f":"(G209-E209)/(G205-E205)*(F205-E205)+E209","v":230},{"$f":"(G210-G208)/(A210-A208)*(A209-A208)+G208","v":410},{"$f":"(I209-G209)/(I205-G205)*(H205-G205)+G209","v":-99.999999999999886},{"$f":"(I210-I208)/(A210-A208)*(A209-A208)+I208","v":580},{"$f":"(K209-I209)/(K205-I205)*(J205-I205)+I209","v":420},{"$f":"(K210-K208)/(A210-A208)*(A209-A208)+K208","v":660},{"$f":"(M209-K209)/(M205-K205)*(L205-K205)+K209","v":375.00000000000006},{"$f":"(M210-M208)/(A210-A208)*(A209-A208)+M208","v":755},{"$f":"(O209-M209)/(O205-M205)*(N205-M205)+M209","v":415.00000000000006},{"$f":"(O210-O208)/(A210-A208)*(A209-A208)+O208","v":840},{"$f":"(Q209-O209)/(Q205-O205)*(P205-O205)+O209","v":539.99999999999977},{"$f":"(Q210-Q208)/(A210-A208)*(A209-A208)+Q208","v":900},{"$f":"(S209-Q209)/(S205-Q205)*(R205-Q205)+Q209","v":450.0000000000004},{"$f":"(S210-S208)/(A210-A208)*(A209-A208)+S208","v":975},{"$f":"(U209-S209)/(U205-S205)*(T205-S205)+S209","v":589.99999999999977},{"$f":"(U210-U208)/(A210-A208)*(A209-A208)+U208","v":1030},{"$f":"(W209-U209)/(W205-U205)*(V205-U205)+U209","v":470.00000000000011},{"$f":"(W210-W208)/(A210-A208)*(A209-A208)+W208","v":1170},{"$f":"(Y209-W209)/(Y205-W205)*(X205-W205)+W209","v":689.99999999999989},{"$f":"(Y210-Y208)/(A210-A208)*(A209-A208)+Y208","v":1290},{"$f":"(AA209-Y209)/(AA205-Y205)*(Z205-Y205)+Y209","v":589.99999999999989},{"$f":"(AA210-AA208)/(A210-A208)*(A209-A208)+AA208","v":1430},{"$f":"(AC209-AA209)/(AC205-AA205)*(AB205-AA205)+AA209","v":620.00000000000034},{"$f":"(AC210-AC208)/(A210-A208)*(A209-A208)+AC208","v":1700},{"$f":"(AE209-AC209)/(AE205-AC205)*(AD205-AC205)+AC209","v":519.99999999999977},{"$f":"(AE210-AE208)/(A210-A208)*(A209-A208)+AE208","v":2290},{"$f":"(AG209-AE209)/(AG205-AE205)*(AF205-AE205)+AE209","v":2698.7999999999997},{"$f":"(AG210-AG208)/(A210-A208)*(A209-A208)+AG208","v":2850},{"$f":"(AI209-AG209)/(AI205-AG205)*(AH205-AG205)+AG209","v":529.99999999999955},{"$f":"(AI210-AI208)/(A210-A208)*(A209-A208)+AI208","v":3430},{"$f":"(AK209-AI209)/(AK205-AI205)*(AJ205-AI205)+AI209","v":3430},{"$f":"(AK210-AK208)/(A210-A208)*(A209-A208)+AK208","v":3430},{"$f":"(AM209-AK209)/(AM205-AK205)*(AL205-AK205)+AK209","v":{"$error":"#VALUE!"}},{"$f":"(AM210-AM208)/(A210-A208)*(A209-A208)+AM208","v":{"$error":"#VALUE!"}},{"$f":"(AO209-AM209)/(AO205-AM205)*(AN205-AM205)+AM209","v":{"$error":"#VALUE!"}},{"$f":"(AO210-AO208)/(A210-A208)*(A209-A208)+AO208","v":{"$error":"#VALUE!"}},{"$f":"(AQ209-AO209)/(AQ205-AO205)*(AP205-AO205)+AO209","v":{"$error":"#VALUE!"}},{"$f":"(AQ210-AQ208)/(A210-A208)*(A209-A208)+AQ208","v":{"$error":"#VALUE!"}},5]
[3,{"$f":"B208+1","v":2},160,{"$f":"(E210-C210)/(E205-C205)*(D205-C205)+C210","v":0},320,{"$f":"(G210-E210)/(G205-E205)*(F205-E205)+E210","v":200},380,{"$f":"(I210-G210)/(I205-G205)*(H205-G205)+G210","v":-84.999999999999886},535,{"$f":"(K210-I210)/(K205-I205)*(J205-I205)+I210","v":285},660,{"$f":"(M210-K210)/(M205-K205)*(L205-K205)+K210","v":375.00000000000006},755,{"$f":"(O210-M210)/(O205-M205)*(N205-M205)+M210","v":415.00000000000006},840,{"$f":"(Q210-O210)/(Q205-O205)*(P205-O205)+O210","v":539.99999999999977},900,{"$f":"(S210-Q210)/(S205-Q205)*(R205-Q205)+Q210","v":450.0000000000004},975,{"$f":"(U210-S210)/(U205-S205)*(T205-S205)+S210","v":589.99999999999977},1030,{"$f":"(W210-U210)/(W205-U205)*(V205-U205)+U210","v":470.00000000000011},1170,{"$f":"(Y210-W210)/(Y205-W205)*(X205-W205)+W210","v":689.99999999999989},1290,{"$f":"(AA210-Y210)/(AA205-Y205)*(Z205-Y205)+Y210","v":589.99999999999989},1430,{"$f":"(AC210-AA210)/(AC205-AA205)*(AB205-AA205)+AA210","v":620.00000000000034},1700,{"$f":"(AE210-AC210)/(AE205-AC205)*(AD205-AC205)+AC210","v":519.99999999999977},2290,{"$f":"(AG210-AE210)/(AG205-AE205)*(AF205-AE205)+AE210","v":2698.7999999999997},2850,{"$f":"(AI210-AG210)/(AI205-AG205)*(AH205-AG205)+AG210","v":529.99999999999955},3430,{"$f":"(AK210-AI210)/(AK205-AI205)*(AJ205-AI205)+AI210","v":3430},3430,{"$f":"(AM210-AK210)/(AM205-AK205)*(AL205-AK205)+AK210","v":{"$error":"#VALUE!"}},"-",{"$f":"(AO210-AM210)/(AO205-AM205)*(AN205-AM205)+AM210","v":{"$error":"#VALUE!"}},"-",{"$f":"(AQ210-AO210)/(AQ205-AO205)*(AP205-AO205)+AO210","v":{"$error":"#VALUE!"}},"-",6,"МПа","нм3/час","нм3/час","кПа","кПа"]
[{"$f":"IF(AND(AV212>A210,AV212<A212)=TRUE,AV212,0)","v":0},null,{"$f":"(C212-C210)/(A212-A210)*(A211-A210)+C210","v":400},{"$f":"(E211-C211)/(E205-C205)*(D205-C205)+C211","v":405},{"$f":"(E212-E210)/(A212-A210)*(A211-A210)+E210","v":395},{"$f":"(G211-E211)/(G205-E205)*(F205-E205)+E211","v":335},{"$f":"(G212-G210)/(A212-A210)*(A211-A210)+G210","v":425},{"$f":"(I211-G211)/(I205-G205)*(H205-G205)+G211","v":72.500000000000057},{"$f":"(I212-I210)/(A212-A210)*(A211-A210)+I210","v":542.5},{"$f":"(K211-I211)/(K205-I205)*(J205-I205)+I211","v":277.49999999999994},{"$f":"(K212-K210)/(A212-A210)*(A211-A210)+K210","v":675},{"$f":"(M211-K211)/(M205-K205)*(L205-K205)+K211","v":435.00000000000006},{"$f":"(M212-M210)/(A212-A210)*(A211-A210)+M210","v":755},{"$f":"(O211-M211)/(O205-M205)*(N205-M205)+M211","v":415.00000000000006},{"$f":"(O212-O210)/(A212-A210)*(A211-A210)+O210","v":840},{"$f":"(Q211-O211)/(Q205-O205)*(P205-O205)+O211","v":539.99999999999977},{"$f":"(Q212-Q210)/(A212-A210)*(A211-A210)+Q210","v":900},{"$f":"(S211-Q211)/(S205-Q205)*(R205-Q205)+Q211","v":450.0000000000004},{"$f":"(S212-S210)/(E212-E210)*(E211-E210)+S210","v":975},{"$f":"(U211-S211)/(U205-S205)*(T205-S205)+S211","v":589.99999999999977},{"$f":"(U212-U210)/(G212-G210)*(G211-G210)+U210","v":1030},{"$f":"(W211-U211)/(W205-U205)*(V205-U205)+U211","v":470.00000000000011},{"$f":"(W212-W210)/(I212-I210)*(I211-I210)+W210","v":1170},{"$f":"(Y211-W211)/(Y205-W205)*(X205-W205)+W211","v":689.99999999999989},{"$f":"(Y212-Y210)/(A212-A210)*(A211-A210)+Y210","v":1290},{"$f":"(AA211-Y211)/(AA205-Y205)*(Z205-Y205)+Y211","v":589.99999999999989},{"$f":"(AA212-AA210)/(E212-E210)*(E211-E210)+AA210","v":1430},{"$f":"(AC211-AA211)/(AC205-AA205)*(AB205-AA205)+AA211","v":620.00000000000034},{"$f":"(AC212-AC210)/(A212-A210)*(A211-A210)+AC210","v":1700},{"$f":"(AE211-AC211)/(AE205-AC205)*(AD205-AC205)+AC211","v":519.99999999999977},{"$f":"(AE212-AE210)/(A212-A210)*(A211-A210)+AE210","v":2290},{"$f":"(AG211-AE211)/(AG205-AE205)*(AF205-AE205)+AE211","v":2698.7999999999997},{"$f":"(AG212-AG210)/(A212-A210)*(A211-A210)+AG210","v":2850},{"$f":"(AI211-AG211)/(AI205-AG205)*(AH205-AG205)+AG211","v":529.99999999999955},{"$f":"(AI212-AI210)/(A212-A210)*(A211-A210)+AI210","v":3430},{"$f":"(AK211-AI211)/(AK205-AI205)*(AJ205-AI205)+AI211","v":3430},{"$f":"(AK212-AK210)/(A212-A210)*(A211-A210)+AK210","v":3430},{"$f":"(AM211-AK211)/(AM205-AK205)*(AL205-AK205)+AK211","v":{"$error":"#VALUE!"}},{"$f":"(AM212-AM210)/(A212-A210)*(A211-A210)+AM210","v":{"$error":"#VALUE!"}},{"$f":"(AO211-AM211)/(AO205-AM205)*(AN205-AM205)+AM211","v":{"$error":"#VALUE!"}},{"$f":"(AO212-AO210)/(A212-A210)*(A211-A210)+AO210","v":{"$error":"#VALUE!"}},{"$f":"(AQ211-AO211)/(AQ205-AO205)*(AP205-AO205)+AO211","v":{"$error":"#VALUE!"}},{"$f":"(AQ212-AQ210)/(A212-A210)*(A211-A210)+AQ210","v":{"$error":"#VALUE!"}},7]
[5,{"$f":"B210+1","v":3},0,{"$f":"(E212-C212)/(E205-C205)*(D205-C205)+C212","v":-270},270,{"$f":"(G212-E212)/(G205-E205)*(F205-E205)+E212","v":109.99999999999997},350,{"$f":"(I212-G212)/(I205-G205)*(H205-G205)+G212","v":-189.99999999999989},530,{"$f":"(K212-I212)/(K205-I205)*(J205-I205)+I212","v":290},650,{"$f":"(M212-K212)/(M205-K205)*(L205-K205)+K212","v":335.00000000000006},755,{"$f":"(O212-M212)/(O205-M205)*(N205-M205)+M212","v":415.00000000000006},840,{"$f":"(Q212-O212)/(Q205-O205)*(P205-O205)+O212","v":539.99999999999977},900,{"$f":"(S212-Q212)/(S205-Q205)*(R205-Q205)+Q212","v":450.0000000000004},975,{"$f":"(U212-S212)/(U205-S205)*(T205-S205)+S212","v":589.99999999999977},1030,{"$f":"(W212-U212)/(W205-U205)*(V205-U205)+U212","v":470.00000000000011},1170,{"$f":"(Y212-W212)/(Y205-W205)*(X205-W205)+W212","v":689.99999999999989},1290,{"$f":"(AA212-Y212)/(AA205-Y205)*(Z205-Y205)+Y212","v":589.99999999999989},1430,{"$f":"(AC212-AA212)/(AC205-AA205)*(AB205-AA205)+AA212","v":620.00000000000034},1700,{"$f":"(AE212-AC212)/(AE205-AC205)*(AD205-AC205)+AC212","v":519.99999999999977},2290,{"$f":"(AG212-AE212)/(AG205-AE205)*(AF205-AE205)+AE212","v":2698.7999999999997},2850,{"$f":"(AI212-AG212)/(AI205-AG205)*(AH205-AG205)+AG212","v":529.99999999999955},3430,{"$f":"(AK212-AI212)/(AK205-AI205)*(AJ205-AI205)+AI212","v":3430},3430,{"$f":"(AM212-AK212)/(AM205-AK205)*(AL205-AK205)+AK212","v":{"$error":"#VALUE!"}},"-",{"$f":"(AO212-AM212)/(AO205-AM205)*(AN205-AM205)+AM212","v":{"$error":"#VALUE!"}},"-",{"$f":"(AQ212-AO212)/(AQ205-AO205)*(AP205-AO205)+AO212","v":{"$error":"#VALUE!"}},"-",8,{"$f":"AK21","v":0.373},{"$f":"AL21","v":229.2},{"$f":"VLOOKUP(AV212,A205:AQ242,HLOOKUP(AS212,A205:AQ242,38,0),0)","v":1824.9999999999998},{"$f":"AN21","v":300},{"$f":"IF(AS212<A208,\"NO\",IF(AS212>A240,\"N0\",IF(VLOOKUP(AS212,A208:AQ240,3,0)>AT212,\"NO\",IF(VLOOKUP(AS212,A208:AQ240,17,0)<AT212,\"NO\",IF(AND(AU212>=AT212-0.1,AU212<AT212+0.1)=TRUE,AV212,\"NO\")))))","v":"NO"}]
[{"$f":"IF(AND(AV212>A212,AV212<A214)=TRUE,AV212,0)","v":0},null,{"$f":"(C214-C212)/(A214-A212)*(A213-A212)+C212","v":{"$error":"#VALUE!"}},{"$f":"(E213-C213)/(E205-C205)*(D205-C205)+C213","v":{"$error":"#VALUE!"}},{"$f":"(E214-E212)/(A214-A212)*(A213-A212)+E212","v":453.33333333333331},{"$f":"(G213-E213)/(G205-E205)*(F205-E205)+E213","v":493.3333333333332},{"$f":"(G214-G212)/(A214-A212)*(A213-A212)+G212","v":433.33333333333337},{"$f":"(I213-G213)/(I205-G205)*(H205-G205)+G213","v":-106.66666666666652},{"$f":"(I214-I212)/(A214-A212)*(A213-A212)+I212","v":613.33333333333337},{"$f":"(K213-I213)/(K205-I205)*(J205-I205)+I213","v":440.00000000000011},{"$f":"(K214-K212)/(A214-A212)*(A213-A212)+K212","v":700},{"$f":"(M213-K213)/(M205-K205)*(L205-K205)+K213","v":410.00000000000017},{"$f":"(M214-M212)/(A214-A212)*(A213-A212)+M212","v":796.66666666666663},{"$f":"(O213-M213)/(O205-M205)*(N205-M205)+M213","v":623.33333333333314},{"$f":"(O214-O212)/(A214-A212)*(A213-A212)+O212","v":840},{"$f":"(Q213-O213)/(Q205-O205)*(P205-O205)+O213","v":539.99999999999977},{"$f":"(Q214-Q212)/(A214-A212)*(A213-A212)+Q212","v":900},{"$f":"(S213-Q213)/(S205-Q205)*(R205-Q205)+Q213","v":450.0000000000004},{"$f":"(S214-S212)/(A214-A212)*(A213-A212)+S212","v":975},{"$f":"(U213-S213)/(U205-S205)*(T205-S205)+S213","v":589.99999999999977},{"$f":"(U214-U212)/(G214-G212)*(G213-G212)+U212","v":1030},{"$f":"(W213-U213)/(W205-U205)*(V205-U205)+U213","v":470.00000000000011},{"$f":"(W214-W212)/(I214-I212)*(I213-I212)+W212","v":1170},{"$f":"(Y213-W213)/(Y205-W205)*(X205-W205)+W213","v":689.99999999999989},{"$f":"(Y214-Y212)/(A214-A212)*(A213-A212)+Y212","v":1290},{"$f":"(AA213-Y213)/(AA205-Y205)*(Z205-Y205)+Y213","v":589.99999999999989},{"$f":"(AA214-AA212)/(A214-A212)*(A213-A212)+AA212","v":1430},{"$f":"(AC213-AA213)/(AC205-AA205)*(AB205-AA205)+AA213","v":620.00000000000034},{"$f":"(AC214-AC212)/(A214-A212)*(A213-A212)+AC212","v":1700},{"$f":"(AE213-AC213)/(AE205-AC205)*(AD205-AC205)+AC213","v":519.99999999999977},{"$f":"(AE214-AE212)/(A214-A212)*(A213-A212)+AE212","v":2290},{"$f":"(AG213-AE213)/(AG205-AE205)*(AF205-AE205)+AE213","v":2698.7999999999997},{"$f":"(AG214-AG212)/(A214-A212)*(A213-A212)+AG212","v":2850},{"$f":"(AI213-AG213)/(AI205-AG205)*(AH205-AG205)+AG213","v":529.99999999999955},{"$f":"(AI214-AI212)/(A214-A212)*(A213-A212)+AI212","v":3430},{"$f":"(AK213-AI213)/(AK205-AI205)*(AJ205-AI205)+AI213","v":3430},{"$f":"(AK214-AK212)/(A214-A212)*(A213-A212)+AK212","v":3430},{"$f":"(AM213-AK213)/(AM205-AK205)*(AL205-AK205)+AK213","v":{"$error":"#VALUE!"}},{"$f":"(AM214-AM212)/(A214-A212)*(A213-A212)+AM212","v":{"$error":"#VALUE!"}},{"$f":"(AO213-AM213)/(AO205-AM205)*(AN205-AM205)+AM213","v":{"$error":"#VALUE!"}},{"$f":"(AO214-AO212)/(A214-A212)*(A213-A212)+AO212","v":{"$error":"#VALUE!"}},{"$f":"(AQ213-AO213)/(AQ205-AO205)*(AP205-AO205)+AO213","v":{"$error":"#VALUE!"}},{"$f":"(AQ214-AQ212)/(A214-A212)*(A213-A212)+AQ212","v":{"$error":"#VALUE!"}},9]
[8,{"$f":"B212+1","v":4},"-",{"$f":"(E214-C214)/(E205-C205)*(D205-C205)+C214","v":{"$error":"#VALUE!"}},160,{"$f":"(G214-E214)/(G205-E205)*(F205-E205)+E214","v":-120.00000000000006},300,{"$f":"(I214-G214)/(I205-G205)*(H205-G205)+G214","v":-239.99999999999989},480,{"$f":"(K214-I214)/(K205-I205)*(J205-I205)+I214","v":199.99999999999994},620,{"$f":"(M214-K214)/(M205-K205)*(L205-K205)+K214","v":290.00000000000006},730,{"$f":"(O214-M214)/(O205-M205)*(N205-M205)+M214","v":290.00000000000006},840,{"$f":"(Q214-O214)/(Q205-O205)*(P205-O205)+O214","v":539.99999999999977},900,{"$f":"(S214-Q214)/(S205-Q205)*(R205-Q205)+Q214","v":450.0000000000004},975,{"$f":"(U214-S214)/(U205-S205)*(T205-S205)+S214","v":589.99999999999977},1030,{"$f":"(W214-U214)/(W205-U205)*(V205-U205)+U214","v":470.00000000000011},1170,{"$f":"(Y214-W214)/(Y205-W205)*(X205-W205)+W214","v":689.99999999999989},1290,{"$f":"(AA214-Y214)/(AA205-Y205)*(Z205-Y205)+Y214","v":589.99999999999989},1430,{"$f":"(AC214-AA214)/(AC205-AA205)*(AB205-AA205)+AA214","v":620.00000000000034},1700,{"$f":"(AE214-AC214)/(AE205-AC205)*(AD205-AC205)+AC214","v":519.99999999999977},2290,{"$f":"(AG214-AE214)/(AG205-AE205)*(AF205-AE205)+AE214","v":2698.7999999999997},2850,{"$f":"(AI214-AG214)/(AI205-AG205)*(AH205-AG205)+AG214","v":529.99999999999955},3430,{"$f":"(AK214-AI214)/(AK205-AI205)*(AJ205-AI205)+AI214","v":3430},3430,{"$f":"(AM214-AK214)/(AM205-AK205)*(AL205-AK205)+AK214","v":{"$error":"#VALUE!"}},"-",{"$f":"(AO214-AM214)/(AO205-AM205)*(AN205-AM205)+AM214","v":{"$error":"#VALUE!"}},"-",{"$f":"(AQ214-AO214)/(AQ205-AO205)*(AP205-AO205)+AO214","v":{"$error":"#VALUE!"}},"-",10,0.1,{"$f":"AL23","v":263.58}]
[{"$f":"IF(AND(AV212>A214,AV212<A216)=TRUE,AV212,0)","v":0},null,{"$f":"(C216-C214)/(A216-A214)*(A215-A214)+C214","v":{"$error":"#VALUE!"}},{"$f":"(E215-C215)/(E205-C205)*(D205-C205)+C215","v":{"$error":"#VALUE!"}},{"$f":"(E216-E214)/(A216-A214)*(A215-A214)+E214","v":800},{"$f":"(G215-E215)/(G205-E205)*(F205-E205)+E215","v":760},{"$f":"(G216-G214)/(A216-A214)*(A215-A214)+G214","v":820},{"$f":"(I215-G215)/(I205-G205)*(H205-G205)+G215","v":1360},{"$f":"(I216-I214)/(A216-A214)*(A215-A214)+I214","v":640},{"$f":"(K215-I215)/(K205-I205)*(J205-I205)+I215","v":520},{"$f":"(K216-K214)/(A216-A214)*(A215-A214)+K214","v":700},{"$f":"(M215-K215)/(M205-K205)*(L205-K205)+K215","v":430.00000000000006},{"$f":"(M216-M214)/(A216-A214)*(A215-A214)+M214","v":790},{"$f":"(O215-M215)/(O205-M205)*(N205-M205)+M215","v":270.00000000000011},{"$f":"(O216-O214)/(A216-A214)*(A215-A214)+O214","v":920},{"$f":"(Q215-O215)/(Q205-O205)*(P205-O205)+O215","v":820},{"$f":"(Q216-Q214)/(A216-A214)*(A215-A214)+Q214","v":940},{"$f":"(S215-Q215)/(S205-Q205)*(R205-Q205)+Q215","v":370.00000000000057},{"$f":"(S216-S214)/(A216-A214)*(A215-A214)+S214","v":1035},{"$f":"(U215-S215)/(U205-S205)*(T205-S205)+S215","v":1070},{"$f":"(U216-U214)/(G216-G214)*(G215-G214)+U214","v":1030},{"$f":"(W215-U215)/(W205-U205)*(V205-U205)+U215","v":470.00000000000011},{"$f":"(W216-W214)/(I216-I214)*(I215-I214)+W214","v":1170},{"$f":"(Y215-W215)/(Y205-W205)*(X205-W205)+W215","v":689.99999999999989},{"$f":"(Y216-Y214)/(A216-A214)*(A215-A214)+Y214","v":1290},{"$f":"(AA215-Y215)/(AA205-Y205)*(Z205-Y205)+Y215","v":589.99999999999989},{"$f":"(AA216-AA214)/(A216-A214)*(A215-A214)+AA214","v":1430},{"$f":"(AC215-AA215)/(AC205-AA205)*(AB205-AA205)+AA215","v":620.00000000000034},{"$f":"(AC216-AC214)/(A216-A214)*(A215-A214)+AC214","v":1700},{"$f":"(AE215-AC215)/(AE205-AC205)*(AD205-AC205)+AC215","v":519.99999999999977},{"$f":"(AE216-AE214)/(A216-A214)*(A215-A214)+AE214","v":2290},{"$f":"(AG215-AE215)/(AG205-AE205)*(AF205-AE205)+AE215","v":2698.7999999999997},{"$f":"(AG216-AG214)/(A216-A214)*(A215-A214)+AG214","v":2850},{"$f":"(AI215-AG215)/(AI205-AG205)*(AH205-AG205)+AG215","v":529.99999999999955},{"$f":"(AI216-AI214)/(A216-A214)*(A215-A214)+AI214","v":3430},{"$f":"(AK215-AI215)/(AK205-AI205)*(AJ205-AI205)+AI215","v":3430},{"$f":"(AK216-AK214)/(A216-A214)*(A215-A214)+AK214","v":3430},{"$f":"(AM215-AK215)/(AM205-AK205)*(AL205-AK205)+AK215","v":{"$error":"#VALUE!"}},{"$f":"(AM216-AM214)/(A216-A214)*(A215-A214)+AM214","v":{"$error":"#VALUE!"}},{"$f":"(AO215-AM215)/(AO205-AM205)*(AN205-AM205)+AM215","v":{"$error":"#VALUE!"}},{"$f":"(AO216-AO214)/(A216-A214)*(A215-A214)+AO214","v":{"$error":"#VALUE!"}},{"$f":"(AQ215-AO215)/(AQ205-AO205)*(AP205-AO205)+AO215","v":{"$error":"#VALUE!"}},{"$f":"(AQ216-AQ214)/(A216-A214)*(A215-A214)+AQ214","v":{"$error":"#VALUE!"}},11]
[10,{"$f":"B214+1","v":5},"-",{"$f":"(E216-C216)/(E205-C205)*(D205-C205)+C216","v":{"$error":"#VALUE!"}},0,{"$f":"(G216-E216)/(G205-E205)*(F205-E205)+E216","v":-340.00000000000006},170,{"$f":"(I216-G216)/(I205-G205)*(H205-G205)+G216","v":-639.99999999999989},440,{"$f":"(K216-I216)/(K205-I205)*(J205-I205)+I216","v":119.99999999999994},600,{"$f":"(M216-K216)/(M205-K205)*(L205-K205)+K216","v":255.00000000000006},715,{"$f":"(O216-M216)/(O205-M205)*(N205-M205)+M216","v":295.00000000000006},820,{"$f":"(Q216-O216)/(Q205-O205)*(P205-O205)+O216","v":469.99999999999977},890,{"$f":"(S216-Q216)/(S205-Q205)*(R205-Q205)+Q216","v":470.0000000000004},960,{"$f":"(U216-S216)/(U205-S205)*(T205-S205)+S216","v":469.99999999999972},1030,{"$f":"(W216-U216)/(W205-U205)*(V205-U205)+U216","v":470.00000000000011},1170,{"$f":"(Y216-W216)/(Y205-W205)*(X205-W205)+W216","v":689.99999999999989},1290,{"$f":"(AA216-Y216)/(AA205-Y205)*(Z205-Y205)+Y216","v":589.99999999999989},1430,{"$f":"(AC216-AA216)/(AC205-AA205)*(AB205-AA205)+AA216","v":620.00000000000034},1700,{"$f":"(AE216-AC216)/(AE205-AC205)*(AD205-AC205)+AC216","v":519.99999999999977},2290,{"$f":"(AG216-AE216)/(AG205-AE205)*(AF205-AE205)+AE216","v":2698.7999999999997},2850,{"$f":"(AI216-AG216)/(AI205-AG205)*(AH205-AG205)+AG216","v":529.99999999999955},3430,{"$f":"(AK216-AI216)/(AK205-AI205)*(AJ205-AI205)+AI216","v":3430},3430,{"$f":"(AM216-AK216)/(AM205-AK205)*(AL205-AK205)+AK216","v":{"$error":"#VALUE!"}},"-",{"$f":"(AO216-AM216)/(AO205-AM205)*(AN205-AM205)+AM216","v":{"$error":"#VALUE!"}},"-",{"$f":"(AQ216-AO216)/(AQ205-AO205)*(AP205-AO205)+AO216","v":{"$error":"#VALUE!"}},"-",12,"Регулятор давления",null,null,{"$f":"Лист1!F74","v":"РЕД-6-50-Н DN50 Qmax=3430 нм3/час"}]
[{"$f":"IF(AND(AV212>A216,AV212<A218)=TRUE,AV212,0)","v":0},null,{"$f":"(C218-C216)/(A218-A216)*(A217-A216)+C216","v":{"$error":"#VALUE!"}},{"$f":"(E217-C217)/(E205-C205)*(D205-C205)+C217","v":{"$error":"#VALUE!"}},{"$f":"(E218-E216)/(A218-A216)*(A217-A216)+E216","v":{"$error":"#VALUE!"}},{"$f":"(G217-E217)/(G205-E205)*(F205-E205)+E217","v":{"$error":"#VALUE!"}},{"$f":"(G218-G216)/(A218-A216)*(A217-A216)+G216","v":510},{"$f":"(I217-G217)/(I205-G205)*(H205-G205)+G217","v":0},{"$f":"(I218-I216)/(A218-A216)*(A217-A216)+I216","v":680},{"$f":"(K217-I217)/(K205-I205)*(J205-I205)+I217","v":640},{"$f":"(K218-K216)/(A218-A216)*(A217-A216)+K216","v":700},{"$f":"(M217-K217)/(M205-K205)*(L205-K205)+K217","v":505},{"$f":"(M218-M216)/(A218-A216)*(A217-A216)+M216","v":765},{"$f":"(O217-M217)/(O205-M205)*(N205-M205)+M217","v":225.00000000000011},{"$f":"(O218-O216)/(A218-A216)*(A217-A216)+O216","v":900},{"$f":"(Q217-O217)/(Q205-O205)*(P205-O205)+O217","v":749.99999999999989},{"$f":"(Q218-Q216)/(A218-A216)*(A217-A216)+Q216","v":930},{"$f":"(S217-Q217)/(S205-Q205)*(R205-Q205)+Q217","v":750.00000000000023},{"$f":"(S218-S216)/(A218-A216)*(A217-A216)+S216","v":960},{"$f":"(U217-S217)/(U205-S205)*(T205-S205)+S217","v":469.99999999999972},{"$f":"(U218-U216)/(A218-A216)*(A217-A216)+U216","v":1030},{"$f":"(W217-U217)/(W205-U205)*(V205-U205)+U217","v":470.00000000000011},{"$f":"(W218-W216)/(A218-A216)*(A217-A216)+W216","v":1170},{"$f":"(Y217-W217)/(Y205-W205)*(X205-W205)+W217","v":689.99999999999989},{"$f":"(Y218-Y216)/(A218-A216)*(A217-A216)+Y216","v":1290},{"$f":"(AA217-Y217)/(AA205-Y205)*(Z205-Y205)+Y217","v":589.99999999999989},{"$f":"(AA218-AA216)/(A218-A216)*(A217-A216)+AA216","v":1430},{"$f":"(AC217-AA217)/(AC205-AA205)*(AB205-AA205)+AA217","v":620.00000000000034},{"$f":"(AC218-AC216)/(A218-A216)*(A217-A216)+AC216","v":1700},{"$f":"(AE217-AC217)/(AE205-AC205)*(AD205-AC205)+AC217","v":519.99999999999977},{"$f":"(AE218-AE216)/(A218-A216)*(A217-A216)+AE216","v":2290},{"$f":"(AG217-AE217)/(AG205-AE205)*(AF205-AE205)+AE217","v":2698.7999999999997},{"$f":"(AG218-AG216)/(A218-A216)*(A217-A216)+AG216","v":2850},{"$f":"(AI217-AG217)/(AI205-AG205)*(AH205-AG205)+AG217","v":529.99999999999955},{"$f":"(AI218-AI216)/(A218-A216)*(A217-A216)+AI216","v":3430},{"$f":"(AK217-AI217)/(AK205-AI205)*(AJ205-AI205)+AI217","v":3430},{"$f":"(AK218-AK216)/(A218-A216)*(A217-A216)+AK216","v":3430},{"$f":"(AM217-AK217)/(AM205-AK205)*(AL205-AK205)+AK217","v":{"$error":"#VALUE!"}},{"$f":"(AM218-AM216)/(A218-A216)*(A217-A216)+AM216","v":{"$error":"#VALUE!"}},{"$f":"(AO217-AM217)/(AO205-AM205)*(AN205-AM205)+AM217","v":{"$error":"#VALUE!"}},{"$f":"(AO218-AO216)/(A218-A216)*(A217-A216)+AO216","v":{"$error":"#VALUE!"}},{"$f":"(AQ217-AO217)/(AQ205-AO205)*(AP205-AO205)+AO217","v":{"$error":"#VALUE!"}},{"$f":"(AQ218-AQ216)/(A218-A216)*(A217-A216)+AQ216","v":{"$error":"#VALUE!"}},13]
[15,{"$f":"B216+1","v":6},"-",{"$f":"(E218-C218)/(E205-C205)*(D205-C205)+C218","v":{"$error":"#VALUE!"}},"-",{"$f":"(G218-E218)/(G205-E205)*(F205-E205)+E218","v":{"$error":"#VALUE!"}},0,{"$f":"(I218-G218)/(I205-G205)*(H205-G205)+G218","v":-959.99999999999977},320,{"$f":"(K218-I218)/(K205-I205)*(J205-I205)+I218","v":-140.00000000000006},550,{"$f":"(M218-K218)/(M205-K205)*(L205-K205)+K218","v":130.00000000000006},690,{"$f":"(O218-M218)/(O205-M205)*(N205-M205)+M218","v":330.00000000000006},780,{"$f":"(Q218-O218)/(Q205-O205)*(P205-O205)+O218","v":329.99999999999977},870,{"$f":"(S218-Q218)/(S205-Q205)*(R205-Q205)+Q218","v":330.00000000000045},960,{"$f":"(U218-S218)/(U205-S205)*(T205-S205)+S218","v":469.99999999999972},1030,{"$f":"(W218-U218)/(W205-U205)*(V205-U205)+U218","v":470.00000000000011},1170,{"$f":"(Y218-W218)/(Y205-W205)*(X205-W205)+W218","v":689.99999999999989},1290,{"$f":"(AA218-Y218)/(AA205-Y205)*(Z205-Y205)+Y218","v":589.99999999999989},1430,{"$f":"(AC218-AA218)/(AC205-AA205)*(AB205-AA205)+AA218","v":620.00000000000034},1700,{"$f":"(AE218-AC218)/(AE205-AC205)*(AD205-AC205)+AC218","v":519.99999999999977},2290,{"$f":"(AG218-AE218)/(AG205-AE205)*(AF205-AE205)+AE218","v":2698.7999999999997},2850,{"$f":"(AI218-AG218)/(AI205-AG205)*(AH205-AG205)+AG218","v":529.99999999999955},3430,{"$f":"(AK218-AI218)/(AK205-AI205)*(AJ205-AI205)+AI218","v":3430},3430,{"$f":"(AM218-AK218)/(AM205-AK205)*(AL205-AK205)+AK218","v":{"$error":"#VALUE!"}},"-",{"$f":"(AO218-AM218)/(AO205-AM205)*(AN205-AM205)+AM218","v":{"$error":"#VALUE!"}},"-",{"$f":"(AQ218-AO218)/(AQ205-AO205)*(AP205-AO205)+AO218","v":{"$error":"#VALUE!"}},"-",14]
[{"$f":"IF(AND(AV212>A218,AV212<A220)=TRUE,AV212,0)","v":0},null,{"$f":"(C220-C218)/(A220-A218)*(A219-A218)+C218","v":{"$error":"#VALUE!"}},{"$f":"(E219-C219)/(E205-C205)*(D205-C205)+C219","v":{"$error":"#VALUE!"}},{"$f":"(E220-E218)/(A220-A218)*(A219-A218)+E218","v":{"$error":"#VALUE!"}},{"$f":"(G219-E219)/(G205-E205)*(F205-E205)+E219","v":{"$error":"#VALUE!"}},{"$f":"(G220-G218)/(A220-A218)*(A219-A218)+G218","v":{"$error":"#VALUE!"}},{"$f":"(I219-G219)/(I205-G205)*(H205-G205)+G219","v":{"$error":"#VALUE!"}},{"$f":"(I220-I218)/(A220-A218)*(A219-A218)+I218","v":1280},{"$f":"(K219-I219)/(K205-I205)*(J205-I205)+I219","v":2260},{"$f":"(K220-K218)/(A220-A218)*(A219-A218)+K218","v":790},{"$f":"(M219-K219)/(M205-K205)*(L205-K205)+K219","v":550},{"$f":"(M220-M218)/(A220-A218)*(A219-A218)+M218","v":870},{"$f":"(O219-M219)/(O205-M205)*(N205-M205)+M219","v":870},{"$f":"(O220-O218)/(A220-A218)*(A219-A218)+O218","v":870},{"$f":"(Q219-O219)/(Q205-O205)*(P205-O205)+O219","v":569.99999999999977},{"$f":"(Q220-Q218)/(A220-A218)*(A219-A218)+Q218","v":930},{"$f":"(S219-Q219)/(S205-Q205)*(R205-Q205)+Q219","v":210.00000000000068},{"$f":"(S220-S218)/(A220-A218)*(A219-A218)+S218","v":1050},{"$f":"(U219-S219)/(U205-S205)*(T205-S205)+S219","v":559.99999999999977},{"$f":"(U220-U218)/(A220-A218)*(A219-A218)+U218","v":1120},{"$f":"(W219-U219)/(W205-U205)*(V205-U205)+U219","v":920},{"$f":"(W220-W218)/(A220-A218)*(A219-A218)+W218","v":1170},{"$f":"(Y219-W219)/(Y205-W205)*(X205-W205)+W219","v":689.99999999999989},{"$f":"(Y220-Y218)/(A220-A218)*(A219-A218)+Y218","v":1290},{"$f":"(AA219-Y219)/(AA205-Y205)*(Z205-Y205)+Y219","v":589.99999999999989},{"$f":"(AA220-AA218)/(A220-A218)*(A219-A218)+AA218","v":1430},{"$f":"(AC219-AA219)/(AC205-AA205)*(AB205-AA205)+AA219","v":620.00000000000034},{"$f":"(AC220-AC218)/(A220-A218)*(A219-A218)+AC218","v":1700},{"$f":"(AE219-AC219)/(AE205-AC205)*(AD205-AC205)+AC219","v":519.99999999999977},{"$f":"(AE220-AE218)/(A220-A218)*(A219-A218)+AE218","v":2290},{"$f":"(AG219-AE219)/(AG205-AE205)*(AF205-AE205)+AE219","v":2698.7999999999997},{"$f":"(AG220-AG218)/(A220-A218)*(A219-A218)+AG218","v":2850},{"$f":"(AI219-AG219)/(AI205-AG205)*(AH205-AG205)+AG219","v":529.99999999999955},{"$f":"(AI220-AI218)/(A220-A218)*(A219-A218)+AI218","v":3430},{"$f":"(AK219-AI219)/(AK205-AI205)*(AJ205-AI205)+AI219","v":3430},{"$f":"(AK220-AK218)/(A220-A218)*(A219-A218)+AK218","v":3430},{"$f":"(AM219-AK219)/(AM205-AK205)*(AL205-AK205)+AK219","v":{"$error":"#VALUE!"}},{"$f":"(AM220-AM218)/(A220-A218)*(A219-A218)+AM218","v":{"$error":"#VALUE!"}},{"$f":"(AO219-AM219)/(AO205-AM205)*(AN205-AM205)+AM219","v":{"$error":"#VALUE!"}},{"$f":"(AO220-AO218)/(A220-A218)*(A219-A218)+AO218","v":{"$error":"#VALUE!"}},{"$f":"(AQ219-AO219)/(AQ205-AO205)*(AP205-AO205)+AO219","v":{"$error":"#VALUE!"}},{"$f":"(AQ220-AQ218)/(A220-A218)*(A219-A218)+AQ218","v":{"$error":"#VALUE!"}},15]
[20,{"$f":"B218+1","v":7},"-",{"$f":"(E220-C220)/(E205-C205)*(D205-C205)+C220","v":{"$error":"#VALUE!"}},"-",{"$f":"(G220-E220)/(G205-E205)*(F205-E205)+E220","v":{"$error":"#VALUE!"}},"-",{"$f":"(I220-G220)/(I205-G205)*(H205-G205)+G220","v":{"$error":"#VALUE!"}},0,{"$f":"(K220-I220)/(K205-I205)*(J205-I205)+I220","v":-940.00000000000011},470,{"$f":"(M220-K220)/(M205-K205)*(L205-K205)+K220","v":-9.9999999999998863},630,{"$f":"(O220-M220)/(O205-M205)*(N205-M205)+M220","v":150.00000000000006},750,{"$f":"(Q220-O220)/(Q205-O205)*(P205-O205)+O220","v":249.99999999999972},850,{"$f":"(S220-Q220)/(S205-Q205)*(R205-Q205)+Q220","v":370.00000000000045},930,{"$f":"(U220-S220)/(U205-S205)*(T205-S205)+S220","v":439.99999999999972},1000,{"$f":"(W220-U220)/(W205-U205)*(V205-U205)+U220","v":320.00000000000011},1170,{"$f":"(Y220-W220)/(Y205-W205)*(X205-W205)+W220","v":689.99999999999989},1290,{"$f":"(AA220-Y220)/(AA205-Y205)*(Z205-Y205)+Y220","v":589.99999999999989},1430,{"$f":"(AC220-AA220)/(AC205-AA205)*(AB205-AA205)+AA220","v":620.00000000000034},1700,{"$f":"(AE220-AC220)/(AE205-AC205)*(AD205-AC205)+AC220","v":519.99999999999977},2290,{"$f":"(AG220-AE220)/(AG205-AE205)*(AF205-AE205)+AE220","v":2698.7999999999997},2850,{"$f":"(AI220-AG220)/(AI205-AG205)*(AH205-AG205)+AG220","v":529.99999999999955},3430,{"$f":"(AK220-AI220)/(AK205-AI205)*(AJ205-AI205)+AI220","v":3430},3430,{"$f":"(AM220-AK220)/(AM205-AK205)*(AL205-AK205)+AK220","v":{"$error":"#VALUE!"}},"-",{"$f":"(AO220-AM220)/(AO205-AM205)*(AN205-AM205)+AM220","v":{"$error":"#VALUE!"}},"-",{"$f":"(AQ220-AO220)/(AQ205-AO205)*(AP205-AO205)+AO220","v":{"$error":"#VALUE!"}},"-",16]
[{"$f":"IF(AND(AV212>A220,AV212<A222)=TRUE,AV212,0)","v":0},null,{"$f":"(C222-C220)/(A222-A220)*(A221-A220)+C220","v":{"$error":"#VALUE!"}},{"$f":"(E221-C221)/(E205-C205)*(D205-C205)+C221","v":{"$error":"#VALUE!"}},{"$f":"(E222-E220)/(A222-A220)*(A221-A220)+E220","v":{"$error":"#VALUE!"}},{"$f":"(G221-E221)/(G205-E205)*(F205-E205)+E221","v":{"$error":"#VALUE!"}},{"$f":"(G222-G220)/(A222-A220)*(A221-A220)+G220","v":{"$error":"#VALUE!"}},{"$f":"(I221-G221)/(I205-G205)*(H205-G205)+G221","v":{"$error":"#VALUE!"}},{"$f":"(I222-I220)/(A222-A220)*(A221-A220)+I220","v":{"$error":"#VALUE!"}},{"$f":"(K221-I221)/(K205-I205)*(J205-I205)+I221","v":{"$error":"#VALUE!"}},{"$f":"(K222-K220)/(A222-A220)*(A221-A220)+K220","v":2350},{"$f":"(M221-K221)/(M205-K205)*(L205-K205)+K221","v":7149.9999999999991},{"$f":"(M222-M220)/(A222-A220)*(A221-A220)+M220","v":750},{"$f":"(O221-M221)/(O205-M205)*(N205-M205)+M221","v":270.00000000000006},{"$f":"(O222-O220)/(A222-A220)*(A221-A220)+O220","v":870},{"$f":"(Q221-O221)/(Q205-O205)*(P205-O205)+O221","v":369.99999999999972},{"$f":"(Q222-Q220)/(A222-A220)*(A221-A220)+Q220","v":970},{"$f":"(S221-Q221)/(S205-Q205)*(R205-Q205)+Q221","v":970},{"$f":"(S222-S220)/(A222-A220)*(A221-A220)+S220","v":970},{"$f":"(U221-S221)/(U205-S205)*(T205-S205)+S221","v":759.99999999999989},{"$f":"(U222-U220)/(A222-A220)*(A221-A220)+U220","v":1000},{"$f":"(W221-U221)/(W205-U205)*(V205-U205)+U221","v":320.00000000000011},{"$f":"(W222-W220)/(A222-A220)*(A221-A220)+W220","v":1170},{"$f":"(Y221-W221)/(Y205-W205)*(X205-W205)+W221","v":689.99999999999989},{"$f":"(Y222-Y220)/(A222-A220)*(A221-A220)+Y220","v":1290},{"$f":"(AA221-Y221)/(AA205-Y205)*(Z205-Y205)+Y221","v":589.99999999999989},{"$f":"(AA222-AA220)/(A222-A220)*(A221-A220)+AA220","v":1430},{"$f":"(AC221-AA221)/(AC205-AA205)*(AB205-AA205)+AA221","v":620.00000000000034},{"$f":"(AC222-AC220)/(A222-A220)*(A221-A220)+AC220","v":1700},{"$f":"(AE221-AC221)/(AE205-AC205)*(AD205-AC205)+AC221","v":519.99999999999977},{"$f":"(AE222-AE220)/(A222-A220)*(A221-A220)+AE220","v":2290},{"$f":"(AG221-AE221)/(AG205-AE205)*(AF205-AE205)+AE221","v":2698.7999999999997},{"$f":"(AG222-AG220)/(A222-A220)*(A221-A220)+AG220","v":2850},{"$f":"(AI221-AG221)/(AI205-AG205)*(AH205-AG205)+AG221","v":529.99999999999955},{"$f":"(AI222-AI220)/(A222-A220)*(A221-A220)+AI220","v":3430},{"$f":"(AK221-AI221)/(AK205-AI205)*(AJ205-AI205)+AI221","v":3430},{"$f":"(AK222-AK220)/(A222-A220)*(A221-A220)+AK220","v":3430},{"$f":"(AM221-AK221)/(AM205-AK205)*(AL205-AK205)+AK221","v":{"$error":"#VALUE!"}},{"$f":"(AM222-AM220)/(A222-A220)*(A221-A220)+AM220","v":{"$error":"#VALUE!"}},{"$f":"(AO221-AM221)/(AO205-AM205)*(AN205-AM205)+AM221","v":{"$error":"#VALUE!"}},{"$f":"(AO222-AO220)/(A222-A220)*(A221-A220)+AO220","v":{"$error":"#VALUE!"}},{"$f":"(AQ221-AO221)/(AQ205-AO205)*(AP205-AO205)+AO221","v":{"$error":"#VALUE!"}},{"$f":"(AQ222-AQ220)/(A222-A220)*(A221-A220)+AQ220","v":{"$error":"#VALUE!"}},17]
[25,{"$f":"B220+1","v":8},"-",{"$f":"(E222-C222)/(E205-C205)*(D205-C205)+C222","v":{"$error":"#VALUE!"}},"-",{"$f":"(G222-E222)/(G205-E205)*(F205-E205)+E222","v":{"$error":"#VALUE!"}},"-",{"$f":"(I222-G222)/(I205-G205)*(H205-G205)+G222","v":{"$error":"#VALUE!"}},"-",{"$f":"(K222-I222)/(K205-I205)*(J205-I205)+I222","v":{"$error":"#VALUE!"}},0,{"$f":"(M222-K222)/(M205-K205)*(L205-K205)+K222","v":-1799.9999999999995},600,{"$f":"(O222-M222)/(O205-M205)*(N205-M205)+M222","v":120.00000000000006},720,{"$f":"(Q222-O222)/(Q205-O205)*(P205-O205)+O222","v":219.99999999999972},820,{"$f":"(S222-Q222)/(S205-Q205)*(R205-Q205)+Q222","v":220.00000000000057},920,{"$f":"(U222-S222)/(U205-S205)*(T205-S205)+S222","v":359.99999999999966},1000,{"$f":"(W222-U222)/(W205-U205)*(V205-U205)+U222","v":320.00000000000011},1170,{"$f":"(Y222-W222)/(Y205-W205)*(X205-W205)+W222","v":689.99999999999989},1290,{"$f":"(AA222-Y222)/(AA205-Y205)*(Z205-Y205)+Y222","v":589.99999999999989},1430,{"$f":"(AC222-AA222)/(AC205-AA205)*(AB205-AA205)+AA222","v":620.00000000000034},1700,{"$f":"(AE222-AC222)/(AE205-AC205)*(AD205-AC205)+AC222","v":519.99999999999977},2290,{"$f":"(AG222-AE222)/(AG205-AE205)*(AF205-AE205)+AE222","v":2698.7999999999997},2850,{"$f":"(AI222-AG222)/(AI205-AG205)*(AH205-AG205)+AG222","v":529.99999999999955},3430,{"$f":"(AK222-AI222)/(AK205-AI205)*(AJ205-AI205)+AI222","v":3430},3430,{"$f":"(AM222-AK222)/(AM205-AK205)*(AL205-AK205)+AK222","v":{"$error":"#VALUE!"}},"-",{"$f":"(AO222-AM222)/(AO205-AM205)*(AN205-AM205)+AM222","v":{"$error":"#VALUE!"}},"-",{"$f":"(AQ222-AO222)/(AQ205-AO205)*(AP205-AO205)+AO222","v":{"$error":"#VALUE!"}},"-",18]
[{"$f":"IF(AND(AV212>A222,AV212<A224)=TRUE,AV212,0)","v":0},null,{"$f":"(C224-C222)/(A224-A222)*(A223-A222)+C222","v":{"$error":"#VALUE!"}},{"$f":"(E223-C223)/(E205-C205)*(D205-C205)+C223","v":{"$error":"#VALUE!"}},{"$f":"(E224-E222)/(A224-A222)*(A223-A222)+E222","v":{"$error":"#VALUE!"}},{"$f":"(G223-E223)/(G205-E205)*(F205-E205)+E223","v":{"$error":"#VALUE!"}},{"$f":"(G224-G222)/(A224-A222)*(A223-A222)+G222","v":{"$error":"#VALUE!"}},{"$f":"(I223-G223)/(I205-G205)*(H205-G205)+G223","v":{"$error":"#VALUE!"}},{"$f":"(I224-I222)/(A224-A222)*(A223-A222)+I222","v":{"$error":"#VALUE!"}},{"$f":"(K223-I223)/(K205-I205)*(J205-I205)+I223","v":{"$error":"#VALUE!"}},{"$f":"(K224-K222)/(A224-A222)*(A223-A222)+K222","v":{"$error":"#VALUE!"}},{"$f":"(M223-K223)/(M205-K205)*(L205-K205)+K223","v":{"$error":"#VALUE!"}},{"$f":"(M224-M222)/(A224-A222)*(A223-A222)+M222","v":1200},{"$f":"(O223-M223)/(O205-M205)*(N205-M205)+M223","v":1920},{"$f":"(O224-O222)/(A224-A222)*(A223-A222)+O222","v":1020},{"$f":"(Q223-O223)/(Q205-O205)*(P205-O205)+O223","v":1020},{"$f":"(Q224-Q222)/(A224-A222)*(A223-A222)+Q222","v":1020},{"$f":"(S223-Q223)/(S205-Q205)*(R205-Q205)+Q223","v":720.00000000000023},{"$f":"(S224-S222)/(A224-A222)*(A223-A222)+S222","v":1070},{"$f":"(U223-S223)/(U205-S205)*(T205-S205)+S223","v":859.99999999999989},{"$f":"(U224-U222)/(A224-A222)*(A223-A222)+U222","v":1100},{"$f":"(W223-U223)/(W205-U205)*(V205-U205)+U223","v":820},{"$f":"(W224-W222)/(A224-A222)*(A223-A222)+W222","v":1170},{"$f":"(Y223-W223)/(Y205-W205)*(X205-W205)+W223","v":689.99999999999989},{"$f":"(Y224-Y222)/(A224-A222)*(A223-A222)+Y222","v":1290},{"$f":"(AA223-Y223)/(AA205-Y205)*(Z205-Y205)+Y223","v":589.99999999999989},{"$f":"(AA224-AA222)/(A224-A222)*(A223-A222)+AA222","v":1430},{"$f":"(AC223-AA223)/(AC205-AA205)*(AB205-AA205)+AA223","v":620.00000000000034},{"$f":"(AC224-AC222)/(A224-A222)*(A223-A222)+AC222","v":1700},{"$f":"(AE223-AC223)/(AE205-AC205)*(AD205-AC205)+AC223","v":519.99999999999977},{"$f":"(AE224-AE222)/(A224-A222)*(A223-A222)+AE222","v":2290},{"$f":"(AG223-AE223)/(AG205-AE205)*(AF205-AE205)+AE223","v":2698.7999999999997},{"$f":"(AG224-AG222)/(A224-A222)*(A223-A222)+AG222","v":2850},{"$f":"(AI223-AG223)/(AI205-AG205)*(AH205-AG205)+AG223","v":529.99999999999955},{"$f":"(AI224-AI222)/(A224-A222)*(A223-A222)+AI222","v":3430},{"$f":"(AK223-AI223)/(AK205-AI205)*(AJ205-AI205)+AI223","v":3430},{"$f":"(AK224-AK222)/(A224-A222)*(A223-A222)+AK222","v":3430},{"$f":"(AM223-AK223)/(AM205-AK205)*(AL205-AK205)+AK223","v":{"$error":"#VALUE!"}},{"$f":"(AM224-AM222)/(A224-A222)*(A223-A222)+AM222","v":{"$error":"#VALUE!"}},{"$f":"(AO223-AM223)/(AO205-AM205)*(AN205-AM205)+AM223","v":{"$error":"#VALUE!"}},{"$f":"(AO224-AO222)/(A224-A222)*(A223-A222)+AO222","v":{"$error":"#VALUE!"}},{"$f":"(AQ223-AO223)/(AQ205-AO205)*(AP205-AO205)+AO223","v":{"$error":"#VALUE!"}},{"$f":"(AQ224-AQ222)/(A224-A222)*(A223-A222)+AQ222","v":{"$error":"#VALUE!"}},19]
[30,{"$f":"B222+1","v":9},"-",{"$f":"(E224-C224)/(E205-C205)*(D205-C205)+C224","v":{"$error":"#VALUE!"}},"-",{"$f":"(G224-E224)/(G205-E205)*(F205-E205)+E224","v":{"$error":"#VALUE!"}},"-",{"$f":"(I224-G224)/(I205-G205)*(H205-G205)+G224","v":{"$error":"#VALUE!"}},"-",{"$f":"(K224-I224)/(K205-I205)*(J205-I205)+I224","v":{"$error":"#VALUE!"}},"-",{"$f":"(M224-K224)/(M205-K205)*(L205-K205)+K224","v":{"$error":"#VALUE!"}},480,{"$f":"(O224-M224)/(O205-M205)*(N205-M205)+M224","v":-239.99999999999989},660,{"$f":"(Q224-O224)/(Q205-O205)*(P205-O205)+O224","v":59.999999999999659},780,{"$f":"(S224-Q224)/(S205-Q205)*(R205-Q205)+Q224","v":120.00000000000057},890,{"$f":"(U224-S224)/(U205-S205)*(T205-S205)+S224","v":259.99999999999966},980,{"$f":"(W224-U224)/(W205-U205)*(V205-U205)+U224","v":220.00000000000011},1170,{"$f":"(Y224-W224)/(Y205-W205)*(X205-W205)+W224","v":689.99999999999989},1290,{"$f":"(AA224-Y224)/(AA205-Y205)*(Z205-Y205)+Y224","v":589.99999999999989},1430,{"$f":"(AC224-AA224)/(AC205-AA205)*(AB205-AA205)+AA224","v":620.00000000000034},1700,{"$f":"(AE224-AC224)/(AE205-AC205)*(AD205-AC205)+AC224","v":519.99999999999977},2290,{"$f":"(AG224-AE224)/(AG205-AE205)*(AF205-AE205)+AE224","v":2698.7999999999997},2850,{"$f":"(AI224-AG224)/(AI205-AG205)*(AH205-AG205)+AG224","v":529.99999999999955},3430,{"$f":"(AK224-AI224)/(AK205-AI205)*(AJ205-AI205)+AI224","v":3430},3430,{"$f":"(AM224-AK224)/(AM205-AK205)*(AL205-AK205)+AK224","v":{"$error":"#VALUE!"}},"-",{"$f":"(AO224-AM224)/(AO205-AM205)*(AN205-AM205)+AM224","v":{"$error":"#VALUE!"}},"-",{"$f":"(AQ224-AO224)/(AQ205-AO205)*(AP205-AO205)+AO224","v":{"$error":"#VALUE!"}},"-",20]
[{"$f":"IF(AND(AV212>A224,AV212<A226)=TRUE,AV212,0)","v":0},null,{"$f":"(C226-C224)/(A226-A224)*(A225-A224)+C224","v":{"$error":"#VALUE!"}},{"$f":"(E225-C225)/(E205-C205)*(D205-C205)+C225","v":{"$error":"#VALUE!"}},{"$f":"(E226-E224)/(A226-A224)*(A225-A224)+E224","v":{"$error":"#VALUE!"}},{"$f":"(G225-E225)/(G205-E205)*(F205-E205)+E225","v":{"$error":"#VALUE!"}},{"$f":"(G226-G224)/(A226-A224)*(A225-A224)+G224","v":{"$error":"#VALUE!"}},{"$f":"(I225-G225)/(I205-G205)*(H205-G205)+G225","v":{"$error":"#VALUE!"}},{"$f":"(I226-I224)/(A226-A224)*(A225-A224)+I224","v":{"$error":"#VALUE!"}},{"$f":"(K225-I225)/(K205-I205)*(J205-I205)+I225","v":{"$error":"#VALUE!"}},{"$f":"(K226-K224)/(A226-A224)*(A225-A224)+K224","v":{"$error":"#VALUE!"}},{"$f":"(M225-K225)/(M205-K205)*(L205-K205)+K225","v":{"$error":"#VALUE!"}},{"$f":"(M226-M224)/(A226-A224)*(A225-A224)+M224","v":1920},{"$f":"(O225-M225)/(O205-M205)*(N205-M205)+M225","v":4920},{"$f":"(O226-O224)/(A226-A224)*(A225-A224)+O224","v":1170},{"$f":"(Q225-O225)/(Q205-O205)*(P205-O205)+O225","v":1770.0000000000005},{"$f":"(Q226-Q224)/(A226-A224)*(A225-A224)+Q224","v":1050},{"$f":"(S225-Q225)/(S205-Q205)*(R205-Q205)+Q225","v":750.00000000000023},{"$f":"(S226-S224)/(A226-A224)*(A225-A224)+S224","v":1100},{"$f":"(U225-S225)/(U205-S205)*(T205-S205)+S225","v":889.99999999999989},{"$f":"(U226-U224)/(A226-A224)*(A225-A224)+U224","v":1130},{"$f":"(W225-U225)/(W205-U205)*(V205-U205)+U225","v":130.00000000000011},{"$f":"(W226-W224)/(A226-A224)*(A225-A224)+W224","v":1380},{"$f":"(Y225-W225)/(Y205-W205)*(X205-W205)+W225","v":1740},{"$f":"(Y226-Y224)/(A226-A224)*(A225-A224)+Y224","v":1290},{"$f":"(AA225-Y225)/(AA205-Y205)*(Z205-Y205)+Y225","v":589.99999999999989},{"$f":"(AA226-AA224)/(A226-A224)*(A225-A224)+AA224","v":1430},{"$f":"(AC225-AA225)/(AC205-AA205)*(AB205-AA205)+AA225","v":620.00000000000034},{"$f":"(AC226-AC224)/(A226-A224)*(A225-A224)+AC224","v":1700},{"$f":"(AE225-AC225)/(AE205-AC205)*(AD205-AC205)+AC225","v":519.99999999999977},{"$f":"(AE226-AE224)/(A226-A224)*(A225-A224)+AE224","v":2290},{"$f":"(AG225-AE225)/(AG205-AE205)*(AF205-AE205)+AE225","v":2698.7999999999997},{"$f":"(AG226-AG224)/(A226-A224)*(A225-A224)+AG224","v":2850},{"$f":"(AI225-AG225)/(AI205-AG205)*(AH205-AG205)+AG225","v":529.99999999999955},{"$f":"(AI226-AI224)/(A226-A224)*(A225-A224)+AI224","v":3430},{"$f":"(AK225-AI225)/(AK205-AI205)*(AJ205-AI205)+AI225","v":3430},{"$f":"(AK226-AK224)/(A226-A224)*(A225-A224)+AK224","v":3430},{"$f":"(AM225-AK225)/(AM205-AK205)*(AL205-AK205)+AK225","v":{"$error":"#VALUE!"}},{"$f":"(AM226-AM224)/(A226-A224)*(A225-A224)+AM224","v":{"$error":"#VALUE!"}},{"$f":"(AO225-AM225)/(AO205-AM205)*(AN205-AM205)+AM225","v":{"$error":"#VALUE!"}},{"$f":"(AO226-AO224)/(A226-A224)*(A225-A224)+AO224","v":{"$error":"#VALUE!"}},{"$f":"(AQ225-AO225)/(AQ205-AO205)*(AP205-AO205)+AO225","v":{"$error":"#VALUE!"}},{"$f":"(AQ226-AQ224)/(A226-A224)*(A225-A224)+AQ224","v":{"$error":"#VALUE!"}},21]
[40,{"$f":"B224+1","v":10},"-",{"$f":"(E226-C226)/(E205-C205)*(D205-C205)+C226","v":{"$error":"#VALUE!"}},"-",{"$f":"(G226-E226)/(G205-E205)*(F205-E205)+E226","v":{"$error":"#VALUE!"}},"-",{"$f":"(I226-G226)/(I205-G205)*(H205-G205)+G226","v":{"$error":"#VALUE!"}},"-",{"$f":"(K226-I226)/(K205-I205)*(J205-I205)+I226","v":{"$error":"#VALUE!"}},"-",{"$f":"(M226-K226)/(M205-K205)*(L205-K205)+K226","v":{"$error":"#VALUE!"}},0,{"$f":"(O226-M226)/(O205-M205)*(N205-M205)+M226","v":-1959.9999999999998},490,{"$f":"(Q226-O226)/(Q205-O205)*(P205-O205)+O226","v":-510.00000000000057},690,{"$f":"(S226-Q226)/(S205-Q205)*(R205-Q205)+Q226","v":-89.999999999999318},820,{"$f":"(U226-S226)/(U205-S205)*(T205-S205)+S226","v":49.999999999999545},930,{"$f":"(W226-U226)/(W205-U205)*(V205-U205)+U226","v":250.00000000000011},1100,{"$f":"(Y226-W226)/(Y205-W205)*(X205-W205)+W226","v":339.99999999999977},1290,{"$f":"(AA226-Y226)/(AA205-Y205)*(Z205-Y205)+Y226","v":589.99999999999989},1430,{"$f":"(AC226-AA226)/(AC205-AA205)*(AB205-AA205)+AA226","v":620.00000000000034},1700,{"$f":"(AE226-AC226)/(AE205-AC205)*(AD205-AC205)+AC226","v":519.99999999999977},2290,{"$f":"(AG226-AE226)/(AG205-AE205)*(AF205-AE205)+AE226","v":2698.7999999999997},2850,{"$f":"(AI226-AG226)/(AI205-AG205)*(AH205-AG205)+AG226","v":529.99999999999955},3430,{"$f":"(AK226-AI226)/(AK205-AI205)*(AJ205-AI205)+AI226","v":3430},3430,{"$f":"(AM226-AK226)/(AM205-AK205)*(AL205-AK205)+AK226","v":{"$error":"#VALUE!"}},"-",{"$f":"(AO226-AM226)/(AO205-AM205)*(AN205-AM205)+AM226","v":{"$error":"#VALUE!"}},"-",{"$f":"(AQ226-AO226)/(AQ205-AO205)*(AP205-AO205)+AO226","v":{"$error":"#VALUE!"}},"-",22]
[{"$f":"IF(AND(AV212>A226,AV212<A228)=TRUE,AV212,0)","v":0},null,{"$f":"(C228-C226)/(A228-A226)*(A227-A226)+C226","v":{"$error":"#VALUE!"}},{"$f":"(E227-C227)/(E205-C205)*(D205-C205)+C227","v":{"$error":"#VALUE!"}},{"$f":"(E228-E226)/(A228-A226)*(A227-A226)+E226","v":{"$error":"#VALUE!"}},{"$f":"(G227-E227)/(G205-E205)*(F205-E205)+E227","v":{"$error":"#VALUE!"}},{"$f":"(G228-G226)/(A228-A226)*(A227-A226)+G226","v":{"$error":"#VALUE!"}},{"$f":"(I227-G227)/(I205-G205)*(H205-G205)+G227","v":{"$error":"#VALUE!"}},{"$f":"(I228-I226)/(A228-A226)*(A227-A226)+I226","v":{"$error":"#VALUE!"}},{"$f":"(K227-I227)/(K205-I205)*(J205-I205)+I227","v":{"$error":"#VALUE!"}},{"$f":"(K228-K226)/(A228-A226)*(A227-A226)+K226","v":{"$error":"#VALUE!"}},{"$f":"(M227-K227)/(M205-K205)*(L205-K205)+K227","v":{"$error":"#VALUE!"}},{"$f":"(M228-M226)/(A228-A226)*(A227-A226)+M226","v":{"$error":"#VALUE!"}},{"$f":"(O227-M227)/(O205-M205)*(N205-M205)+M227","v":{"$error":"#VALUE!"}},{"$f":"(O228-O226)/(A228-A226)*(A227-A226)+O226","v":2450},{"$f":"(Q227-O227)/(Q205-O205)*(P205-O205)+O227","v":7850.0000000000036},{"$f":"(Q228-Q226)/(A228-A226)*(A227-A226)+Q226","v":1370},{"$f":"(S227-Q227)/(S205-Q205)*(R205-Q205)+Q227","v":2029.9999999999995},{"$f":"(S228-S226)/(A228-A226)*(A227-A226)+S226","v":1260},{"$f":"(U227-S227)/(U205-S205)*(T205-S205)+S227","v":1330},{"$f":"(U228-U226)/(A228-A226)*(A227-A226)+U226","v":1250},{"$f":"(W227-U227)/(W205-U205)*(V205-U205)+U227","v":1050},{"$f":"(W228-W226)/(A228-A226)*(A227-A226)+W226","v":1300},{"$f":"(Y227-W227)/(Y205-W205)*(X205-W205)+W227","v":699.99999999999989},{"$f":"(Y228-Y226)/(A228-A226)*(A227-A226)+Y226","v":1450},{"$f":"(AA227-Y227)/(AA205-Y205)*(Z205-Y205)+Y227","v":1550},{"$f":"(AA228-AA226)/(A228-A226)*(A227-A226)+AA226","v":1430},{"$f":"(AC227-AA227)/(AC205-AA205)*(AB205-AA205)+AA227","v":620.00000000000034},{"$f":"(AC228-AC226)/(A228-A226)*(A227-A226)+AC226","v":1700},{"$f":"(AE227-AC227)/(AE205-AC205)*(AD205-AC205)+AC227","v":519.99999999999977},{"$f":"(AE228-AE226)/(A228-A226)*(A227-A226)+AE226","v":2290},{"$f":"(AG227-AE227)/(AG205-AE205)*(AF205-AE205)+AE227","v":2698.7999999999997},{"$f":"(AG228-AG226)/(A228-A226)*(A227-A226)+AG226","v":2850},{"$f":"(AI227-AG227)/(AI205-AG205)*(AH205-AG205)+AG227","v":529.99999999999955},{"$f":"(AI228-AI226)/(A228-A226)*(A227-A226)+AI226","v":3430},{"$f":"(AK227-AI227)/(AK205-AI205)*(AJ205-AI205)+AI227","v":3430},{"$f":"(AK228-AK226)/(A228-A226)*(A227-A226)+AK226","v":3430},{"$f":"(AM227-AK227)/(AM205-AK205)*(AL205-AK205)+AK227","v":{"$error":"#VALUE!"}},{"$f":"(AM228-AM226)/(A228-A226)*(A227-A226)+AM226","v":{"$error":"#VALUE!"}},{"$f":"(AO227-AM227)/(AO205-AM205)*(AN205-AM205)+AM227","v":{"$error":"#VALUE!"}},{"$f":"(AO228-AO226)/(A228-A226)*(A227-A226)+AO226","v":{"$error":"#VALUE!"}},{"$f":"(AQ227-AO227)/(AQ205-AO205)*(AP205-AO205)+AO227","v":{"$error":"#VALUE!"}},{"$f":"(AQ228-AQ226)/(A228-A226)*(A227-A226)+AQ226","v":{"$error":"#VALUE!"}},23]
[50,{"$f":"B226+1","v":11},"-",{"$f":"(E228-C228)/(E205-C205)*(D205-C205)+C228","v":{"$error":"#VALUE!"}},"-",{"$f":"(G228-E228)/(G205-E205)*(F205-E205)+E228","v":{"$error":"#VALUE!"}},"-",{"$f":"(I228-G228)/(I205-G205)*(H205-G205)+G228","v":{"$error":"#VALUE!"}},"-",{"$f":"(K228-I228)/(K205-I205)*(J205-I205)+I228","v":{"$error":"#VALUE!"}},"-",{"$f":"(M228-K228)/(M205-K205)*(L205-K205)+K228","v":{"$error":"#VALUE!"}},"-",{"$f":"(O228-M228)/(O205-M205)*(N205-M205)+M228","v":{"$error":"#VALUE!"}},0,{"$f":"(Q228-O228)/(Q205-O205)*(P205-O205)+O228","v":-2600.0000000000018},520,{"$f":"(S228-Q228)/(S205-Q205)*(R205-Q205)+Q228","v":-619.99999999999886},710,{"$f":"(U228-S228)/(U205-S205)*(T205-S205)+S228","v":-270.00000000000057},850,{"$f":"(W228-U228)/(W205-U205)*(V205-U205)+U228","v":50.000000000000114},1050,{"$f":"(Y228-W228)/(Y205-W205)*(X205-W205)+W228","v":249.99999999999977},1250,{"$f":"(AA228-Y228)/(AA205-Y205)*(Z205-Y205)+Y228","v":349.99999999999977},1430,{"$f":"(AC228-AA228)/(AC205-AA205)*(AB205-AA205)+AA228","v":620.00000000000034},1700,{"$f":"(AE228-AC228)/(AE205-AC205)*(AD205-AC205)+AC228","v":519.99999999999977},2290,{"$f":"(AG228-AE228)/(AG205-AE205)*(AF205-AE205)+AE228","v":2698.7999999999997},2850,{"$f":"(AI228-AG228)/(AI205-AG205)*(AH205-AG205)+AG228","v":529.99999999999955},3430,{"$f":"(AK228-AI228)/(AK205-AI205)*(AJ205-AI205)+AI228","v":3430},3430,{"$f":"(AM228-AK228)/(AM205-AK205)*(AL205-AK205)+AK228","v":{"$error":"#VALUE!"}},"-",{"$f":"(AO228-AM228)/(AO205-AM205)*(AN205-AM205)+AM228","v":{"$error":"#VALUE!"}},"-",{"$f":"(AQ228-AO228)/(AQ205-AO205)*(AP205-AO205)+AO228","v":{"$error":"#VALUE!"}},"-",24]
[{"$f":"IF(AND(AV212>A228,AV212<A230)=TRUE,AV212,0)","v":0},null,{"$f":"(C230-C228)/(A230-A228)*(A229-A228)+C228","v":{"$error":"#VALUE!"}},{"$f":"(E229-C229)/(E205-C205)*(D205-C205)+C229","v":{"$error":"#VALUE!"}},{"$f":"(E230-E228)/(A230-A228)*(A229-A228)+E228","v":{"$error":"#VALUE!"}},{"$f":"(G229-E229)/(G205-E205)*(F205-E205)+E229","v":{"$error":"#VALUE!"}},{"$f":"(G230-G228)/(A230-A228)*(A229-A228)+G228","v":{"$error":"#VALUE!"}},{"$f":"(I229-G229)/(I205-G205)*(H205-G205)+G229","v":{"$error":"#VALUE!"}},{"$f":"(I230-I228)/(A230-A228)*(A229-A228)+I228","v":{"$error":"#VALUE!"}},{"$f":"(K229-I229)/(K205-I205)*(J205-I205)+I229","v":{"$error":"#VALUE!"}},{"$f":"(K230-K228)/(A230-A228)*(A229-A228)+K228","v":{"$error":"#VALUE!"}},{"$f":"(M229-K229)/(M205-K205)*(L205-K205)+K229","v":{"$error":"#VALUE!"}},{"$f":"(M230-M228)/(A230-A228)*(A229-A228)+M228","v":{"$error":"#VALUE!"}},{"$f":"(O229-M229)/(O205-M205)*(N205-M205)+M229","v":{"$error":"#VALUE!"}},{"$f":"(O230-O228)/(A230-A228)*(A229-A228)+O228","v":{"$error":"#VALUE!"}},{"$f":"(Q229-O229)/(Q205-O205)*(P205-O205)+O229","v":{"$error":"#VALUE!"}},{"$f":"(Q230-Q228)/(A230-A228)*(A229-A228)+Q228","v":3120},{"$f":"(S229-Q229)/(S205-Q205)*(R205-Q205)+Q229","v":10079.999999999993},{"$f":"(S230-S228)/(A230-A228)*(A229-A228)+S228","v":1960},{"$f":"(U229-S229)/(U205-S205)*(T205-S205)+S229","v":2730.0000000000005},{"$f":"(U230-U228)/(A230-A228)*(A229-A228)+U228","v":1850},{"$f":"(W229-U229)/(W205-U205)*(V205-U205)+U229","v":4049.9999999999995},{"$f":"(W230-W228)/(A230-A228)*(A229-A228)+W228","v":1300},{"$f":"(Y229-W229)/(Y205-W205)*(X205-W205)+W229","v":-2500.0000000000009},{"$f":"(Y230-Y228)/(A230-A228)*(A229-A228)+Y228","v":2250},{"$f":"(AA229-Y229)/(AA205-Y205)*(Z205-Y205)+Y229","v":5600.0000000000009},{"$f":"(AA230-AA228)/(A230-A228)*(A229-A228)+AA228","v":1580},{"$f":"(AC229-AA229)/(AC205-AA205)*(AB205-AA205)+AA229","v":1220.0000000000002},{"$f":"(AC230-AC228)/(A230-A228)*(A229-A228)+AC228","v":1700},{"$f":"(AE229-AC229)/(AE205-AC205)*(AD205-AC205)+AC229","v":-380.00000000000045},{"$f":"(AE230-AE228)/(A230-A228)*(A229-A228)+AE228","v":2740},{"$f":"(AG229-AE229)/(AG205-AE205)*(AF205-AE205)+AE229","v":3002.8},{"$f":"(AG230-AG228)/(A230-A228)*(A229-A228)+AG228","v":3100},{"$f":"(AI229-AG229)/(AI205-AG205)*(AH205-AG205)+AG229","v":1179.9999999999995},{"$f":"(AI230-AI228)/(A230-A228)*(A229-A228)+AI228","v":3580},{"$f":"(AK229-AI229)/(AK205-AI205)*(AJ205-AI205)+AI229","v":6080},{"$f":"(AK230-AK228)/(A230-A228)*(A229-A228)+AK228","v":3080},{"$f":"(AM229-AK229)/(AM205-AK205)*(AL205-AK205)+AK229","v":{"$error":"#VALUE!"}},{"$f":"(AM230-AM228)/(A230-A228)*(A229-A228)+AM228","v":{"$error":"#VALUE!"}},{"$f":"(AO229-AM229)/(AO205-AM205)*(AN205-AM205)+AM229","v":{"$error":"#VALUE!"}},{"$f":"(AO230-AO228)/(A230-A228)*(A229-A228)+AO228","v":{"$error":"#VALUE!"}},{"$f":"(AQ229-AO229)/(AQ205-AO205)*(AP205-AO205)+AO229","v":{"$error":"#VALUE!"}},{"$f":"(AQ230-AQ228)/(A230-A228)*(A229-A228)+AQ228","v":{"$error":"#VALUE!"}},25]
[60,{"$f":"B228+1","v":12},"-",{"$f":"(E230-C230)/(E205-C205)*(D205-C205)+C230","v":{"$error":"#VALUE!"}},"-",{"$f":"(G230-E230)/(G205-E205)*(F205-E205)+E230","v":{"$error":"#VALUE!"}},"-",{"$f":"(I230-G230)/(I205-G205)*(H205-G205)+G230","v":{"$error":"#VALUE!"}},"-",{"$f":"(K230-I230)/(K205-I205)*(J205-I205)+I230","v":{"$error":"#VALUE!"}},"-",{"$f":"(M230-K230)/(M205-K205)*(L205-K205)+K230","v":{"$error":"#VALUE!"}},"-",{"$f":"(O230-M230)/(O205-M205)*(N205-M205)+M230","v":{"$error":"#VALUE!"}},"-",{"$f":"(Q230-O230)/(Q205-O205)*(P205-O205)+O230","v":{"$error":"#VALUE!"}},0,{"$f":"(S230-Q230)/(S205-Q205)*(R205-Q205)+Q230","v":-2759.9999999999973},460,{"$f":"(U230-S230)/(U205-S205)*(T205-S205)+S230","v":-870.00000000000091},650,{"$f":"(W230-U230)/(W205-U205)*(V205-U205)+U230","v":-749.99999999999977},1000,{"$f":"(Y230-W230)/(Y205-W205)*(X205-W205)+W230","v":800},1050,{"$f":"(AA230-Y230)/(AA205-Y205)*(Z205-Y205)+Y230","v":-700.00000000000045},1400,{"$f":"(AC230-AA230)/(AC205-AA205)*(AB205-AA205)+AA230","v":500.00000000000034},1700,{"$f":"(AE230-AC230)/(AE205-AC205)*(AD205-AC205)+AC230","v":699.99999999999977},2200,{"$f":"(AG230-AE230)/(AG205-AE205)*(AF205-AE205)+AE230","v":2638},2800,{"$f":"(AI230-AG230)/(AI205-AG205)*(AH205-AG205)+AG230","v":399.99999999999955},3400,{"$f":"(AK230-AI230)/(AK205-AI205)*(AJ205-AI205)+AI230","v":2900},3500,{"$f":"(AM230-AK230)/(AM205-AK205)*(AL205-AK205)+AK230","v":1400.0000000000009},4200,{"$f":"(AO230-AM230)/(AO205-AM205)*(AN205-AM205)+AM230","v":4200},4200,{"$f":"(AQ230-AO230)/(AQ205-AO205)*(AP205-AO205)+AO230","v":4200},4200,26]
[{"$f":"IF(AND(AV212>A230,AV212<A232)=TRUE,AV212,0)","v":0},null,{"$f":"(C232-C230)/(A232-A230)*(A231-A230)+C230","v":{"$error":"#VALUE!"}},{"$f":"(E231-C231)/(E205-C205)*(D205-C205)+C231","v":{"$error":"#VALUE!"}},{"$f":"(E232-E230)/(A232-A230)*(A231-A230)+E230","v":{"$error":"#VALUE!"}},{"$f":"(G231-E231)/(G205-E205)*(F205-E205)+E231","v":{"$error":"#VALUE!"}},{"$f":"(G232-G230)/(A232-A230)*(A231-A230)+G230","v":{"$error":"#VALUE!"}},{"$f":"(I231-G231)/(I205-G205)*(H205-G205)+G231","v":{"$error":"#VALUE!"}},{"$f":"(I232-I230)/(A232-A230)*(A231-A230)+I230","v":{"$error":"#VALUE!"}},{"$f":"(K231-I231)/(K205-I205)*(J205-I205)+I231","v":{"$error":"#VALUE!"}},{"$f":"(K232-K230)/(A232-A230)*(A231-A230)+K230","v":{"$error":"#VALUE!"}},{"$f":"(M231-K231)/(M205-K205)*(L205-K205)+K231","v":{"$error":"#VALUE!"}},{"$f":"(M232-M230)/(A232-A230)*(A231-A230)+M230","v":{"$error":"#VALUE!"}},{"$f":"(O231-M231)/(O205-M205)*(N205-M205)+M231","v":{"$error":"#VALUE!"}},{"$f":"(O232-O230)/(A232-A230)*(A231-A230)+O230","v":{"$error":"#VALUE!"}},{"$f":"(Q231-O231)/(Q205-O205)*(P205-O205)+O231","v":{"$error":"#VALUE!"}},{"$f":"(Q232-Q230)/(A232-A230)*(A231-A230)+Q230","v":{"$error":"#VALUE!"}},{"$f":"(S231-Q231)/(S205-Q205)*(R205-Q205)+Q231","v":{"$error":"#VALUE!"}},{"$f":"(S232-S230)/(A232-A230)*(A231-A230)+S230","v":1840},{"$f":"(U231-S231)/(U205-S205)*(T205-S205)+S231","v":-3480.0000000000036},{"$f":"(U232-U230)/(A232-A230)*(A231-A230)+U230","v":2600},{"$f":"(W231-U231)/(W205-U205)*(V205-U205)+U231","v":5160},{"$f":"(W232-W230)/(A232-A230)*(A231-A230)+W230","v":1960},{"$f":"(Y231-W231)/(Y205-W205)*(X205-W205)+W231","v":4880.0000000000009},{"$f":"(Y232-Y230)/(A232-A230)*(A231-A230)+Y230","v":1230},{"$f":"(AA231-Y231)/(AA205-Y205)*(Z205-Y205)+Y231","v":-1120.0000000000005},{"$f":"(AA232-AA230)/(A232-A230)*(A231-A230)+AA230","v":1700},{"$f":"(AC231-AA231)/(AC205-AA205)*(AB205-AA205)+AA231","v":1700},{"$f":"(AC232-AC230)/(A232-A230)*(A231-A230)+AC230","v":1700},{"$f":"(AE231-AC231)/(AE205-AC205)*(AD205-AC205)+AC231","v":699.99999999999977},{"$f":"(AE232-AE230)/(A232-A230)*(A231-A230)+AE230","v":2200},{"$f":"(AG231-AE231)/(AG205-AE205)*(AF205-AE205)+AE231","v":2638},{"$f":"(AG232-AG230)/(A232-A230)*(A231-A230)+AG230","v":2800},{"$f":"(AI231-AG231)/(AI205-AG205)*(AH205-AG205)+AG231","v":399.99999999999955},{"$f":"(AI232-AI230)/(A232-A230)*(A231-A230)+AI230","v":3400},{"$f":"(AK231-AI231)/(AK205-AI205)*(AJ205-AI205)+AI231","v":2900},{"$f":"(AK232-AK230)/(A232-A230)*(A231-A230)+AK230","v":3500},{"$f":"(AM231-AK231)/(AM205-AK205)*(AL205-AK205)+AK231","v":1400.0000000000009},{"$f":"(AM232-AM230)/(A232-A230)*(A231-A230)+AM230","v":4200},{"$f":"(AO231-AM231)/(AO205-AM205)*(AN205-AM205)+AM231","v":8400},{"$f":"(AO232-AO230)/(A232-A230)*(A231-A230)+AO230","v":2100},{"$f":"(AQ231-AO231)/(AQ205-AO205)*(AP205-AO205)+AO231","v":2100},{"$f":"(AQ232-AQ230)/(A232-A230)*(A231-A230)+AQ230","v":2100},27]
[80,{"$f":"B230+1","v":13},"-",{"$f":"(E232-C232)/(E205-C205)*(D205-C205)+C232","v":{"$error":"#VALUE!"}},"-",{"$f":"(G232-E232)/(G205-E205)*(F205-E205)+E232","v":{"$error":"#VALUE!"}},"-",{"$f":"(I232-G232)/(I205-G205)*(H205-G205)+G232","v":{"$error":"#VALUE!"}},"-",{"$f":"(K232-I232)/(K205-I205)*(J205-I205)+I232","v":{"$error":"#VALUE!"}},"-",{"$f":"(M232-K232)/(M205-K205)*(L205-K205)+K232","v":{"$error":"#VALUE!"}},"-",{"$f":"(O232-M232)/(O205-M205)*(N205-M205)+M232","v":{"$error":"#VALUE!"}},"-",{"$f":"(Q232-O232)/(Q205-O205)*(P205-O205)+O232","v":{"$error":"#VALUE!"}},"-",{"$f":"(S232-Q232)/(S205-Q205)*(R205-Q205)+Q232","v":{"$error":"#VALUE!"}},0,{"$f":"(U232-S232)/(U205-S205)*(T205-S205)+S232","v":0},0,{"$f":"(W232-U232)/(W205-U205)*(V205-U205)+U232","v":-2719.9999999999995},680,{"$f":"(Y232-W232)/(Y205-W205)*(X205-W205)+W232","v":-560.00000000000045},990,{"$f":"(AA232-Y232)/(AA205-Y205)*(Z205-Y205)+Y232","v":-560.00000000000045},1300,{"$f":"(AC232-AA232)/(AC205-AA205)*(AB205-AA205)+AA232","v":100.00000000000045},1700,{"$f":"(AE232-AC232)/(AE205-AC205)*(AD205-AC205)+AC232","v":699.99999999999977},2200,{"$f":"(AG232-AE232)/(AG205-AE205)*(AF205-AE205)+AE232","v":2638},2800,{"$f":"(AI232-AG232)/(AI205-AG205)*(AH205-AG205)+AG232","v":399.99999999999955},3400,{"$f":"(AK232-AI232)/(AK205-AI205)*(AJ205-AI205)+AI232","v":2900},3500,{"$f":"(AM232-AK232)/(AM205-AK205)*(AL205-AK205)+AK232","v":1400.0000000000009},4200,{"$f":"(AO232-AM232)/(AO205-AM205)*(AN205-AM205)+AM232","v":2799.9999999999995},4900,{"$f":"(AQ232-AO232)/(AQ205-AO205)*(AP205-AO205)+AO232","v":4900},4900,28]
[{"$f":"IF(AND(AV212>A232,AV212<A234)=TRUE,AV212,0)","v":0},null,{"$f":"(C234-C232)/(A234-A232)*(A233-A232)+C232","v":{"$error":"#VALUE!"}},{"$f":"(E233-C233)/(E205-C205)*(D205-C205)+C233","v":{"$error":"#VALUE!"}},{"$f":"(E234-E232)/(A234-A232)*(A233-A232)+E232","v":{"$error":"#VALUE!"}},{"$f":"(G233-E233)/(G205-E205)*(F205-E205)+E233","v":{"$error":"#VALUE!"}},{"$f":"(G234-G232)/(A234-A232)*(A233-A232)+G232","v":{"$error":"#VALUE!"}},{"$f":"(I233-G233)/(I205-G205)*(H205-G205)+G233","v":{"$error":"#VALUE!"}},{"$f":"(I234-I232)/(A234-A232)*(A233-A232)+I232","v":{"$error":"#VALUE!"}},{"$f":"(K233-I233)/(K205-I205)*(J205-I205)+I233","v":{"$error":"#VALUE!"}},{"$f":"(K234-K232)/(A234-A232)*(A233-A232)+K232","v":{"$error":"#VALUE!"}},{"$f":"(M233-K233)/(M205-K205)*(L205-K205)+K233","v":{"$error":"#VALUE!"}},{"$f":"(M234-M232)/(A234-A232)*(A233-A232)+M232","v":{"$error":"#VALUE!"}},{"$f":"(O233-M233)/(O205-M205)*(N205-M205)+M233","v":{"$error":"#VALUE!"}},{"$f":"(O234-O232)/(A234-A232)*(A233-A232)+O232","v":{"$error":"#VALUE!"}},{"$f":"(Q233-O233)/(Q205-O205)*(P205-O205)+O233","v":{"$error":"#VALUE!"}},{"$f":"(Q234-Q232)/(A234-A232)*(A233-A232)+Q232","v":{"$error":"#VALUE!"}},{"$f":"(S233-Q233)/(S205-Q205)*(R205-Q205)+Q233","v":{"$error":"#VALUE!"}},{"$f":"(S234-S232)/(A234-A232)*(A233-A232)+S232","v":{"$error":"#VALUE!"}},{"$f":"(U233-S233)/(U205-S205)*(T205-S205)+S233","v":{"$error":"#VALUE!"}},{"$f":"(U234-U232)/(A234-A232)*(A233-A232)+U232","v":{"$error":"#VALUE!"}},{"$f":"(W233-U233)/(W205-U205)*(V205-U205)+U233","v":{"$error":"#VALUE!"}},{"$f":"(W234-W232)/(A234-A232)*(A233-A232)+W232","v":3400},{"$f":"(Y233-W233)/(Y205-W205)*(X205-W205)+W233","v":10000.000000000002},{"$f":"(Y234-Y232)/(A234-A232)*(A233-A232)+Y232","v":1750},{"$f":"(AA233-Y233)/(AA205-Y205)*(Z205-Y205)+Y233","v":2000},{"$f":"(AA234-AA232)/(A234-A232)*(A233-A232)+AA232","v":1700},{"$f":"(AC233-AA233)/(AC205-AA205)*(AB205-AA205)+AA233","v":500.00000000000045},{"$f":"(AC234-AC232)/(A234-A232)*(A233-A232)+AC232","v":2100},{"$f":"(AE233-AC233)/(AE205-AC205)*(AD205-AC205)+AC233","v":1900},{"$f":"(AE234-AE232)/(A234-A232)*(A233-A232)+AE232","v":2200},{"$f":"(AG233-AE233)/(AG205-AE205)*(AF205-AE205)+AE233","v":2638},{"$f":"(AG234-AG232)/(A234-A232)*(A233-A232)+AG232","v":2800},{"$f":"(AI233-AG233)/(AI205-AG205)*(AH205-AG205)+AG233","v":399.99999999999955},{"$f":"(AI234-AI232)/(A234-A232)*(A233-A232)+AI232","v":3400},{"$f":"(AK233-AI233)/(AK205-AI205)*(AJ205-AI205)+AI233","v":2900},{"$f":"(AK234-AK232)/(A234-A232)*(A233-A232)+AK232","v":3500},{"$f":"(AM233-AK233)/(AM205-AK205)*(AL205-AK205)+AK233","v":3800},{"$f":"(AM234-AM232)/(A234-A232)*(A233-A232)+AM232","v":3400},{"$f":"(AO233-AM233)/(AO205-AM205)*(AN205-AM205)+AM233","v":4400},{"$f":"(AO234-AO232)/(A234-A232)*(A233-A232)+AO232","v":2900},{"$f":"(AQ233-AO233)/(AQ205-AO205)*(AP205-AO205)+AO233","v":1700.0000000000005},{"$f":"(AQ234-AQ232)/(A234-A232)*(A233-A232)+AQ232","v":3300},29]
[100,{"$f":"B232+1","v":14},"-",{"$f":"(E234-C234)/(E205-C205)*(D205-C205)+C234","v":{"$error":"#VALUE!"}},"-",{"$f":"(G234-E234)/(G205-E205)*(F205-E205)+E234","v":{"$error":"#VALUE!"}},"-",{"$f":"(I234-G234)/(I205-G205)*(H205-G205)+G234","v":{"$error":"#VALUE!"}},"-",{"$f":"(K234-I234)/(K205-I205)*(J205-I205)+I234","v":{"$error":"#VALUE!"}},"-",{"$f":"(M234-K234)/(M205-K205)*(L205-K205)+K234","v":{"$error":"#VALUE!"}},"-",{"$f":"(O234-M234)/(O205-M205)*(N205-M205)+M234","v":{"$error":"#VALUE!"}},"-",{"$f":"(Q234-O234)/(Q205-O205)*(P205-O205)+O234","v":{"$error":"#VALUE!"}},"-",{"$f":"(S234-Q234)/(S205-Q205)*(R205-Q205)+Q234","v":{"$error":"#VALUE!"}},"-",{"$f":"(U234-S234)/(U205-S205)*(T205-S205)+S234","v":{"$error":"#VALUE!"}},"-",{"$f":"(W234-U234)/(W205-U205)*(V205-U205)+U234","v":{"$error":"#VALUE!"}},0,{"$f":"(Y234-W234)/(Y205-W205)*(X205-W205)+W234","v":-3200.0000000000009},800,{"$f":"(AA234-Y234)/(AA205-Y205)*(Z205-Y205)+Y234","v":-1200.0000000000005},1200,{"$f":"(AC234-AA234)/(AC205-AA205)*(AB205-AA205)+AA234","v":0},1600,{"$f":"(AE234-AC234)/(AE205-AC205)*(AD205-AC205)+AC234","v":399.99999999999977},2200,{"$f":"(AG234-AE234)/(AG205-AE205)*(AF205-AE205)+AE234","v":2638},2800,{"$f":"(AI234-AG234)/(AI205-AG205)*(AH205-AG205)+AG234","v":399.99999999999955},3400,{"$f":"(AK234-AI234)/(AK205-AI205)*(AJ205-AI205)+AI234","v":2900},3500,{"$f":"(AM234-AK234)/(AM205-AK205)*(AL205-AK205)+AK234","v":800.00000000000136},4400,{"$f":"(AO234-AM234)/(AO205-AM205)*(AN205-AM205)+AM234","v":2399.9999999999995},5400,{"$f":"(AQ234-AO234)/(AQ205-AO205)*(AP205-AO205)+AO234","v":5700},5300,30]
[{"$f":"IF(AND(AV212>A234,AV212<A236)=TRUE,AV212,0)","v":0},null,{"$f":"(C236-C232)/(A236-A232)*(A235-A232)+C232","v":{"$error":"#VALUE!"}},{"$f":"(E235-C235)/(E205-C205)*(D205-C205)+C235","v":{"$error":"#VALUE!"}},{"$f":"(E236-E232)/(A236-A232)*(A235-A232)+E232","v":{"$error":"#VALUE!"}},{"$f":"(G235-E235)/(G205-E205)*(F205-E205)+E235","v":{"$error":"#VALUE!"}},{"$f":"(G236-G232)/(A236-A232)*(A235-A232)+G232","v":{"$error":"#VALUE!"}},{"$f":"(I235-G235)/(I205-G205)*(H205-G205)+G235","v":{"$error":"#VALUE!"}},{"$f":"(I236-I232)/(A236-A232)*(A235-A232)+I232","v":{"$error":"#VALUE!"}},{"$f":"(K235-I235)/(K205-I205)*(J205-I205)+I235","v":{"$error":"#VALUE!"}},{"$f":"(K236-K232)/(A236-A232)*(A235-A232)+K232","v":{"$error":"#VALUE!"}},{"$f":"(M235-K235)/(M205-K205)*(L205-K205)+K235","v":{"$error":"#VALUE!"}},{"$f":"(M236-M232)/(A236-A232)*(A235-A232)+M232","v":{"$error":"#VALUE!"}},{"$f":"(O235-M235)/(O205-M205)*(N205-M205)+M235","v":{"$error":"#VALUE!"}},{"$f":"(O236-O232)/(A236-A232)*(A235-A232)+O232","v":{"$error":"#VALUE!"}},{"$f":"(Q235-O235)/(Q205-O205)*(P205-O205)+O235","v":{"$error":"#VALUE!"}},{"$f":"(Q236-Q232)/(A236-A232)*(A235-A232)+Q232","v":{"$error":"#VALUE!"}},{"$f":"(S235-Q235)/(S205-Q205)*(R205-Q205)+Q235","v":{"$error":"#VALUE!"}},{"$f":"(S236-S232)/(A236-A232)*(A235-A232)+S232","v":{"$error":"#VALUE!"}},{"$f":"(U235-S235)/(U205-S205)*(T205-S205)+S235","v":{"$error":"#VALUE!"}},{"$f":"(U236-U232)/(A236-A232)*(A235-A232)+U232","v":{"$error":"#VALUE!"}},{"$f":"(W235-U235)/(W205-U205)*(V205-U205)+U235","v":{"$error":"#VALUE!"}},{"$f":"(W236-W232)/(A236-A232)*(A235-A232)+W232","v":{"$error":"#VALUE!"}},{"$f":"(Y235-W235)/(Y205-W205)*(X205-W205)+W235","v":{"$error":"#VALUE!"}},{"$f":"(Y236-Y232)/(A236-A232)*(A235-A232)+Y232","v":2121.4285714285716},{"$f":"(AA235-Y235)/(AA205-Y205)*(Z205-Y205)+Y235","v":-1200.0000000000005},{"$f":"(AA236-AA232)/(A236-A232)*(A235-A232)+AA232","v":2785.7142857142858},{"$f":"(AC235-AA235)/(AC205-AA205)*(AB205-AA205)+AA235","v":5014.2857142857138},{"$f":"(AC236-AC232)/(A236-A232)*(A235-A232)+AC232","v":2042.8571428571429},{"$f":"(AE235-AC235)/(AE205-AC205)*(AD205-AC205)+AC235","v":1728.5714285714284},{"$f":"(AE236-AE234)/(A236-A234)*(A235-A234)+AE234","v":2200},{"$f":"(AG235-AE235)/(AG205-AE205)*(AF205-AE205)+AE235","v":2638},{"$f":"(AG236-AG234)/(A236-A234)*(A235-A234)+AG234","v":2800},{"$f":"(AI235-AG235)/(AI205-AG205)*(AH205-AG205)+AG235","v":399.99999999999955},{"$f":"(AI236-AI234)/(A236-A234)*(A235-A234)+AI234","v":3400},{"$f":"(AK235-AI235)/(AK205-AI205)*(AJ205-AI205)+AI235","v":2900},{"$f":"(AK236-AK234)/(A236-A234)*(A235-A234)+AK234","v":3500},{"$f":"(AM235-AK235)/(AM205-AK205)*(AL205-AK205)+AK235","v":800.00000000000136},{"$f":"(AM236-AM234)/(A236-A234)*(A235-A234)+AM234","v":4400},{"$f":"(AO235-AM235)/(AO205-AM205)*(AN205-AM205)+AM235","v":2399.9999999999995},{"$f":"(AO236-AO234)/(A236-A234)*(A235-A234)+AO234","v":5400},{"$f":"(AQ235-AO235)/(AQ205-AO205)*(AP205-AO205)+AO235","v":9299.9999999999982},{"$f":"(AQ236-AQ234)/(A236-A234)*(A235-A234)+AQ234","v":4100},31]
[150,{"$f":"B234+1","v":15},"-",{"$f":"(E236-C236)/(E205-C205)*(D205-C205)+C236","v":{"$error":"#VALUE!"}},"-",{"$f":"(G236-E236)/(G205-E205)*(F205-E205)+E236","v":{"$error":"#VALUE!"}},"-",{"$f":"(I236-G236)/(I205-G205)*(H205-G205)+G236","v":{"$error":"#VALUE!"}},"-",{"$f":"(K236-I236)/(K205-I205)*(J205-I205)+I236","v":{"$error":"#VALUE!"}},"-",{"$f":"(M236-K236)/(M205-K205)*(L205-K205)+K236","v":{"$error":"#VALUE!"}},"-",{"$f":"(O236-M236)/(O205-M205)*(N205-M205)+M236","v":{"$error":"#VALUE!"}},"-",{"$f":"(Q236-O236)/(Q205-O205)*(P205-O205)+O236","v":{"$error":"#VALUE!"}},"-",{"$f":"(S236-Q236)/(S205-Q205)*(R205-Q205)+Q236","v":{"$error":"#VALUE!"}},"-",{"$f":"(U236-S236)/(U205-S205)*(T205-S205)+S236","v":{"$error":"#VALUE!"}},"-",{"$f":"(W236-U236)/(W205-U205)*(V205-U205)+U236","v":{"$error":"#VALUE!"}},"-",{"$f":"(Y236-W236)/(Y205-W205)*(X205-W205)+W236","v":{"$error":"#VALUE!"}},0,{"$f":"(AA236-Y236)/(AA205-Y205)*(Z205-Y205)+Y236","v":0},0,{"$f":"(AC236-AA236)/(AC205-AA205)*(AB205-AA205)+AA236","v":-4199.9999999999982},1400,{"$f":"(AE236-AC236)/(AE205-AC205)*(AD205-AC205)+AC236","v":-200.00000000000045},2200,{"$f":"(AG236-AE236)/(AG205-AE205)*(AF205-AE205)+AE236","v":2638},2800,{"$f":"(AI236-AG236)/(AI205-AG205)*(AH205-AG205)+AG236","v":399.99999999999955},3400,{"$f":"(AK236-AI236)/(AK205-AI205)*(AJ205-AI205)+AI236","v":2900},3500,{"$f":"(AM236-AK236)/(AM205-AK205)*(AL205-AK205)+AK236","v":800.00000000000136},4400,{"$f":"(AO236-AM236)/(AO205-AM205)*(AN205-AM205)+AM236","v":2399.9999999999995},5400,{"$f":"(AQ236-AO236)/(AQ205-AO205)*(AP205-AO205)+AO236","v":3900.0000000000009},5900,32]
[{"$f":"IF(AND(AV212>A236,AV212<A238)=TRUE,AV212,0)","v":0},null,{"$f":"(C238-C236)/(A238-A236)*(A237-A236)+C236","v":{"$error":"#VALUE!"}},{"$f":"(E237-C237)/(E205-C205)*(D205-C205)+C237","v":{"$error":"#VALUE!"}},{"$f":"(E238-E236)/(A238-A236)*(A237-A236)+E236","v":{"$error":"#VALUE!"}},{"$f":"(G237-E237)/(G205-E205)*(F205-E205)+E237","v":{"$error":"#VALUE!"}},{"$f":"(G238-G236)/(A238-A236)*(A237-A236)+G236","v":{"$error":"#VALUE!"}},{"$f":"(I237-G237)/(I205-G205)*(H205-G205)+G237","v":{"$error":"#VALUE!"}},{"$f":"(I238-I236)/(A238-A236)*(A237-A236)+I236","v":{"$error":"#VALUE!"}},{"$f":"(K237-I237)/(K205-I205)*(J205-I205)+I237","v":{"$error":"#VALUE!"}},{"$f":"(K238-K236)/(A238-A236)*(A237-A236)+K236","v":{"$error":"#VALUE!"}},{"$f":"(M237-K237)/(M205-K205)*(L205-K205)+K237","v":{"$error":"#VALUE!"}},{"$f":"(M238-M236)/(A238-A236)*(A237-A236)+M236","v":{"$error":"#VALUE!"}},{"$f":"(O237-M237)/(O205-M205)*(N205-M205)+M237","v":{"$error":"#VALUE!"}},{"$f":"(O238-O236)/(A238-A236)*(A237-A236)+O236","v":{"$error":"#VALUE!"}},{"$f":"(Q237-O237)/(Q205-O205)*(P205-O205)+O237","v":{"$error":"#VALUE!"}},{"$f":"(Q238-Q236)/(A238-A236)*(A237-A236)+Q236","v":{"$error":"#VALUE!"}},{"$f":"(S237-Q237)/(S205-Q205)*(R205-Q205)+Q237","v":{"$error":"#VALUE!"}},{"$f":"(S238-S236)/(A238-A236)*(A237-A236)+S236","v":{"$error":"#VALUE!"}},{"$f":"(U237-S237)/(U205-S205)*(T205-S205)+S237","v":{"$error":"#VALUE!"}},{"$f":"(U238-U236)/(A238-A236)*(A237-A236)+U236","v":{"$error":"#VALUE!"}},{"$f":"(W237-U237)/(W205-U205)*(V205-U205)+U237","v":{"$error":"#VALUE!"}},{"$f":"(W238-W236)/(A238-A236)*(A237-A236)+W236","v":{"$error":"#VALUE!"}},{"$f":"(Y237-W237)/(Y205-W205)*(X205-W205)+W237","v":{"$error":"#VALUE!"}},{"$f":"(Y238-Y236)/(A238-A236)*(A237-A236)+Y236","v":{"$error":"#VALUE!"}},{"$f":"(AA237-Y237)/(AA205-Y205)*(Z205-Y205)+Y237","v":{"$error":"#VALUE!"}},{"$f":"(AA238-AA236)/(A238-A236)*(A237-A236)+AA236","v":{"$error":"#VALUE!"}},{"$f":"(AC237-AA237)/(AC205-AA205)*(AB205-AA205)+AA237","v":{"$error":"#VALUE!"}},{"$f":"(AC238-AC236)/(A238-A236)*(A237-A236)+AC236","v":5600},{"$f":"(AE237-AC237)/(AE205-AC205)*(AD205-AC205)+AC237","v":11800.000000000002},{"$f":"(AE238-AE236)/(A238-A236)*(A237-A236)+AE236","v":2500},{"$f":"(AG237-AE237)/(AG205-AE205)*(AF205-AE205)+AE237","v":2828.5},{"$f":"(AG238-AG236)/(A238-A236)*(A237-A236)+AG236","v":2950},{"$f":"(AI237-AG237)/(AI205-AG205)*(AH205-AG205)+AG237","v":1149.9999999999995},{"$f":"(AI238-AI236)/(A238-A236)*(A237-A236)+AI236","v":3400},{"$f":"(AK237-AI237)/(AK205-AI205)*(AJ205-AI205)+AI237","v":2900},{"$f":"(AK238-AK236)/(A238-A236)*(A237-A236)+AK236","v":3500},{"$f":"(AM237-AK237)/(AM205-AK205)*(AL205-AK205)+AK237","v":800.00000000000136},{"$f":"(AM238-AM236)/(A238-A236)*(A237-A236)+AM236","v":4400},{"$f":"(AO237-AM237)/(AO205-AM205)*(AN205-AM205)+AM237","v":2399.9999999999995},{"$f":"(AO238-AO236)/(A238-A236)*(A237-A236)+AO236","v":5400},{"$f":"(AQ237-AO237)/(AQ205-AO205)*(AP205-AO205)+AO237","v":3900.0000000000009},{"$f":"(AQ238-AQ236)/(A238-A236)*(A237-A236)+AQ236","v":5900},33]
[200,{"$f":"B236+1","v":16},"-",{"$f":"(E238-C238)/(E205-C205)*(D205-C205)+C238","v":{"$error":"#VALUE!"}},"-",{"$f":"(G238-E238)/(G205-E205)*(F205-E205)+E238","v":{"$error":"#VALUE!"}},"-",{"$f":"(I238-G238)/(I205-G205)*(H205-G205)+G238","v":{"$error":"#VALUE!"}},"-",{"$f":"(K238-I238)/(K205-I205)*(J205-I205)+I238","v":{"$error":"#VALUE!"}},"-",{"$f":"(M238-K238)/(M205-K205)*(L205-K205)+K238","v":{"$error":"#VALUE!"}},"-",{"$f":"(O238-M238)/(O205-M205)*(N205-M205)+M238","v":{"$error":"#VALUE!"}},"-",{"$f":"(Q238-O238)/(Q205-O205)*(P205-O205)+O238","v":{"$error":"#VALUE!"}},"-",{"$f":"(S238-Q238)/(S205-Q205)*(R205-Q205)+Q238","v":{"$error":"#VALUE!"}},"-",{"$f":"(U238-S238)/(U205-S205)*(T205-S205)+S238","v":{"$error":"#VALUE!"}},"-",{"$f":"(W238-U238)/(W205-U205)*(V205-U205)+U238","v":{"$error":"#VALUE!"}},"-",{"$f":"(Y238-W238)/(Y205-W205)*(X205-W205)+W238","v":{"$error":"#VALUE!"}},"-",{"$f":"(AA238-Y238)/(AA205-Y205)*(Z205-Y205)+Y238","v":{"$error":"#VALUE!"}},"-",{"$f":"(AC238-AA238)/(AC205-AA205)*(AB205-AA205)+AA238","v":{"$error":"#VALUE!"}},0,{"$f":"(AE238-AC238)/(AE205-AC205)*(AD205-AC205)+AC238","v":-4200.0000000000009},2100,{"$f":"(AG238-AE238)/(AG205-AE205)*(AF205-AE205)+AE238","v":2574.5},2750,{"$f":"(AI238-AG238)/(AI205-AG205)*(AH205-AG205)+AG238","v":149.99999999999909},3400,{"$f":"(AK238-AI238)/(AK205-AI205)*(AJ205-AI205)+AI238","v":2900},3500,{"$f":"(AM238-AK238)/(AM205-AK205)*(AL205-AK205)+AK238","v":800.00000000000136},4400,{"$f":"(AO238-AM238)/(AO205-AM205)*(AN205-AM205)+AM238","v":2399.9999999999995},5400,{"$f":"(AQ238-AO238)/(AQ205-AO205)*(AP205-AO205)+AO238","v":3900.0000000000009},5900,34]
[{"$f":"IF(AND(AV212>A238,AV212<A240)=TRUE,AV212,0)","v":0},null,{"$f":"(C240-C238)/(A240-A238)*(A239-A238)+C238","v":{"$error":"#VALUE!"}},{"$f":"(E239-C239)/(E205-C205)*(D205-C205)+C239","v":{"$error":"#VALUE!"}},{"$f":"(E240-E238)/(A240-A238)*(A239-A238)+E238","v":{"$error":"#VALUE!"}},{"$f":"(G239-E239)/(G205-E205)*(F205-E205)+E239","v":{"$error":"#VALUE!"}},{"$f":"(G240-G238)/(A240-A238)*(A239-A238)+G238","v":{"$error":"#VALUE!"}},{"$f":"(I239-G239)/(I205-G205)*(H205-G205)+G239","v":{"$error":"#VALUE!"}},{"$f":"(I240-I238)/(A240-A238)*(A239-A238)+I238","v":{"$error":"#VALUE!"}},{"$f":"(K239-I239)/(K205-I205)*(J205-I205)+I239","v":{"$error":"#VALUE!"}},{"$f":"(K240-K238)/(A240-A238)*(A239-A238)+K238","v":{"$error":"#VALUE!"}},{"$f":"(M239-K239)/(M205-K205)*(L205-K205)+K239","v":{"$error":"#VALUE!"}},{"$f":"(M240-M238)/(A240-A238)*(A239-A238)+M238","v":{"$error":"#VALUE!"}},{"$f":"(O239-M239)/(O205-M205)*(N205-M205)+M239","v":{"$error":"#VALUE!"}},{"$f":"(O240-O238)/(A240-A238)*(A239-A238)+O238","v":{"$error":"#VALUE!"}},{"$f":"(Q239-O239)/(Q205-O205)*(P205-O205)+O239","v":{"$error":"#VALUE!"}},{"$f":"(Q240-Q238)/(A240-A238)*(A239-A238)+Q238","v":{"$error":"#VALUE!"}},{"$f":"(S239-Q239)/(S205-Q205)*(R205-Q205)+Q239","v":{"$error":"#VALUE!"}},{"$f":"(S240-S238)/(A240-A238)*(A239-A238)+S238","v":{"$error":"#VALUE!"}},{"$f":"(U239-S239)/(U205-S205)*(T205-S205)+S239","v":{"$error":"#VALUE!"}},{"$f":"(U240-U238)/(A240-A238)*(A239-A238)+U238","v":{"$error":"#VALUE!"}},{"$f":"(W239-U239)/(W205-U205)*(V205-U205)+U239","v":{"$error":"#VALUE!"}},{"$f":"(W240-W238)/(A240-A238)*(A239-A238)+W238","v":{"$error":"#VALUE!"}},{"$f":"(Y239-W239)/(Y205-W205)*(X205-W205)+W239","v":{"$error":"#VALUE!"}},{"$f":"(Y240-Y238)/(A240-A238)*(A239-A238)+Y238","v":{"$error":"#VALUE!"}},{"$f":"(AA239-Y239)/(AA205-Y205)*(Z205-Y205)+Y239","v":{"$error":"#VALUE!"}},{"$f":"(AA240-AA238)/(A240-A238)*(A239-A238)+AA238","v":{"$error":"#VALUE!"}},{"$f":"(AC239-AA239)/(AC205-AA205)*(AB205-AA205)+AA239","v":{"$error":"#VALUE!"}},{"$f":"(AC240-AC238)/(A240-A238)*(A239-A238)+AC238","v":{"$error":"#VALUE!"}},{"$f":"(AE239-AC239)/(AE205-AC205)*(AD205-AC205)+AC239","v":{"$error":"#VALUE!"}},{"$f":"(AE240-AE238)/(A240-A238)*(A239-A238)+AE238","v":6300},{"$f":"(AG239-AE239)/(AG205-AE205)*(AF205-AE205)+AE239","v":4073.5000000000005},{"$f":"(AG240-AG238)/(A240-A238)*(A239-A238)+AG238","v":3250},{"$f":"(AI239-AG239)/(AI205-AG205)*(AH205-AG205)+AG239","v":1849.9999999999995},{"$f":"(AI240-AI238)/(A240-A238)*(A239-A238)+AI238","v":3600},{"$f":"(AK239-AI239)/(AK205-AI205)*(AJ205-AI205)+AI239","v":4100},{"$f":"(AK240-AK238)/(A240-A238)*(A239-A238)+AK238","v":3500},{"$f":"(AM239-AK239)/(AM205-AK205)*(AL205-AK205)+AK239","v":800.00000000000136},{"$f":"(AM240-AM238)/(A240-A238)*(A239-A238)+AM238","v":4400},{"$f":"(AO239-AM239)/(AO205-AM205)*(AN205-AM205)+AM239","v":2399.9999999999995},{"$f":"(AO240-AO238)/(A240-A238)*(A239-A238)+AO238","v":5400},{"$f":"(AQ239-AO239)/(AQ205-AO205)*(AP205-AO205)+AO239","v":3900.0000000000009},{"$f":"(AQ240-AQ238)/(A240-A238)*(A239-A238)+AQ238","v":5900},35]
[300,{"$f":"B238+1","v":17},"-",{"$f":"(E240-C240)/(E205-C205)*(D205-C205)+C240","v":{"$error":"#VALUE!"}},"-",{"$f":"(G240-E240)/(G205-E205)*(F205-E205)+E240","v":{"$error":"#VALUE!"}},"-",{"$f":"(I240-G240)/(I205-G205)*(H205-G205)+G240","v":{"$error":"#VALUE!"}},"-",{"$f":"(K240-I240)/(K205-I205)*(J205-I205)+I240","v":{"$error":"#VALUE!"}},"-",{"$f":"(M240-K240)/(M205-K205)*(L205-K205)+K240","v":{"$error":"#VALUE!"}},"-",{"$f":"(O240-M240)/(O205-M205)*(N205-M205)+M240","v":{"$error":"#VALUE!"}},"-",{"$f":"(Q240-O240)/(Q205-O205)*(P205-O205)+O240","v":{"$error":"#VALUE!"}},"-",{"$f":"(S240-Q240)/(S205-Q205)*(R205-Q205)+Q240","v":{"$error":"#VALUE!"}},"-",{"$f":"(U240-S240)/(U205-S205)*(T205-S205)+S240","v":{"$error":"#VALUE!"}},"-",{"$f":"(W240-U240)/(W205-U205)*(V205-U205)+U240","v":{"$error":"#VALUE!"}},"-",{"$f":"(Y240-W240)/(Y205-W205)*(X205-W205)+W240","v":{"$error":"#VALUE!"}},"-",{"$f":"(AA240-Y240)/(AA205-Y205)*(Z205-Y205)+Y240","v":{"$error":"#VALUE!"}},"-",{"$f":"(AC240-AA240)/(AC205-AA205)*(AB205-AA205)+AA240","v":{"$error":"#VALUE!"}},"-",{"$f":"(AE240-AC240)/(AE205-AC205)*(AD205-AC205)+AC240","v":{"$error":"#VALUE!"}},0,{"$f":"(AG240-AE240)/(AG205-AE205)*(AF205-AE205)+AE240","v":1824.9999999999998},2500,{"$f":"(AI240-AG240)/(AI205-AG205)*(AH205-AG205)+AG240","v":-700.00000000000091},3300,{"$f":"(AK240-AI240)/(AK205-AI205)*(AJ205-AI205)+AI240","v":2300},3500,{"$f":"(AM240-AK240)/(AM205-AK205)*(AL205-AK205)+AK240","v":800.00000000000136},4400,{"$f":"(AO240-AM240)/(AO205-AM205)*(AN205-AM205)+AM240","v":2399.9999999999995},5400,{"$f":"(AQ240-AO240)/(AQ205-AO205)*(AP205-AO205)+AO240","v":3900.0000000000009},5900,36]
[null,null,null,null,null,null,null,null,null,null,null,null,null,null,null,null,null,null,null,null,null,null,null,null,null,null,null,null,null,null,null,null,null,null,null,null,null,null,null,null,null,null," ",37]
["COL",null,3,{"$f":"C242+1","v":4},{"$f":"D242+1","v":5},6,7,8,9,10,11,12,13,14,15,16,17,18,{"$f":"R242+1","v":19},20,21,22,23,24,25,26,27,28,29,30,31,32,33,34,35,36,37,38,39,40,41,42,43,38]
[null,null,1,2,null,3,null,4,null,5,null,6,null,7,null,8,null,9,null,10,null,11,null,12,null,13,null,14,null,15,null,16,null,17,null,18,null,19,null,20,null,21]
[]
[]
[null,"Рвх",5.0000000000000001E-3,{"$f":"IF(AND(AS253>C246,AS253<E246)=TRUE,AS253,0)","v":0},0.01,{"$f":"IF(AND(AS253>E246,AS253<G246)=TRUE,AS253,0)","v":0},1.4999999999999999E-2,{"$f":"IF(AND(AS253>G246,AS253<I246)=TRUE,AS253,0)","v":0},0.02,{"$f":"IF(AND(AS253>I246,AS253<K246)=TRUE,AS253,0)","v":0},0.03,{"$f":"IF(AND(AS253>K246,AS253<M246)=TRUE,AS253,0)","v":0},0.04,{"$f":"IF(AND(AS253>M246,AS253<O246)=TRUE,AS253,0)","v":0},0.05,{"$f":"IF(AND(AS253>O246,AS253<Q246)=TRUE,AS253,0)","v":0},0.06,{"$f":"IF(AND(AS253>Q246,AS253<S246)=TRUE,AS253,0)","v":0},7.0000000000000007E-2,{"$f":"IF(AND(AS253>S246,AS253<U246)=TRUE,AS253,0)","v":0},0.08,{"$f":"IF(AND(AS253>U246,AS253<W246)=TRUE,AS253,0)","v":0},0.1,{"$f":"IF(AND(AS253>W246,AS253<Y246)=TRUE,AS253,0)","v":0},0.125,{"$f":"IF(AND(AS253>Y246,AS253<AA246)=TRUE,AS253,0)","v":0},0.15,{"$f":"IF(AND(AS253>AA246,AS253<AC246)=TRUE,AS253,0)","v":0},0.2,{"$f":"IF(AND(AS253>AC246,AS253<AE246)=TRUE,AS253,0)","v":0},0.3,{"$f":"IF(AND(AS253>AE246,AS253<AG246)=TRUE,AS253,0)","v":0.373},0.4,{"$f":"IF(AND(AS253>AG246,AS253<AI246)=TRUE,AS253,0)","v":0},0.5,{"$f":"IF(AND(AS253>AI246,AS253<AK246)=TRUE,AS253,0)","v":0},0.6,{"$f":"IF(AND(AS253>AK246,AS253<AM246)=TRUE,AS253,0)","v":0},0.8,{"$f":"IF(AND(AS253>AM246,AS253<AO246)=TRUE,AS253,0)","v":0},1.2,{"$f":"IF(AND(AS253>AO246,AS253<AQ246)=TRUE,AS253,0)","v":0},1.6,1]
["Рвых","МПа",null,null,null,null,null,null,null,null,null,null,null,null,null,null,null,null,null,null,null,null,null,null,null,null,null,null,null,null,null,null,null,null,null,null,null,null,null,null,null,null,null,{"$f":"AR246+1","v":2}]
["кПа",null,null,null,null,null,null,null,null,null,null,null,null,null,null,null,null,null,null,null,null,null,null,null,null,null,null,null,null,null,null,null,null,null,null,null,null,null,null,null,null,null,null,{"$f":"AR247+1","v":3}]
[2,1,470,{"$f":"(E249-C249)/(E246-C246)*(D246-C246)+C249","v":190},750,{"$f":"(G249-E249)/(G246-E246)*(F246-E246)+E249","v":349.99999999999994},950,{"$f":"(I249-G249)/(I246-G246)*(H246-G246)+G249","v":-219.99999999999977},1340,{"$f":"(K249-I249)/(K246-I246)*(J246-I246)+I249","v":759.99999999999989},1630,{"$f":"(M249-K249)/(M246-K246)*(L246-K246)+K249","v":940.00000000000011},1860,{"$f":"(O249-M249)/(O246-M246)*(N246-M246)+M249","v":1100},2050,{"$f":"(Q249-O249)/(Q246-O246)*(P246-O246)+O249","v":1199.9999999999995},2220,{"$f":"(S249-Q249)/(S246-Q246)*(R246-Q246)+Q249","v":1260.0000000000009},2380,{"$f":"(U249-S249)/(U246-S246)*(T246-S246)+S249","v":1329.9999999999993},2530,{"$f":"(W249-U249)/(W246-U246)*(V246-U246)+U249","v":1490.0000000000002},2790,{"$f":"(Y249-W249)/(Y246-W246)*(X246-W246)+W249","v":1549.9999999999995},3100,{"$f":"(AA249-Y249)/(AA246-Y246)*(Z246-Y246)+Y249","v":1099.9999999999995},3500,{"$f":"(AC249-AA249)/(AC246-AA246)*(AB246-AA246)+AA249","v":1400.0000000000009},4200,{"$f":"(AE249-AC249)/(AE246-AC246)*(AD246-AC246)+AC249","v":1399.9999999999991},5600,{"$f":"(AG249-AE249)/(AG246-AE246)*(AF246-AE246)+AE249","v":6257},6500,{"$f":"(AI249-AG249)/(AI246-AG246)*(AH246-AG246)+AG249","v":5300},6800,{"$f":"(AK249-AI249)/(AK246-AI246)*(AJ246-AI246)+AI249","v":6800},6800,{"$f":"(AM249-AK249)/(AM246-AK246)*(AL246-AK246)+AK249","v":{"$error":"#VALUE!"}},"-",{"$f":"(AO249-AM249)/(AO246-AM246)*(AN246-AM246)+AM249","v":{"$error":"#VALUE!"}},"-",{"$f":"(AQ249-AO249)/(AQ246-AO246)*(AP246-AO246)+AO249","v":{"$error":"#VALUE!"}},"-",4,"Рвх","Q","Qcрасч","Рвых","Рвых"]
[{"$f":"IF(AND(AV253>A249,AV253<A251)=TRUE,AV253,0)","v":0},null,{"$f":"(C251-C249)/(A251-A249)*(A250-A249)+C249","v":630},{"$f":"(E250-C250)/(E246-C246)*(D246-C246)+C250","v":450},{"$f":"(E251-E249)/(A251-A249)*(A250-A249)+E249","v":810},{"$f":"(G250-E250)/(G246-E246)*(F246-E246)+E250","v":329.99999999999994},{"$f":"(G251-G249)/(A251-A249)*(A250-A249)+G249","v":1050},{"$f":"(I250-G250)/(I246-G246)*(H246-G246)+G250","v":60.000000000000227},{"$f":"(I251-I249)/(A251-A249)*(A250-A249)+I249","v":1380},{"$f":"(K250-I250)/(K246-I246)*(J246-I246)+I250","v":759.99999999999989},{"$f":"(K251-K249)/(A251-A249)*(A250-A249)+K249","v":1690},{"$f":"(M250-K250)/(M246-K246)*(L246-K246)+K250","v":1120},{"$f":"(M251-M249)/(A251-A249)*(A250-A249)+M249","v":1880},{"$f":"(O250-M250)/(O246-M246)*(N246-M246)+M250","v":1120},{"$f":"(O251-O249)/(A251-A249)*(A250-A249)+O249","v":2070},{"$f":"(Q250-O250)/(Q246-O246)*(P246-O246)+O250","v":1319.9999999999995},{"$f":"(Q251-Q249)/(A251-A249)*(A250-A249)+Q249","v":2220},{"$f":"(S250-Q250)/(S246-Q246)*(R246-Q246)+Q250","v":1260.0000000000009},{"$f":"(S251-S249)/(A251-A249)*(A250-A249)+S249","v":2380},{"$f":"(U250-S250)/(U246-S246)*(T246-S246)+S250","v":1329.9999999999993},{"$f":"(U251-U249)/(A251-A249)*(A250-A249)+U249","v":2530},{"$f":"(W250-U250)/(W246-U246)*(V246-U246)+U250","v":1490.0000000000002},{"$f":"(W251-W249)/(A251-A249)*(A250-A249)+W249","v":2790},{"$f":"(Y250-W250)/(Y246-W246)*(X246-W246)+W250","v":1549.9999999999995},{"$f":"(Y251-Y249)/(A251-A249)*(A250-A249)+Y249","v":3100},{"$f":"(AA250-Y250)/(AA246-Y246)*(Z246-Y246)+Y250","v":1099.9999999999995},{"$f":"(AA251-AA249)/(A251-A249)*(A250-A249)+AA249","v":3500},{"$f":"(AC250-AA250)/(AC246-AA246)*(AB246-AA246)+AA250","v":1400.0000000000009},{"$f":"(AC251-AC249)/(A251-A249)*(A250-A249)+AC249","v":4200},{"$f":"(AE250-AC250)/(AE246-AC246)*(AD246-AC246)+AC250","v":1399.9999999999991},{"$f":"(AE251-AE249)/(A251-A249)*(A250-A249)+AE249","v":5600},{"$f":"(AG250-AE250)/(AG246-AE246)*(AF246-AE246)+AE250","v":6257},{"$f":"(AG251-AG249)/(A251-A249)*(A250-A249)+AG249","v":6500},{"$f":"(AI250-AG250)/(AI246-AG246)*(AH246-AG246)+AG250","v":5300},{"$f":"(AI251-AI249)/(A251-A249)*(A250-A249)+AI249","v":6800},{"$f":"(AK250-AI250)/(AK246-AI246)*(AJ246-AI246)+AI250","v":6800},{"$f":"(AK251-AK249)/(A251-A249)*(A250-A249)+AK249","v":6800},{"$f":"(AM250-AK250)/(AM246-AK246)*(AL246-AK246)+AK250","v":{"$error":"#VALUE!"}},{"$f":"(AM251-AM249)/(A251-A249)*(A250-A249)+AM249","v":{"$error":"#VALUE!"}},{"$f":"(AO250-AM250)/(AO246-AM246)*(AN246-AM246)+AM250","v":{"$error":"#VALUE!"}},{"$f":"(AO251-AO249)/(A251-A249)*(A250-A249)+AO249","v":{"$error":"#VALUE!"}},{"$f":"(AQ250-AO250)/(AQ246-AO246)*(AP246-AO246)+AO250","v":{"$error":"#VALUE!"}},{"$f":"(AQ251-AQ249)/(A251-A249)*(A250-A249)+AQ249","v":{"$error":"#VALUE!"}},5]
[3,{"$f":"B249+1","v":2},390,{"$f":"(E251-C251)/(E246-C246)*(D246-C246)+C251","v":60},720,{"$f":"(G251-E251)/(G246-E246)*(F246-E246)+E251","v":359.99999999999994},900,{"$f":"(I251-G251)/(I246-G246)*(H246-G246)+G251","v":-359.99999999999977},1320,{"$f":"(K251-I251)/(K246-I246)*(J246-I246)+I251","v":759.99999999999989},1600,{"$f":"(M251-K251)/(M246-K246)*(L246-K246)+K251","v":850.00000000000011},1850,{"$f":"(O251-M251)/(O246-M246)*(N246-M246)+M251","v":1090},2040,{"$f":"(Q251-O251)/(Q246-O246)*(P246-O246)+O251","v":1139.9999999999995},2220,{"$f":"(S251-Q251)/(S246-Q246)*(R246-Q246)+Q251","v":1260.0000000000009},2380,{"$f":"(U251-S251)/(U246-S246)*(T246-S246)+S251","v":1329.9999999999993},2530,{"$f":"(W251-U251)/(W246-U246)*(V246-U246)+U251","v":1490.0000000000002},2790,{"$f":"(Y251-W251)/(Y246-W246)*(X246-W246)+W251","v":1549.9999999999995},3100,{"$f":"(AA251-Y251)/(AA246-Y246)*(Z246-Y246)+Y251","v":1099.9999999999995},3500,{"$f":"(AC251-AA251)/(AC246-AA246)*(AB246-AA246)+AA251","v":1400.0000000000009},4200,{"$f":"(AE251-AC251)/(AE246-AC246)*(AD246-AC246)+AC251","v":1399.9999999999991},5600,{"$f":"(AG251-AE251)/(AG246-AE246)*(AF246-AE246)+AE251","v":6257},6500,{"$f":"(AI251-AG251)/(AI246-AG246)*(AH246-AG246)+AG251","v":5300},6800,{"$f":"(AK251-AI251)/(AK246-AI246)*(AJ246-AI246)+AI251","v":6800},6800,{"$f":"(AM251-AK251)/(AM246-AK246)*(AL246-AK246)+AK251","v":{"$error":"#VALUE!"}},"-",{"$f":"(AO251-AM251)/(AO246-AM246)*(AN246-AM246)+AM251","v":{"$error":"#VALUE!"}},"-",{"$f":"(AQ251-AO251)/(AQ246-AO246)*(AP246-AO246)+AO251","v":{"$error":"#VALUE!"}},"-",6,"МПа","нм3/час","нм3/час","кПа","кПа"]
[{"$f":"IF(AND(AV253>A251,AV253<A253)=TRUE,AV253,0)","v":0},null,{"$f":"(C253-C251)/(A253-A251)*(A252-A251)+C251","v":975},{"$f":"(E252-C252)/(E246-C246)*(D246-C246)+C252","v":1080},{"$f":"(E253-E251)/(A253-A251)*(A252-A251)+E251","v":870},{"$f":"(G252-E252)/(G246-E246)*(F246-E246)+E252","v":660},{"$f":"(G253-G251)/(A253-A251)*(A252-A251)+G251","v":975},{"$f":"(I252-G252)/(I246-G246)*(H246-G246)+G252","v":-374.99999999999977},{"$f":"(I253-I251)/(A253-A251)*(A252-A251)+I251","v":1425},{"$f":"(K252-I252)/(K246-I246)*(J246-I246)+I252","v":1075},{"$f":"(K253-K251)/(A253-A251)*(A252-A251)+K251","v":1600},{"$f":"(M252-K252)/(M246-K246)*(L246-K246)+K252","v":850.00000000000011},{"$f":"(M253-M251)/(A253-A251)*(A252-A251)+M251","v":1850},{"$f":"(O252-M252)/(O246-M246)*(N246-M246)+M252","v":1090},{"$f":"(O253-O251)/(A253-A251)*(A252-A251)+O251","v":2040},{"$f":"(Q252-O252)/(Q246-O246)*(P246-O246)+O252","v":914.99999999999932},{"$f":"(Q253-Q251)/(A253-A251)*(A252-A251)+Q251","v":2265},{"$f":"(S252-Q252)/(S246-Q246)*(R246-Q246)+Q252","v":1575.0000000000007},{"$f":"(S253-S251)/(E253-E251)*(E252-E251)+S251","v":2380},{"$f":"(U252-S252)/(U246-S246)*(T246-S246)+S252","v":1224.9999999999993},{"$f":"(U253-U251)/(G253-G251)*(G252-G251)+U251","v":2545},{"$f":"(W252-U252)/(W246-U246)*(V246-U246)+U252","v":1565},{"$f":"(W253-W251)/(I253-I251)*(I252-I251)+W251","v":2790},{"$f":"(Y252-W252)/(Y246-W246)*(X246-W246)+W252","v":1549.9999999999995},{"$f":"(Y253-Y251)/(A253-A251)*(A252-A251)+Y251","v":3100},{"$f":"(AA252-Y252)/(AA246-Y246)*(Z246-Y246)+Y252","v":1099.9999999999995},{"$f":"(AA253-AA251)/(E253-E251)*(E252-E251)+AA251","v":3500},{"$f":"(AC252-AA252)/(AC246-AA246)*(AB246-AA246)+AA252","v":1400.0000000000009},{"$f":"(AC253-AC251)/(A253-A251)*(A252-A251)+AC251","v":4200},{"$f":"(AE252-AC252)/(AE246-AC246)*(AD246-AC246)+AC252","v":1399.9999999999991},{"$f":"(AE253-AE251)/(A253-A251)*(A252-A251)+AE251","v":5600},{"$f":"(AG252-AE252)/(AG246-AE246)*(AF246-AE246)+AE252","v":6257},{"$f":"(AG253-AG251)/(A253-A251)*(A252-A251)+AG251","v":6500},{"$f":"(AI252-AG252)/(AI246-AG246)*(AH246-AG246)+AG252","v":5300},{"$f":"(AI253-AI251)/(A253-A251)*(A252-A251)+AI251","v":6800},{"$f":"(AK252-AI252)/(AK246-AI246)*(AJ246-AI246)+AI252","v":6800},{"$f":"(AK253-AK251)/(A253-A251)*(A252-A251)+AK251","v":6800},{"$f":"(AM252-AK252)/(AM246-AK246)*(AL246-AK246)+AK252","v":{"$error":"#VALUE!"}},{"$f":"(AM253-AM251)/(A253-A251)*(A252-A251)+AM251","v":{"$error":"#VALUE!"}},{"$f":"(AO252-AM252)/(AO246-AM246)*(AN246-AM246)+AM252","v":{"$error":"#VALUE!"}},{"$f":"(AO253-AO251)/(A253-A251)*(A252-A251)+AO251","v":{"$error":"#VALUE!"}},{"$f":"(AQ252-AO252)/(AQ246-AO246)*(AP246-AO246)+AO252","v":{"$error":"#VALUE!"}},{"$f":"(AQ253-AQ251)/(A253-A251)*(A252-A251)+AQ251","v":{"$error":"#VALUE!"}},7]
[5,{"$f":"B251+1","v":3},0,{"$f":"(E253-C253)/(E246-C246)*(D246-C246)+C253","v":-620},620,{"$f":"(G253-E253)/(G246-E246)*(F246-E246)+E253","v":159.99999999999994},850,{"$f":"(I253-G253)/(I246-G246)*(H246-G246)+G253","v":-349.99999999999977},1250,{"$f":"(K253-I253)/(K246-I246)*(J246-I246)+I253","v":549.99999999999989},1600,{"$f":"(M253-K253)/(M246-K246)*(L246-K246)+K253","v":850.00000000000011},1850,{"$f":"(O253-M253)/(O246-M246)*(N246-M246)+M253","v":1090},2040,{"$f":"(Q253-O253)/(Q246-O246)*(P246-O246)+O253","v":1289.9999999999995},2190,{"$f":"(S253-Q253)/(S246-Q246)*(R246-Q246)+Q253","v":1050.0000000000011},2380,{"$f":"(U253-S253)/(U246-S246)*(T246-S246)+S253","v":1399.9999999999995},2520,{"$f":"(W253-U253)/(W246-U246)*(V246-U246)+U253","v":1440.0000000000002},2790,{"$f":"(Y253-W253)/(Y246-W246)*(X246-W246)+W253","v":1549.9999999999995},3100,{"$f":"(AA253-Y253)/(AA246-Y246)*(Z246-Y246)+Y253","v":1099.9999999999995},3500,{"$f":"(AC253-AA253)/(AC246-AA246)*(AB246-AA246)+AA253","v":1400.0000000000009},4200,{"$f":"(AE253-AC253)/(AE246-AC246)*(AD246-AC246)+AC253","v":1399.9999999999991},5600,{"$f":"(AG253-AE253)/(AG246-AE246)*(AF246-AE246)+AE253","v":6257},6500,{"$f":"(AI253-AG253)/(AI246-AG246)*(AH246-AG246)+AG253","v":5300},6800,{"$f":"(AK253-AI253)/(AK246-AI246)*(AJ246-AI246)+AI253","v":6800},6800,{"$f":"(AM253-AK253)/(AM246-AK246)*(AL246-AK246)+AK253","v":{"$error":"#VALUE!"}},"-",{"$f":"(AO253-AM253)/(AO246-AM246)*(AN246-AM246)+AM253","v":{"$error":"#VALUE!"}},"-",{"$f":"(AQ253-AO253)/(AQ246-AO246)*(AP246-AO246)+AO253","v":{"$error":"#VALUE!"}},"-",8,{"$f":"AK21","v":0.373},{"$f":"AL21","v":229.2},{"$f":"VLOOKUP(AV253,A246:AQ283,HLOOKUP(AS253,A246:AQ283,38,0),0)","v":3795.9999999999995},{"$f":"AN21","v":300},{"$f":"IF(AS253<A249,\"NO\",IF(AS253>A281,\"N0\",IF(VLOOKUP(AS253,A249:AQ281,3,0)>AT253,\"NO\",IF(VLOOKUP(AS253,A249:AQ281,17,0)<AT253,\"NO\",IF(AND(AU253>=AT253-0.1,AU253<AT253+0.1)=TRUE,AV253,\"NO\")))))","v":"NO"}]
[{"$f":"IF(AND(AV253>A253,AV253<A255)=TRUE,AV253,0)","v":0},null,{"$f":"(C255-C253)/(A255-A253)*(A254-A253)+C253","v":{"$error":"#VALUE!"}},{"$f":"(E254-C254)/(E246-C246)*(D246-C246)+C254","v":{"$error":"#VALUE!"}},{"$f":"(E255-E253)/(A255-A253)*(A254-A253)+E253","v":986.66666666666663},{"$f":"(G254-E254)/(G246-E246)*(F246-E246)+E254","v":893.33333333333337},{"$f":"(G255-G253)/(A255-A253)*(A254-A253)+G253","v":1033.3333333333333},{"$f":"(I254-G254)/(I246-G246)*(H246-G246)+G254","v":-116.66666666666697},{"$f":"(I255-I253)/(A255-A253)*(A254-A253)+I253","v":1416.6666666666667},{"$f":"(K254-I254)/(K246-I246)*(J246-I246)+I254","v":716.66666666666663},{"$f":"(K255-K253)/(A255-A253)*(A254-A253)+K253","v":1766.6666666666667},{"$f":"(M254-K254)/(M246-K246)*(L246-K246)+K254","v":1166.666666666667},{"$f":"(M255-M253)/(A255-A253)*(A254-A253)+M253","v":1966.6666666666667},{"$f":"(O254-M254)/(O246-M246)*(N246-M246)+M254","v":1406.6666666666679},{"$f":"(O255-O253)/(A255-A253)*(A254-A253)+O253","v":2106.6666666666665},{"$f":"(Q254-O254)/(Q246-O246)*(P246-O246)+O254","v":1689.9999999999989},{"$f":"(Q255-Q253)/(A255-A253)*(A254-A253)+Q253","v":2190},{"$f":"(S254-Q254)/(S246-Q246)*(R246-Q246)+Q254","v":950.00000000000205},{"$f":"(S255-S253)/(A255-A253)*(A254-A253)+S253","v":2396.6666666666665},{"$f":"(U254-S254)/(U246-S246)*(T246-S246)+S254","v":1533.3333333333317},{"$f":"(U255-U253)/(G255-G253)*(G254-G253)+U253","v":2520},{"$f":"(W254-U254)/(W246-U246)*(V246-U246)+U254","v":1440.0000000000002},{"$f":"(W255-W253)/(I255-I253)*(I254-I253)+W253","v":2790},{"$f":"(Y254-W254)/(Y246-W246)*(X246-W246)+W254","v":1549.9999999999995},{"$f":"(Y255-Y253)/(A255-A253)*(A254-A253)+Y253","v":3100},{"$f":"(AA254-Y254)/(AA246-Y246)*(Z246-Y246)+Y254","v":1099.9999999999995},{"$f":"(AA255-AA253)/(A255-A253)*(A254-A253)+AA253","v":3500},{"$f":"(AC254-AA254)/(AC246-AA246)*(AB246-AA246)+AA254","v":1400.0000000000009},{"$f":"(AC255-AC253)/(A255-A253)*(A254-A253)+AC253","v":4200},{"$f":"(AE254-AC254)/(AE246-AC246)*(AD246-AC246)+AC254","v":1399.9999999999991},{"$f":"(AE255-AE253)/(A255-A253)*(A254-A253)+AE253","v":5600},{"$f":"(AG254-AE254)/(AG246-AE246)*(AF246-AE246)+AE254","v":6257},{"$f":"(AG255-AG253)/(A255-A253)*(A254-A253)+AG253","v":6500},{"$f":"(AI254-AG254)/(AI246-AG246)*(AH246-AG246)+AG254","v":5300},{"$f":"(AI255-AI253)/(A255-A253)*(A254-A253)+AI253","v":6800},{"$f":"(AK254-AI254)/(AK246-AI246)*(AJ246-AI246)+AI254","v":6800},{"$f":"(AK255-AK253)/(A255-A253)*(A254-A253)+AK253","v":6800},{"$f":"(AM254-AK254)/(AM246-AK246)*(AL246-AK246)+AK254","v":{"$error":"#VALUE!"}},{"$f":"(AM255-AM253)/(A255-A253)*(A254-A253)+AM253","v":{"$error":"#VALUE!"}},{"$f":"(AO254-AM254)/(AO246-AM246)*(AN246-AM246)+AM254","v":{"$error":"#VALUE!"}},{"$f":"(AO255-AO253)/(A255-A253)*(A254-A253)+AO253","v":{"$error":"#VALUE!"}},{"$f":"(AQ254-AO254)/(AQ246-AO246)*(AP246-AO246)+AO254","v":{"$error":"#VALUE!"}},{"$f":"(AQ255-AQ253)/(A255-A253)*(A254-A253)+AQ253","v":{"$error":"#VALUE!"}},9]
[8,{"$f":"B253+1","v":4},"-",{"$f":"(E255-C255)/(E246-C246)*(D246-C246)+C255","v":{"$error":"#VALUE!"}},400,{"$f":"(G255-E255)/(G246-E246)*(F246-E246)+E255","v":-280.00000000000011},740,{"$f":"(I255-G255)/(I246-G246)*(H246-G246)+G255","v":-489.99999999999977},1150,{"$f":"(K255-I255)/(K246-I246)*(J246-I246)+I255","v":449.99999999999989},1500,{"$f":"(M255-K255)/(M246-K246)*(L246-K246)+K255","v":660.00000000000011},1780,{"$f":"(O255-M255)/(O246-M246)*(N246-M246)+M255","v":900.00000000000011},2000,{"$f":"(Q255-O255)/(Q246-O246)*(P246-O246)+O255","v":1049.9999999999995},2190,{"$f":"(S255-Q255)/(S246-Q246)*(R246-Q246)+Q255","v":1110.0000000000009},2370,{"$f":"(U255-S255)/(U246-S246)*(T246-S246)+S255","v":1319.9999999999993},2520,{"$f":"(W255-U255)/(W246-U246)*(V246-U246)+U255","v":1440.0000000000002},2790,{"$f":"(Y255-W255)/(Y246-W246)*(X246-W246)+W255","v":1549.9999999999995},3100,{"$f":"(AA255-Y255)/(AA246-Y246)*(Z246-Y246)+Y255","v":1099.9999999999995},3500,{"$f":"(AC255-AA255)/(AC246-AA246)*(AB246-AA246)+AA255","v":1400.0000000000009},4200,{"$f":"(AE255-AC255)/(AE246-AC246)*(AD246-AC246)+AC255","v":1399.9999999999991},5600,{"$f":"(AG255-AE255)/(AG246-AE246)*(AF246-AE246)+AE255","v":6257},6500,{"$f":"(AI255-AG255)/(AI246-AG246)*(AH246-AG246)+AG255","v":5300},6800,{"$f":"(AK255-AI255)/(AK246-AI246)*(AJ246-AI246)+AI255","v":6800},6800,{"$f":"(AM255-AK255)/(AM246-AK246)*(AL246-AK246)+AK255","v":{"$error":"#VALUE!"}},"-",{"$f":"(AO255-AM255)/(AO246-AM246)*(AN246-AM246)+AM255","v":{"$error":"#VALUE!"}},"-",{"$f":"(AQ255-AO255)/(AQ246-AO246)*(AP246-AO246)+AO255","v":{"$error":"#VALUE!"}},"-",10,0.1,{"$f":"AL23","v":263.58}]
[{"$f":"IF(AND(AV253>A255,AV253<A257)=TRUE,AV253,0)","v":0},null,{"$f":"(C257-C255)/(A257-A255)*(A256-A255)+C255","v":{"$error":"#VALUE!"}},{"$f":"(E256-C256)/(E246-C246)*(D246-C246)+C256","v":{"$error":"#VALUE!"}},{"$f":"(E257-E255)/(A257-A255)*(A256-A255)+E255","v":2000},{"$f":"(G256-E256)/(G246-E246)*(F246-E246)+E256","v":3640},{"$f":"(G257-G255)/(A257-A255)*(A256-A255)+G255","v":1180},{"$f":"(I256-G256)/(I246-G246)*(H246-G246)+G256","v":-529.99999999999955},{"$f":"(I257-I255)/(A257-A255)*(A256-A255)+I255","v":1750},{"$f":"(K256-I256)/(K246-I246)*(J246-I246)+I256","v":1850},{"$f":"(K257-K255)/(A257-A255)*(A256-A255)+K255","v":1700},{"$f":"(M256-K256)/(M246-K246)*(L246-K246)+K256","v":1100},{"$f":"(M257-M255)/(A257-A255)*(A256-A255)+M255","v":1900},{"$f":"(O256-M256)/(O246-M246)*(N246-M246)+M256","v":1180},{"$f":"(O257-O255)/(A257-A255)*(A256-A255)+O255","v":2080},{"$f":"(Q256-O256)/(Q246-O246)*(P246-O246)+O256","v":1329.9999999999995},{"$f":"(Q257-Q255)/(A257-A255)*(A256-A255)+Q255","v":2230},{"$f":"(S256-Q256)/(S246-Q246)*(R246-Q246)+Q256","v":1390.0000000000009},{"$f":"(S257-S255)/(A257-A255)*(A256-A255)+S255","v":2370},{"$f":"(U256-S256)/(U246-S246)*(T246-S246)+S256","v":1319.9999999999993},{"$f":"(U257-U255)/(G257-G255)*(G256-G255)+U255","v":2520},{"$f":"(W256-U256)/(W246-U246)*(V246-U246)+U256","v":1440.0000000000002},{"$f":"(W257-W255)/(I257-I255)*(I256-I255)+W255","v":2790},{"$f":"(Y256-W256)/(Y246-W246)*(X246-W246)+W256","v":1549.9999999999995},{"$f":"(Y257-Y255)/(A257-A255)*(A256-A255)+Y255","v":3100},{"$f":"(AA256-Y256)/(AA246-Y246)*(Z246-Y246)+Y256","v":1099.9999999999995},{"$f":"(AA257-AA255)/(A257-A255)*(A256-A255)+AA255","v":3500},{"$f":"(AC256-AA256)/(AC246-AA246)*(AB246-AA246)+AA256","v":1400.0000000000009},{"$f":"(AC257-AC255)/(A257-A255)*(A256-A255)+AC255","v":4200},{"$f":"(AE256-AC256)/(AE246-AC246)*(AD246-AC246)+AC256","v":1399.9999999999991},{"$f":"(AE257-AE255)/(A257-A255)*(A256-A255)+AE255","v":5600},{"$f":"(AG256-AE256)/(AG246-AE246)*(AF246-AE246)+AE256","v":6257},{"$f":"(AG257-AG255)/(A257-A255)*(A256-A255)+AG255","v":6500},{"$f":"(AI256-AG256)/(AI246-AG246)*(AH246-AG246)+AG256","v":5300},{"$f":"(AI257-AI255)/(A257-A255)*(A256-A255)+AI255","v":6800},{"$f":"(AK256-AI256)/(AK246-AI246)*(AJ246-AI246)+AI256","v":6800},{"$f":"(AK257-AK255)/(A257-A255)*(A256-A255)+AK255","v":6800},{"$f":"(AM256-AK256)/(AM246-AK246)*(AL246-AK246)+AK256","v":{"$error":"#VALUE!"}},{"$f":"(AM257-AM255)/(A257-A255)*(A256-A255)+AM255","v":{"$error":"#VALUE!"}},{"$f":"(AO256-AM256)/(AO246-AM246)*(AN246-AM246)+AM256","v":{"$error":"#VALUE!"}},{"$f":"(AO257-AO255)/(A257-A255)*(A256-A255)+AO255","v":{"$error":"#VALUE!"}},{"$f":"(AQ256-AO256)/(AQ246-AO246)*(AP246-AO246)+AO256","v":{"$error":"#VALUE!"}},{"$f":"(AQ257-AQ255)/(A257-A255)*(A256-A255)+AQ255","v":{"$error":"#VALUE!"}},11]
[10,{"$f":"B255+1","v":5},"-",{"$f":"(E257-C257)/(E246-C246)*(D246-C246)+C257","v":{"$error":"#VALUE!"}},0,{"$f":"(G257-E257)/(G246-E246)*(F246-E246)+E257","v":-1260.0000000000002},630,{"$f":"(I257-G257)/(I246-G246)*(H246-G246)+G257","v":-479.99999999999977},1000,{"$f":"(K257-I257)/(K246-I246)*(J246-I246)+I257","v":99.999999999999886},1450,{"$f":"(M257-K257)/(M246-K246)*(L246-K246)+K257","v":550.00000000000023},1750,{"$f":"(O257-M257)/(O246-M246)*(N246-M246)+M257","v":830.00000000000011},1980,{"$f":"(Q257-O257)/(Q246-O246)*(P246-O246)+O257","v":979.99999999999943},2180,{"$f":"(S257-Q257)/(S246-Q246)*(R246-Q246)+Q257","v":1040.0000000000011},2370,{"$f":"(U257-S257)/(U246-S246)*(T246-S246)+S257","v":1319.9999999999993},2520,{"$f":"(W257-U257)/(W246-U246)*(V246-U246)+U257","v":1440.0000000000002},2790,{"$f":"(Y257-W257)/(Y246-W246)*(X246-W246)+W257","v":1549.9999999999995},3100,{"$f":"(AA257-Y257)/(AA246-Y246)*(Z246-Y246)+Y257","v":1099.9999999999995},3500,{"$f":"(AC257-AA257)/(AC246-AA246)*(AB246-AA246)+AA257","v":1400.0000000000009},4200,{"$f":"(AE257-AC257)/(AE246-AC246)*(AD246-AC246)+AC257","v":1399.9999999999991},5600,{"$f":"(AG257-AE257)/(AG246-AE246)*(AF246-AE246)+AE257","v":6257},6500,{"$f":"(AI257-AG257)/(AI246-AG246)*(AH246-AG246)+AG257","v":5300},6800,{"$f":"(AK257-AI257)/(AK246-AI246)*(AJ246-AI246)+AI257","v":6800},6800,{"$f":"(AM257-AK257)/(AM246-AK246)*(AL246-AK246)+AK257","v":{"$error":"#VALUE!"}},"-",{"$f":"(AO257-AM257)/(AO246-AM246)*(AN246-AM246)+AM257","v":{"$error":"#VALUE!"}},"-",{"$f":"(AQ257-AO257)/(AQ246-AO246)*(AP246-AO246)+AO257","v":{"$error":"#VALUE!"}},"-",12,"Регулятор давления",null,null,{"$f":"Лист1!F77","v":"РЕД-6-80х150-Н DN80 Qmax=6800 нм3/час"}]
[{"$f":"IF(AND(AV253>A257,AV253<A259)=TRUE,AV253,0)","v":0},null,{"$f":"(C259-C257)/(A259-A257)*(A258-A257)+C257","v":{"$error":"#VALUE!"}},{"$f":"(E258-C258)/(E246-C246)*(D246-C246)+C258","v":{"$error":"#VALUE!"}},{"$f":"(E259-E257)/(A259-A257)*(A258-A257)+E257","v":{"$error":"#VALUE!"}},{"$f":"(G258-E258)/(G246-E246)*(F246-E246)+E258","v":{"$error":"#VALUE!"}},{"$f":"(G259-G257)/(A259-A257)*(A258-A257)+G257","v":1890},{"$f":"(I258-G258)/(I246-G246)*(H246-G246)+G258","v":3060},{"$f":"(I259-I257)/(A259-A257)*(A258-A257)+I257","v":1500},{"$f":"(K258-I258)/(K246-I246)*(J246-I246)+I258","v":1080},{"$f":"(K259-K257)/(A259-A257)*(A258-A257)+K257","v":1710},{"$f":"(M258-K258)/(M246-K246)*(L246-K246)+K258","v":990.00000000000011},{"$f":"(M259-M257)/(A259-A257)*(A258-A257)+M257","v":1950},{"$f":"(O258-M258)/(O246-M246)*(N246-M246)+M258","v":1350},{"$f":"(O259-O257)/(A259-A257)*(A258-A257)+O257","v":2100},{"$f":"(Q258-O258)/(Q246-O246)*(P246-O246)+O258","v":1299.9999999999995},{"$f":"(Q259-Q257)/(A259-A257)*(A258-A257)+Q257","v":2260},{"$f":"(S258-Q258)/(S246-Q246)*(R246-Q246)+Q258","v":1240.0000000000009},{"$f":"(S259-S257)/(A259-A257)*(A258-A257)+S257","v":2430},{"$f":"(U258-S258)/(U246-S246)*(T246-S246)+S258","v":1799.9999999999995},{"$f":"(U259-U257)/(A259-A257)*(A258-A257)+U257","v":2520},{"$f":"(W258-U258)/(W246-U246)*(V246-U246)+U258","v":1440.0000000000002},{"$f":"(W259-W257)/(A259-A257)*(A258-A257)+W257","v":2790},{"$f":"(Y258-W258)/(Y246-W246)*(X246-W246)+W258","v":1549.9999999999995},{"$f":"(Y259-Y257)/(A259-A257)*(A258-A257)+Y257","v":3100},{"$f":"(AA258-Y258)/(AA246-Y246)*(Z246-Y246)+Y258","v":1099.9999999999995},{"$f":"(AA259-AA257)/(A259-A257)*(A258-A257)+AA257","v":3500},{"$f":"(AC258-AA258)/(AC246-AA246)*(AB246-AA246)+AA258","v":1400.0000000000009},{"$f":"(AC259-AC257)/(A259-A257)*(A258-A257)+AC257","v":4200},{"$f":"(AE258-AC258)/(AE246-AC246)*(AD246-AC246)+AC258","v":1399.9999999999991},{"$f":"(AE259-AE257)/(A259-A257)*(A258-A257)+AE257","v":5600},{"$f":"(AG258-AE258)/(AG246-AE246)*(AF246-AE246)+AE258","v":6257},{"$f":"(AG259-AG257)/(A259-A257)*(A258-A257)+AG257","v":6500},{"$f":"(AI258-AG258)/(AI246-AG246)*(AH246-AG246)+AG258","v":5300},{"$f":"(AI259-AI257)/(A259-A257)*(A258-A257)+AI257","v":6800},{"$f":"(AK258-AI258)/(AK246-AI246)*(AJ246-AI246)+AI258","v":6800},{"$f":"(AK259-AK257)/(A259-A257)*(A258-A257)+AK257","v":6800},{"$f":"(AM258-AK258)/(AM246-AK246)*(AL246-AK246)+AK258","v":{"$error":"#VALUE!"}},{"$f":"(AM259-AM257)/(A259-A257)*(A258-A257)+AM257","v":{"$error":"#VALUE!"}},{"$f":"(AO258-AM258)/(AO246-AM246)*(AN246-AM246)+AM258","v":{"$error":"#VALUE!"}},{"$f":"(AO259-AO257)/(A259-A257)*(A258-A257)+AO257","v":{"$error":"#VALUE!"}},{"$f":"(AQ258-AO258)/(AQ246-AO246)*(AP246-AO246)+AO258","v":{"$error":"#VALUE!"}},{"$f":"(AQ259-AQ257)/(A259-A257)*(A258-A257)+AQ257","v":{"$error":"#VALUE!"}},13]
[15,{"$f":"B257+1","v":6},"-",{"$f":"(E259-C259)/(E246-C246)*(D246-C246)+C259","v":{"$error":"#VALUE!"}},"-",{"$f":"(G259-E259)/(G246-E246)*(F246-E246)+E259","v":{"$error":"#VALUE!"}},0,{"$f":"(I259-G259)/(I246-G246)*(H246-G246)+G259","v":-2249.9999999999995},750,{"$f":"(K259-I259)/(K246-I246)*(J246-I246)+I259","v":-390.00000000000023},1320,{"$f":"(M259-K259)/(M246-K246)*(L246-K246)+K259","v":330.00000000000023},1650,{"$f":"(O259-M259)/(O246-M246)*(N246-M246)+M259","v":570.00000000000023},1920,{"$f":"(Q259-O259)/(Q246-O246)*(P246-O246)+O259","v":819.99999999999932},2140,{"$f":"(S259-Q259)/(S246-Q246)*(R246-Q246)+Q259","v":940.00000000000114},2340,{"$f":"(U259-S259)/(U246-S246)*(T246-S246)+S259","v":1079.9999999999993},2520,{"$f":"(W259-U259)/(W246-U246)*(V246-U246)+U259","v":1440.0000000000002},2790,{"$f":"(Y259-W259)/(Y246-W246)*(X246-W246)+W259","v":1549.9999999999995},3100,{"$f":"(AA259-Y259)/(AA246-Y246)*(Z246-Y246)+Y259","v":1099.9999999999995},3500,{"$f":"(AC259-AA259)/(AC246-AA246)*(AB246-AA246)+AA259","v":1400.0000000000009},4200,{"$f":"(AE259-AC259)/(AE246-AC246)*(AD246-AC246)+AC259","v":1399.9999999999991},5600,{"$f":"(AG259-AE259)/(AG246-AE246)*(AF246-AE246)+AE259","v":6257},6500,{"$f":"(AI259-AG259)/(AI246-AG246)*(AH246-AG246)+AG259","v":5300},6800,{"$f":"(AK259-AI259)/(AK246-AI246)*(AJ246-AI246)+AI259","v":6800},6800,{"$f":"(AM259-AK259)/(AM246-AK246)*(AL246-AK246)+AK259","v":{"$error":"#VALUE!"}},"-",{"$f":"(AO259-AM259)/(AO246-AM246)*(AN246-AM246)+AM259","v":{"$error":"#VALUE!"}},"-",{"$f":"(AQ259-AO259)/(AQ246-AO246)*(AP246-AO246)+AO259","v":{"$error":"#VALUE!"}},"-",14]
[{"$f":"IF(AND(AV253>A259,AV253<A261)=TRUE,AV253,0)","v":0},null,{"$f":"(C261-C259)/(A261-A259)*(A260-A259)+C259","v":{"$error":"#VALUE!"}},{"$f":"(E260-C260)/(E246-C246)*(D246-C246)+C260","v":{"$error":"#VALUE!"}},{"$f":"(E261-E259)/(A261-A259)*(A260-A259)+E259","v":{"$error":"#VALUE!"}},{"$f":"(G260-E260)/(G246-E246)*(F246-E246)+E260","v":{"$error":"#VALUE!"}},{"$f":"(G261-G259)/(A261-A259)*(A260-A259)+G259","v":{"$error":"#VALUE!"}},{"$f":"(I260-G260)/(I246-G246)*(H246-G246)+G260","v":{"$error":"#VALUE!"}},{"$f":"(I261-I259)/(A261-A259)*(A260-A259)+I259","v":3000},{"$f":"(K260-I260)/(K246-I246)*(J246-I246)+I260","v":5160},{"$f":"(K261-K259)/(A261-A259)*(A260-A259)+K259","v":1920},{"$f":"(M260-K260)/(M246-K246)*(L246-K246)+K260","v":1740},{"$f":"(M261-M259)/(A261-A259)*(A260-A259)+M259","v":1980},{"$f":"(O260-M260)/(O246-M246)*(N246-M246)+M260","v":1260},{"$f":"(O261-O259)/(A261-A259)*(A260-A259)+O259","v":2160},{"$f":"(Q260-O260)/(Q246-O246)*(P246-O246)+O260","v":1359.9999999999995},{"$f":"(Q261-Q259)/(A261-A259)*(A260-A259)+Q259","v":2320},{"$f":"(S260-Q260)/(S246-Q246)*(R246-Q246)+Q260","v":1300.0000000000009},{"$f":"(S261-S259)/(A261-A259)*(A260-A259)+S259","v":2490},{"$f":"(U260-S260)/(U246-S246)*(T246-S246)+S260","v":2280},{"$f":"(U261-U259)/(A261-A259)*(A260-A259)+U259","v":2520},{"$f":"(W260-U260)/(W246-U246)*(V246-U246)+U260","v":1440.0000000000002},{"$f":"(W261-W259)/(A261-A259)*(A260-A259)+W259","v":2790},{"$f":"(Y260-W260)/(Y246-W246)*(X246-W246)+W260","v":1549.9999999999995},{"$f":"(Y261-Y259)/(A261-A259)*(A260-A259)+Y259","v":3100},{"$f":"(AA260-Y260)/(AA246-Y246)*(Z246-Y246)+Y260","v":1099.9999999999995},{"$f":"(AA261-AA259)/(A261-A259)*(A260-A259)+AA259","v":3500},{"$f":"(AC260-AA260)/(AC246-AA246)*(AB246-AA246)+AA260","v":1400.0000000000009},{"$f":"(AC261-AC259)/(A261-A259)*(A260-A259)+AC259","v":4200},{"$f":"(AE260-AC260)/(AE246-AC246)*(AD246-AC246)+AC260","v":1399.9999999999991},{"$f":"(AE261-AE259)/(A261-A259)*(A260-A259)+AE259","v":5600},{"$f":"(AG260-AE260)/(AG246-AE246)*(AF246-AE246)+AE260","v":6257},{"$f":"(AG261-AG259)/(A261-A259)*(A260-A259)+AG259","v":6500},{"$f":"(AI260-AG260)/(AI246-AG246)*(AH246-AG246)+AG260","v":5300},{"$f":"(AI261-AI259)/(A261-A259)*(A260-A259)+AI259","v":6800},{"$f":"(AK260-AI260)/(AK246-AI246)*(AJ246-AI246)+AI260","v":6800},{"$f":"(AK261-AK259)/(A261-A259)*(A260-A259)+AK259","v":6800},{"$f":"(AM260-AK260)/(AM246-AK246)*(AL246-AK246)+AK260","v":{"$error":"#VALUE!"}},{"$f":"(AM261-AM259)/(A261-A259)*(A260-A259)+AM259","v":{"$error":"#VALUE!"}},{"$f":"(AO260-AM260)/(AO246-AM246)*(AN246-AM246)+AM260","v":{"$error":"#VALUE!"}},{"$f":"(AO261-AO259)/(A261-A259)*(A260-A259)+AO259","v":{"$error":"#VALUE!"}},{"$f":"(AQ260-AO260)/(AQ246-AO246)*(AP246-AO246)+AO260","v":{"$error":"#VALUE!"}},{"$f":"(AQ261-AQ259)/(A261-A259)*(A260-A259)+AQ259","v":{"$error":"#VALUE!"}},15]
[20,{"$f":"B259+1","v":7},"-",{"$f":"(E261-C261)/(E246-C246)*(D246-C246)+C261","v":{"$error":"#VALUE!"}},"-",{"$f":"(G261-E261)/(G246-E246)*(F246-E246)+E261","v":{"$error":"#VALUE!"}},"-",{"$f":"(I261-G261)/(I246-G246)*(H246-G246)+G261","v":{"$error":"#VALUE!"}},0,{"$f":"(K261-I261)/(K246-I246)*(J246-I246)+I261","v":-2240.0000000000005},1120,{"$f":"(M261-K261)/(M246-K246)*(L246-K246)+K261","v":-139.99999999999977},1540,{"$f":"(O261-M261)/(O246-M246)*(N246-M246)+M261","v":340.00000000000023},1840,{"$f":"(Q261-O261)/(Q246-O246)*(P246-O246)+O261","v":639.99999999999932},2080,{"$f":"(S261-Q261)/(S246-Q246)*(R246-Q246)+Q261","v":820.00000000000114},2290,{"$f":"(U261-S261)/(U246-S246)*(T246-S246)+S261","v":679.99999999999909},2520,{"$f":"(W261-U261)/(W246-U246)*(V246-U246)+U261","v":1440.0000000000002},2790,{"$f":"(Y261-W261)/(Y246-W246)*(X246-W246)+W261","v":1549.9999999999995},3100,{"$f":"(AA261-Y261)/(AA246-Y246)*(Z246-Y246)+Y261","v":1099.9999999999995},3500,{"$f":"(AC261-AA261)/(AC246-AA246)*(AB246-AA246)+AA261","v":1400.0000000000009},4200,{"$f":"(AE261-AC261)/(AE246-AC246)*(AD246-AC246)+AC261","v":1399.9999999999991},5600,{"$f":"(AG261-AE261)/(AG246-AE246)*(AF246-AE246)+AE261","v":6257},6500,{"$f":"(AI261-AG261)/(AI246-AG246)*(AH246-AG246)+AG261","v":5300},6800,{"$f":"(AK261-AI261)/(AK246-AI246)*(AJ246-AI246)+AI261","v":6800},6800,{"$f":"(AM261-AK261)/(AM246-AK246)*(AL246-AK246)+AK261","v":{"$error":"#VALUE!"}},"-",{"$f":"(AO261-AM261)/(AO246-AM246)*(AN246-AM246)+AM261","v":{"$error":"#VALUE!"}},"-",{"$f":"(AQ261-AO261)/(AQ246-AO246)*(AP246-AO246)+AO261","v":{"$error":"#VALUE!"}},"-",16]
[{"$f":"IF(AND(AV253>A261,AV253<A263)=TRUE,AV253,0)","v":0},null,{"$f":"(C263-C261)/(A263-A261)*(A262-A261)+C261","v":{"$error":"#VALUE!"}},{"$f":"(E262-C262)/(E246-C246)*(D246-C246)+C262","v":{"$error":"#VALUE!"}},{"$f":"(E263-E261)/(A263-A261)*(A262-A261)+E261","v":{"$error":"#VALUE!"}},{"$f":"(G262-E262)/(G246-E246)*(F246-E246)+E262","v":{"$error":"#VALUE!"}},{"$f":"(G263-G261)/(A263-A261)*(A262-A261)+G261","v":{"$error":"#VALUE!"}},{"$f":"(I262-G262)/(I246-G246)*(H246-G246)+G262","v":{"$error":"#VALUE!"}},{"$f":"(I263-I261)/(A263-A261)*(A262-A261)+I261","v":{"$error":"#VALUE!"}},{"$f":"(K262-I262)/(K246-I246)*(J246-I246)+I262","v":{"$error":"#VALUE!"}},{"$f":"(K263-K261)/(A263-A261)*(A262-A261)+K261","v":5600},{"$f":"(M262-K262)/(M246-K246)*(L246-K246)+K262","v":15859.999999999998},{"$f":"(M263-M261)/(A263-A261)*(A262-A261)+M261","v":2180},{"$f":"(O262-M262)/(O246-M246)*(N246-M246)+M262","v":1940},{"$f":"(O263-O261)/(A263-A261)*(A262-A261)+O261","v":2240},{"$f":"(Q262-O262)/(Q246-O246)*(P246-O246)+O262","v":1439.9999999999995},{"$f":"(Q263-Q261)/(A263-A261)*(A262-A261)+Q261","v":2400},{"$f":"(S262-Q262)/(S246-Q246)*(R246-Q246)+Q262","v":1860.0000000000005},{"$f":"(S263-S261)/(A263-A261)*(A262-A261)+S261","v":2490},{"$f":"(U262-S262)/(U246-S246)*(T246-S246)+S262","v":2280},{"$f":"(U263-U261)/(A263-A261)*(A262-A261)+U261","v":2520},{"$f":"(W262-U262)/(W246-U246)*(V246-U246)+U262","v":1440.0000000000002},{"$f":"(W263-W261)/(A263-A261)*(A262-A261)+W261","v":2790},{"$f":"(Y262-W262)/(Y246-W246)*(X246-W246)+W262","v":1549.9999999999995},{"$f":"(Y263-Y261)/(A263-A261)*(A262-A261)+Y261","v":3100},{"$f":"(AA262-Y262)/(AA246-Y246)*(Z246-Y246)+Y262","v":1099.9999999999995},{"$f":"(AA263-AA261)/(A263-A261)*(A262-A261)+AA261","v":3500},{"$f":"(AC262-AA262)/(AC246-AA246)*(AB246-AA246)+AA262","v":1400.0000000000009},{"$f":"(AC263-AC261)/(A263-A261)*(A262-A261)+AC261","v":4200},{"$f":"(AE262-AC262)/(AE246-AC246)*(AD246-AC246)+AC262","v":1399.9999999999991},{"$f":"(AE263-AE261)/(A263-A261)*(A262-A261)+AE261","v":5600},{"$f":"(AG262-AE262)/(AG246-AE246)*(AF246-AE246)+AE262","v":6257},{"$f":"(AG263-AG261)/(A263-A261)*(A262-A261)+AG261","v":6500},{"$f":"(AI262-AG262)/(AI246-AG246)*(AH246-AG246)+AG262","v":5300},{"$f":"(AI263-AI261)/(A263-A261)*(A262-A261)+AI261","v":6800},{"$f":"(AK262-AI262)/(AK246-AI246)*(AJ246-AI246)+AI262","v":6800},{"$f":"(AK263-AK261)/(A263-A261)*(A262-A261)+AK261","v":6800},{"$f":"(AM262-AK262)/(AM246-AK246)*(AL246-AK246)+AK262","v":{"$error":"#VALUE!"}},{"$f":"(AM263-AM261)/(A263-A261)*(A262-A261)+AM261","v":{"$error":"#VALUE!"}},{"$f":"(AO262-AM262)/(AO246-AM246)*(AN246-AM246)+AM262","v":{"$error":"#VALUE!"}},{"$f":"(AO263-AO261)/(A263-A261)*(A262-A261)+AO261","v":{"$error":"#VALUE!"}},{"$f":"(AQ262-AO262)/(AQ246-AO246)*(AP246-AO246)+AO262","v":{"$error":"#VALUE!"}},{"$f":"(AQ263-AQ261)/(A263-A261)*(A262-A261)+AQ261","v":{"$error":"#VALUE!"}},17]
[25,{"$f":"B261+1","v":8},"-",{"$f":"(E263-C263)/(E246-C246)*(D246-C246)+C263","v":{"$error":"#VALUE!"}},"-",{"$f":"(G263-E263)/(G246-E246)*(F246-E246)+E263","v":{"$error":"#VALUE!"}},"-",{"$f":"(I263-G263)/(I246-G246)*(H246-G246)+G263","v":{"$error":"#VALUE!"}},"-",{"$f":"(K263-I263)/(K246-I246)*(J246-I246)+I263","v":{"$error":"#VALUE!"}},0,{"$f":"(M263-K263)/(M246-K246)*(L246-K246)+K263","v":-4139.9999999999991},1380,{"$f":"(O263-M263)/(O246-M246)*(N246-M246)+M263","v":-59.999999999999773},1740,{"$f":"(Q263-O263)/(Q246-O246)*(P246-O246)+O263","v":439.99999999999909},2000,{"$f":"(S263-Q263)/(S246-Q246)*(R246-Q246)+Q263","v":560.00000000000136},2240,{"$f":"(U263-S263)/(U246-S246)*(T246-S246)+S263","v":279.99999999999886},2520,{"$f":"(W263-U263)/(W246-U246)*(V246-U246)+U263","v":1440.0000000000002},2790,{"$f":"(Y263-W263)/(Y246-W246)*(X246-W246)+W263","v":1549.9999999999995},3100,{"$f":"(AA263-Y263)/(AA246-Y246)*(Z246-Y246)+Y263","v":1099.9999999999995},3500,{"$f":"(AC263-AA263)/(AC246-AA246)*(AB246-AA246)+AA263","v":1400.0000000000009},4200,{"$f":"(AE263-AC263)/(AE246-AC246)*(AD246-AC246)+AC263","v":1399.9999999999991},5600,{"$f":"(AG263-AE263)/(AG246-AE246)*(AF246-AE246)+AE263","v":6257},6500,{"$f":"(AI263-AG263)/(AI246-AG246)*(AH246-AG246)+AG263","v":5300},6800,{"$f":"(AK263-AI263)/(AK246-AI246)*(AJ246-AI246)+AI263","v":6800},6800,{"$f":"(AM263-AK263)/(AM246-AK246)*(AL246-AK246)+AK263","v":{"$error":"#VALUE!"}},"-",{"$f":"(AO263-AM263)/(AO246-AM246)*(AN246-AM246)+AM263","v":{"$error":"#VALUE!"}},"-",{"$f":"(AQ263-AO263)/(AQ246-AO246)*(AP246-AO246)+AO263","v":{"$error":"#VALUE!"}},"-",18]
[{"$f":"IF(AND(AV253>A263,AV253<A265)=TRUE,AV253,0)","v":0},null,{"$f":"(C265-C263)/(A265-A263)*(A264-A263)+C263","v":{"$error":"#VALUE!"}},{"$f":"(E264-C264)/(E246-C246)*(D246-C246)+C264","v":{"$error":"#VALUE!"}},{"$f":"(E265-E263)/(A265-A263)*(A264-A263)+E263","v":{"$error":"#VALUE!"}},{"$f":"(G264-E264)/(G246-E246)*(F246-E246)+E264","v":{"$error":"#VALUE!"}},{"$f":"(G265-G263)/(A265-A263)*(A264-A263)+G263","v":{"$error":"#VALUE!"}},{"$f":"(I264-G264)/(I246-G246)*(H246-G246)+G264","v":{"$error":"#VALUE!"}},{"$f":"(I265-I263)/(A265-A263)*(A264-A263)+I263","v":{"$error":"#VALUE!"}},{"$f":"(K264-I264)/(K246-I246)*(J246-I246)+I264","v":{"$error":"#VALUE!"}},{"$f":"(K265-K263)/(A265-A263)*(A264-A263)+K263","v":{"$error":"#VALUE!"}},{"$f":"(M264-K264)/(M246-K246)*(L246-K246)+K264","v":{"$error":"#VALUE!"}},{"$f":"(M265-M263)/(A265-A263)*(A264-A263)+M263","v":2430},{"$f":"(O264-M264)/(O246-M246)*(N246-M246)+M264","v":2390},{"$f":"(O265-O263)/(A265-A263)*(A264-A263)+O263","v":2440},{"$f":"(Q264-O264)/(Q246-O246)*(P246-O246)+O264","v":2140},{"$f":"(Q265-Q263)/(A265-A263)*(A264-A263)+Q263","v":2500},{"$f":"(S264-Q264)/(S246-Q246)*(R246-Q246)+Q264","v":1360.0000000000011},{"$f":"(S265-S263)/(A265-A263)*(A264-A263)+S263","v":2690},{"$f":"(U264-S264)/(U246-S246)*(T246-S246)+S264","v":3880.0000000000009},{"$f":"(U265-U263)/(A265-A263)*(A264-A263)+U263","v":2520},{"$f":"(W264-U264)/(W246-U246)*(V246-U246)+U264","v":1440.0000000000002},{"$f":"(W265-W263)/(A265-A263)*(A264-A263)+W263","v":2790},{"$f":"(Y264-W264)/(Y246-W246)*(X246-W246)+W264","v":1549.9999999999995},{"$f":"(Y265-Y263)/(A265-A263)*(A264-A263)+Y263","v":3100},{"$f":"(AA264-Y264)/(AA246-Y246)*(Z246-Y246)+Y264","v":1099.9999999999995},{"$f":"(AA265-AA263)/(A265-A263)*(A264-A263)+AA263","v":3500},{"$f":"(AC264-AA264)/(AC246-AA246)*(AB246-AA246)+AA264","v":1400.0000000000009},{"$f":"(AC265-AC263)/(A265-A263)*(A264-A263)+AC263","v":4200},{"$f":"(AE264-AC264)/(AE246-AC246)*(AD246-AC246)+AC264","v":1399.9999999999991},{"$f":"(AE265-AE263)/(A265-A263)*(A264-A263)+AE263","v":5600},{"$f":"(AG264-AE264)/(AG246-AE246)*(AF246-AE246)+AE264","v":6257},{"$f":"(AG265-AG263)/(A265-A263)*(A264-A263)+AG263","v":6500},{"$f":"(AI264-AG264)/(AI246-AG246)*(AH246-AG246)+AG264","v":5300},{"$f":"(AI265-AI263)/(A265-A263)*(A264-A263)+AI263","v":6800},{"$f":"(AK264-AI264)/(AK246-AI246)*(AJ246-AI246)+AI264","v":6800},{"$f":"(AK265-AK263)/(A265-A263)*(A264-A263)+AK263","v":6800},{"$f":"(AM264-AK264)/(AM246-AK246)*(AL246-AK246)+AK264","v":{"$error":"#VALUE!"}},{"$f":"(AM265-AM263)/(A265-A263)*(A264-A263)+AM263","v":{"$error":"#VALUE!"}},{"$f":"(AO264-AM264)/(AO246-AM246)*(AN246-AM246)+AM264","v":{"$error":"#VALUE!"}},{"$f":"(AO265-AO263)/(A265-A263)*(A264-A263)+AO263","v":{"$error":"#VALUE!"}},{"$f":"(AQ264-AO264)/(AQ246-AO246)*(AP246-AO246)+AO264","v":{"$error":"#VALUE!"}},{"$f":"(AQ265-AQ263)/(A265-A263)*(A264-A263)+AQ263","v":{"$error":"#VALUE!"}},19]
[30,{"$f":"B263+1","v":9},"-",{"$f":"(E265-C265)/(E246-C246)*(D246-C246)+C265","v":{"$error":"#VALUE!"}},"-",{"$f":"(G265-E265)/(G246-E246)*(F246-E246)+E265","v":{"$error":"#VALUE!"}},"-",{"$f":"(I265-G265)/(I246-G246)*(H246-G246)+G265","v":{"$error":"#VALUE!"}},"-",{"$f":"(K265-I265)/(K246-I246)*(J246-I246)+I265","v":{"$error":"#VALUE!"}},"-",{"$f":"(M265-K265)/(M246-K246)*(L246-K246)+K265","v":{"$error":"#VALUE!"}},1170,{"$f":"(O265-M265)/(O246-M246)*(N246-M246)+M265","v":-549.99999999999977},1600,{"$f":"(Q265-O265)/(Q246-O246)*(P246-O246)+O265","v":99.999999999999091},1900,{"$f":"(S265-Q265)/(S246-Q246)*(R246-Q246)+Q265","v":400.00000000000136},2150,{"$f":"(U265-S265)/(U246-S246)*(T246-S246)+S265","v":-440.00000000000182},2520,{"$f":"(W265-U265)/(W246-U246)*(V246-U246)+U265","v":1440.0000000000002},2790,{"$f":"(Y265-W265)/(Y246-W246)*(X246-W246)+W265","v":1549.9999999999995},3100,{"$f":"(AA265-Y265)/(AA246-Y246)*(Z246-Y246)+Y265","v":1099.9999999999995},3500,{"$f":"(AC265-AA265)/(AC246-AA246)*(AB246-AA246)+AA265","v":1400.0000000000009},4200,{"$f":"(AE265-AC265)/(AE246-AC246)*(AD246-AC246)+AC265","v":1399.9999999999991},5600,{"$f":"(AG265-AE265)/(AG246-AE246)*(AF246-AE246)+AE265","v":6257},6500,{"$f":"(AI265-AG265)/(AI246-AG246)*(AH246-AG246)+AG265","v":5300},6800,{"$f":"(AK265-AI265)/(AK246-AI246)*(AJ246-AI246)+AI265","v":6800},6800,{"$f":"(AM265-AK265)/(AM246-AK246)*(AL246-AK246)+AK265","v":{"$error":"#VALUE!"}},"-",{"$f":"(AO265-AM265)/(AO246-AM246)*(AN246-AM246)+AM265","v":{"$error":"#VALUE!"}},"-",{"$f":"(AQ265-AO265)/(AQ246-AO246)*(AP246-AO246)+AO265","v":{"$error":"#VALUE!"}},"-",20]
[{"$f":"IF(AND(AV253>A265,AV253<A267)=TRUE,AV253,0)","v":0},null,{"$f":"(C267-C265)/(A267-A265)*(A266-A265)+C265","v":{"$error":"#VALUE!"}},{"$f":"(E266-C266)/(E246-C246)*(D246-C246)+C266","v":{"$error":"#VALUE!"}},{"$f":"(E267-E265)/(A267-A265)*(A266-A265)+E265","v":{"$error":"#VALUE!"}},{"$f":"(G266-E266)/(G246-E246)*(F246-E246)+E266","v":{"$error":"#VALUE!"}},{"$f":"(G267-G265)/(A267-A265)*(A266-A265)+G265","v":{"$error":"#VALUE!"}},{"$f":"(I266-G266)/(I246-G246)*(H246-G246)+G266","v":{"$error":"#VALUE!"}},{"$f":"(I267-I265)/(A267-A265)*(A266-A265)+I265","v":{"$error":"#VALUE!"}},{"$f":"(K266-I266)/(K246-I246)*(J246-I246)+I266","v":{"$error":"#VALUE!"}},{"$f":"(K267-K265)/(A267-A265)*(A266-A265)+K265","v":{"$error":"#VALUE!"}},{"$f":"(M266-K266)/(M246-K246)*(L246-K246)+K266","v":{"$error":"#VALUE!"}},{"$f":"(M267-M265)/(A267-A265)*(A266-A265)+M265","v":4680},{"$f":"(O266-M266)/(O246-M246)*(N246-M246)+M266","v":12200},{"$f":"(O267-O265)/(A267-A265)*(A266-A265)+O265","v":2800},{"$f":"(Q266-O266)/(Q246-O246)*(P246-O246)+O266","v":3850.0000000000009},{"$f":"(Q267-Q265)/(A267-A265)*(A266-A265)+Q265","v":2590},{"$f":"(S266-Q266)/(S246-Q246)*(R246-Q246)+Q266","v":2530},{"$f":"(S267-S265)/(A267-A265)*(A266-A265)+S265","v":2600},{"$f":"(U266-S266)/(U246-S246)*(T246-S246)+S266","v":3160.0000000000005},{"$f":"(U267-U265)/(A267-A265)*(A266-A265)+U265","v":2520},{"$f":"(W266-U266)/(W246-U246)*(V246-U246)+U266","v":1440.0000000000002},{"$f":"(W267-W265)/(A267-A265)*(A266-A265)+W265","v":2790},{"$f":"(Y266-W266)/(Y246-W246)*(X246-W246)+W266","v":1549.9999999999995},{"$f":"(Y267-Y265)/(A267-A265)*(A266-A265)+Y265","v":3100},{"$f":"(AA266-Y266)/(AA246-Y246)*(Z246-Y246)+Y266","v":1099.9999999999995},{"$f":"(AA267-AA265)/(A267-A265)*(A266-A265)+AA265","v":3500},{"$f":"(AC266-AA266)/(AC246-AA246)*(AB246-AA246)+AA266","v":1400.0000000000009},{"$f":"(AC267-AC265)/(A267-A265)*(A266-A265)+AC265","v":4200},{"$f":"(AE266-AC266)/(AE246-AC246)*(AD246-AC246)+AC266","v":1399.9999999999991},{"$f":"(AE267-AE265)/(A267-A265)*(A266-A265)+AE265","v":5600},{"$f":"(AG266-AE266)/(AG246-AE246)*(AF246-AE246)+AE266","v":6257},{"$f":"(AG267-AG265)/(A267-A265)*(A266-A265)+AG265","v":6500},{"$f":"(AI266-AG266)/(AI246-AG246)*(AH246-AG246)+AG266","v":5300},{"$f":"(AI267-AI265)/(A267-A265)*(A266-A265)+AI265","v":6800},{"$f":"(AK266-AI266)/(AK246-AI246)*(AJ246-AI246)+AI266","v":6800},{"$f":"(AK267-AK265)/(A267-A265)*(A266-A265)+AK265","v":6800},{"$f":"(AM266-AK266)/(AM246-AK246)*(AL246-AK246)+AK266","v":{"$error":"#VALUE!"}},{"$f":"(AM267-AM265)/(A267-A265)*(A266-A265)+AM265","v":{"$error":"#VALUE!"}},{"$f":"(AO266-AM266)/(AO246-AM246)*(AN246-AM246)+AM266","v":{"$error":"#VALUE!"}},{"$f":"(AO267-AO265)/(A267-A265)*(A266-A265)+AO265","v":{"$error":"#VALUE!"}},{"$f":"(AQ266-AO266)/(AQ246-AO246)*(AP246-AO246)+AO266","v":{"$error":"#VALUE!"}},{"$f":"(AQ267-AQ265)/(A267-A265)*(A266-A265)+AQ265","v":{"$error":"#VALUE!"}},21]
[40,{"$f":"B265+1","v":10},"-",{"$f":"(E267-C267)/(E246-C246)*(D246-C246)+C267","v":{"$error":"#VALUE!"}},"-",{"$f":"(G267-E267)/(G246-E246)*(F246-E246)+E267","v":{"$error":"#VALUE!"}},"-",{"$f":"(I267-G267)/(I246-G246)*(H246-G246)+G267","v":{"$error":"#VALUE!"}},"-",{"$f":"(K267-I267)/(K246-I246)*(J246-I246)+I267","v":{"$error":"#VALUE!"}},"-",{"$f":"(M267-K267)/(M246-K246)*(L246-K246)+K267","v":{"$error":"#VALUE!"}},0,{"$f":"(O267-M267)/(O246-M246)*(N246-M246)+M267","v":-4799.9999999999991},1200,{"$f":"(Q267-O267)/(Q246-O246)*(P246-O246)+O267","v":-1150.0000000000014},1670,{"$f":"(S267-Q267)/(S246-Q246)*(R246-Q246)+Q267","v":-309.99999999999818},2000,{"$f":"(U267-S267)/(U246-S246)*(T246-S246)+S267","v":-1640.0000000000023},2520,{"$f":"(W267-U267)/(W246-U246)*(V246-U246)+U267","v":1440.0000000000002},2790,{"$f":"(Y267-W267)/(Y246-W246)*(X246-W246)+W267","v":1549.9999999999995},3100,{"$f":"(AA267-Y267)/(AA246-Y246)*(Z246-Y246)+Y267","v":1099.9999999999995},3500,{"$f":"(AC267-AA267)/(AC246-AA246)*(AB246-AA246)+AA267","v":1400.0000000000009},4200,{"$f":"(AE267-AC267)/(AE246-AC246)*(AD246-AC246)+AC267","v":1399.9999999999991},5600,{"$f":"(AG267-AE267)/(AG246-AE246)*(AF246-AE246)+AE267","v":6257},6500,{"$f":"(AI267-AG267)/(AI246-AG246)*(AH246-AG246)+AG267","v":5300},6800,{"$f":"(AK267-AI267)/(AK246-AI246)*(AJ246-AI246)+AI267","v":6800},6800,{"$f":"(AM267-AK267)/(AM246-AK246)*(AL246-AK246)+AK267","v":{"$error":"#VALUE!"}},"-",{"$f":"(AO267-AM267)/(AO246-AM246)*(AN246-AM246)+AM267","v":{"$error":"#VALUE!"}},"-",{"$f":"(AQ267-AO267)/(AQ246-AO246)*(AP246-AO246)+AO267","v":{"$error":"#VALUE!"}},"-",22]
[{"$f":"IF(AND(AV253>A267,AV253<A269)=TRUE,AV253,0)","v":0},null,{"$f":"(C269-C267)/(A269-A267)*(A268-A267)+C267","v":{"$error":"#VALUE!"}},{"$f":"(E268-C268)/(E246-C246)*(D246-C246)+C268","v":{"$error":"#VALUE!"}},{"$f":"(E269-E267)/(A269-A267)*(A268-A267)+E267","v":{"$error":"#VALUE!"}},{"$f":"(G268-E268)/(G246-E246)*(F246-E246)+E268","v":{"$error":"#VALUE!"}},{"$f":"(G269-G267)/(A269-A267)*(A268-A267)+G267","v":{"$error":"#VALUE!"}},{"$f":"(I268-G268)/(I246-G246)*(H246-G246)+G268","v":{"$error":"#VALUE!"}},{"$f":"(I269-I267)/(A269-A267)*(A268-A267)+I267","v":{"$error":"#VALUE!"}},{"$f":"(K268-I268)/(K246-I246)*(J246-I246)+I268","v":{"$error":"#VALUE!"}},{"$f":"(K269-K267)/(A269-A267)*(A268-A267)+K267","v":{"$error":"#VALUE!"}},{"$f":"(M268-K268)/(M246-K246)*(L246-K246)+K268","v":{"$error":"#VALUE!"}},{"$f":"(M269-M267)/(A269-A267)*(A268-A267)+M267","v":{"$error":"#VALUE!"}},{"$f":"(O268-M268)/(O246-M246)*(N246-M246)+M268","v":{"$error":"#VALUE!"}},{"$f":"(O269-O267)/(A269-A267)*(A268-A267)+O267","v":6000},{"$f":"(Q268-O268)/(Q246-O246)*(P246-O246)+O268","v":19250.000000000007},{"$f":"(Q269-Q267)/(A269-A267)*(A268-A267)+Q267","v":3350},{"$f":"(S268-Q268)/(S246-Q246)*(R246-Q246)+Q268","v":4249.9999999999991},{"$f":"(S269-S267)/(A269-A267)*(A268-A267)+S267","v":3200},{"$f":"(U268-S268)/(U246-S246)*(T246-S246)+S268","v":-6600.0000000000055},{"$f":"(U269-U267)/(A269-A267)*(A268-A267)+U267","v":4600},{"$f":"(W268-U268)/(W246-U246)*(V246-U246)+U268","v":8800},{"$f":"(W269-W267)/(A269-A267)*(A268-A267)+W267","v":3550},{"$f":"(Y268-W268)/(Y246-W246)*(X246-W246)+W268","v":5350},{"$f":"(Y269-Y267)/(A269-A267)*(A268-A267)+Y267","v":3100},{"$f":"(AA268-Y268)/(AA246-Y246)*(Z246-Y246)+Y268","v":1099.9999999999995},{"$f":"(AA269-AA267)/(A269-A267)*(A268-A267)+AA267","v":3500},{"$f":"(AC268-AA268)/(AC246-AA246)*(AB246-AA246)+AA268","v":1400.0000000000009},{"$f":"(AC269-AC267)/(A269-A267)*(A268-A267)+AC267","v":4200},{"$f":"(AE268-AC268)/(AE246-AC246)*(AD246-AC246)+AC268","v":1399.9999999999991},{"$f":"(AE269-AE267)/(A269-A267)*(A268-A267)+AE267","v":5600},{"$f":"(AG268-AE268)/(AG246-AE246)*(AF246-AE246)+AE268","v":6257},{"$f":"(AG269-AG267)/(A269-A267)*(A268-A267)+AG267","v":6500},{"$f":"(AI268-AG268)/(AI246-AG246)*(AH246-AG246)+AG268","v":5300},{"$f":"(AI269-AI267)/(A269-A267)*(A268-A267)+AI267","v":6800},{"$f":"(AK268-AI268)/(AK246-AI246)*(AJ246-AI246)+AI268","v":6800},{"$f":"(AK269-AK267)/(A269-A267)*(A268-A267)+AK267","v":6800},{"$f":"(AM268-AK268)/(AM246-AK246)*(AL246-AK246)+AK268","v":{"$error":"#VALUE!"}},{"$f":"(AM269-AM267)/(A269-A267)*(A268-A267)+AM267","v":{"$error":"#VALUE!"}},{"$f":"(AO268-AM268)/(AO246-AM246)*(AN246-AM246)+AM268","v":{"$error":"#VALUE!"}},{"$f":"(AO269-AO267)/(A269-A267)*(A268-A267)+AO267","v":{"$error":"#VALUE!"}},{"$f":"(AQ268-AO268)/(AQ246-AO246)*(AP246-AO246)+AO268","v":{"$error":"#VALUE!"}},{"$f":"(AQ269-AQ267)/(A269-A267)*(A268-A267)+AQ267","v":{"$error":"#VALUE!"}},23]
[50,{"$f":"B267+1","v":11},"-",{"$f":"(E269-C269)/(E246-C246)*(D246-C246)+C269","v":{"$error":"#VALUE!"}},"-",{"$f":"(G269-E269)/(G246-E246)*(F246-E246)+E269","v":{"$error":"#VALUE!"}},"-",{"$f":"(I269-G269)/(I246-G246)*(H246-G246)+G269","v":{"$error":"#VALUE!"}},"-",{"$f":"(K269-I269)/(K246-I246)*(J246-I246)+I269","v":{"$error":"#VALUE!"}},"-",{"$f":"(M269-K269)/(M246-K246)*(L246-K246)+K269","v":{"$error":"#VALUE!"}},"-",{"$f":"(O269-M269)/(O246-M246)*(N246-M246)+M269","v":{"$error":"#VALUE!"}},0,{"$f":"(Q269-O269)/(Q246-O246)*(P246-O246)+O269","v":-6250.0000000000036},1250,{"$f":"(S269-Q269)/(S246-Q246)*(R246-Q246)+Q269","v":-1449.9999999999977},1700,{"$f":"(U269-S269)/(U246-S246)*(T246-S246)+S269","v":-400.00000000000136},2000,{"$f":"(W269-U269)/(W246-U246)*(V246-U246)+U269","v":-399.99999999999955},2600,{"$f":"(Y269-W269)/(Y246-W246)*(X246-W246)+W269","v":599.99999999999955},3100,{"$f":"(AA269-Y269)/(AA246-Y246)*(Z246-Y246)+Y269","v":1099.9999999999995},3500,{"$f":"(AC269-AA269)/(AC246-AA246)*(AB246-AA246)+AA269","v":1400.0000000000009},4200,{"$f":"(AE269-AC269)/(AE246-AC246)*(AD246-AC246)+AC269","v":1399.9999999999991},5600,{"$f":"(AG269-AE269)/(AG246-AE246)*(AF246-AE246)+AE269","v":6257},6500,{"$f":"(AI269-AG269)/(AI246-AG246)*(AH246-AG246)+AG269","v":5300},6800,{"$f":"(AK269-AI269)/(AK246-AI246)*(AJ246-AI246)+AI269","v":6800},6800,{"$f":"(AM269-AK269)/(AM246-AK246)*(AL246-AK246)+AK269","v":{"$error":"#VALUE!"}},"-",{"$f":"(AO269-AM269)/(AO246-AM246)*(AN246-AM246)+AM269","v":{"$error":"#VALUE!"}},"-",{"$f":"(AQ269-AO269)/(AQ246-AO246)*(AP246-AO246)+AO269","v":{"$error":"#VALUE!"}},"-",24]
[{"$f":"IF(AND(AV253>A269,AV253<A271)=TRUE,AV253,0)","v":0},null,{"$f":"(C271-C269)/(A271-A269)*(A270-A269)+C269","v":{"$error":"#VALUE!"}},{"$f":"(E270-C270)/(E246-C246)*(D246-C246)+C270","v":{"$error":"#VALUE!"}},{"$f":"(E271-E269)/(A271-A269)*(A270-A269)+E269","v":{"$error":"#VALUE!"}},{"$f":"(G270-E270)/(G246-E246)*(F246-E246)+E270","v":{"$error":"#VALUE!"}},{"$f":"(G271-G269)/(A271-A269)*(A270-A269)+G269","v":{"$error":"#VALUE!"}},{"$f":"(I270-G270)/(I246-G246)*(H246-G246)+G270","v":{"$error":"#VALUE!"}},{"$f":"(I271-I269)/(A271-A269)*(A270-A269)+I269","v":{"$error":"#VALUE!"}},{"$f":"(K270-I270)/(K246-I246)*(J246-I246)+I270","v":{"$error":"#VALUE!"}},{"$f":"(K271-K269)/(A271-A269)*(A270-A269)+K269","v":{"$error":"#VALUE!"}},{"$f":"(M270-K270)/(M246-K246)*(L246-K246)+K270","v":{"$error":"#VALUE!"}},{"$f":"(M271-M269)/(A271-A269)*(A270-A269)+M269","v":{"$error":"#VALUE!"}},{"$f":"(O270-M270)/(O246-M246)*(N246-M246)+M270","v":{"$error":"#VALUE!"}},{"$f":"(O271-O269)/(A271-A269)*(A270-A269)+O269","v":{"$error":"#VALUE!"}},{"$f":"(Q270-O270)/(Q246-O246)*(P246-O246)+O270","v":{"$error":"#VALUE!"}},{"$f":"(Q271-Q269)/(A271-A269)*(A270-A269)+Q269","v":7500},{"$f":"(S270-Q270)/(S246-Q246)*(R246-Q246)+Q270","v":22799.999999999985},{"$f":"(S271-S269)/(A271-A269)*(A270-A269)+S269","v":4950},{"$f":"(U270-S270)/(U246-S246)*(T246-S246)+S270","v":6350.0000000000009},{"$f":"(U271-U269)/(A271-A269)*(A270-A269)+U269","v":4750},{"$f":"(W270-U270)/(W246-U246)*(V246-U246)+U270","v":10350},{"$f":"(W271-W269)/(A271-A269)*(A270-A269)+W269","v":3350},{"$f":"(Y270-W270)/(Y246-W246)*(X246-W246)+W270","v":1349.9999999999995},{"$f":"(Y271-Y269)/(A271-A269)*(A270-A269)+Y269","v":3850},{"$f":"(AA270-Y270)/(AA246-Y246)*(Z246-Y246)+Y270","v":4350},{"$f":"(AA271-AA269)/(A271-A269)*(A270-A269)+AA269","v":3750},{"$f":"(AC270-AA270)/(AC246-AA246)*(AB246-AA246)+AA270","v":2400.0000000000009},{"$f":"(AC271-AC269)/(A271-A269)*(A270-A269)+AC269","v":4200},{"$f":"(AE270-AC270)/(AE246-AC246)*(AD246-AC246)+AC270","v":1399.9999999999991},{"$f":"(AE271-AE269)/(A271-A269)*(A270-A269)+AE269","v":5600},{"$f":"(AG270-AE270)/(AG246-AE246)*(AF246-AE246)+AE270","v":7899.5},{"$f":"(AG271-AG269)/(A271-A269)*(A270-A269)+AG269","v":8750},{"$f":"(AI270-AG270)/(AI246-AG246)*(AH246-AG246)+AG270","v":18550},{"$f":"(AI271-AI269)/(A271-A269)*(A270-A269)+AI269","v":6300},{"$f":"(AK270-AI270)/(AK246-AI246)*(AJ246-AI246)+AI270","v":36300.000000000007},{"$f":"(AK271-AK269)/(A271-A269)*(A270-A269)+AK269","v":300},{"$f":"(AM270-AK270)/(AM246-AK246)*(AL246-AK246)+AK270","v":{"$error":"#VALUE!"}},{"$f":"(AM271-AM269)/(A271-A269)*(A270-A269)+AM269","v":{"$error":"#VALUE!"}},{"$f":"(AO270-AM270)/(AO246-AM246)*(AN246-AM246)+AM270","v":{"$error":"#VALUE!"}},{"$f":"(AO271-AO269)/(A271-A269)*(A270-A269)+AO269","v":{"$error":"#VALUE!"}},{"$f":"(AQ270-AO270)/(AQ246-AO246)*(AP246-AO246)+AO270","v":{"$error":"#VALUE!"}},{"$f":"(AQ271-AQ269)/(A271-A269)*(A270-A269)+AQ269","v":{"$error":"#VALUE!"}},25]
[60,{"$f":"B269+1","v":12},"-",{"$f":"(E271-C271)/(E246-C246)*(D246-C246)+C271","v":{"$error":"#VALUE!"}},"-",{"$f":"(G271-E271)/(G246-E246)*(F246-E246)+E271","v":{"$error":"#VALUE!"}},"-",{"$f":"(I271-G271)/(I246-G246)*(H246-G246)+G271","v":{"$error":"#VALUE!"}},"-",{"$f":"(K271-I271)/(K246-I246)*(J246-I246)+I271","v":{"$error":"#VALUE!"}},"-",{"$f":"(M271-K271)/(M246-K246)*(L246-K246)+K271","v":{"$error":"#VALUE!"}},"-",{"$f":"(O271-M271)/(O246-M246)*(N246-M246)+M271","v":{"$error":"#VALUE!"}},"-",{"$f":"(Q271-O271)/(Q246-O246)*(P246-O246)+O271","v":{"$error":"#VALUE!"}},0,{"$f":"(S271-Q271)/(S246-Q246)*(R246-Q246)+Q271","v":-6299.9999999999945},1050,{"$f":"(U271-S271)/(U246-S246)*(T246-S246)+S271","v":-1750.0000000000018},1450,{"$f":"(W271-U271)/(W246-U246)*(V246-U246)+U271","v":-2549.9999999999995},2450,{"$f":"(Y271-W271)/(Y246-W246)*(X246-W246)+W271","v":449.99999999999955},2950,{"$f":"(AA271-Y271)/(AA246-Y246)*(Z246-Y246)+Y271","v":449.99999999999955},3450,{"$f":"(AC271-AA271)/(AC246-AA246)*(AB246-AA246)+AA271","v":1200.0000000000009},4200,{"$f":"(AE271-AC271)/(AE246-AC246)*(AD246-AC246)+AC271","v":1399.9999999999991},5600,{"$f":"(AG271-AE271)/(AG246-AE246)*(AF246-AE246)+AE271","v":5928.5},6050,{"$f":"(AI271-AG271)/(AI246-AG246)*(AH246-AG246)+AG271","v":2649.9999999999991},6900,{"$f":"(AK271-AI271)/(AK246-AI246)*(AJ246-AI246)+AI271","v":899.99999999999909},8100,{"$f":"(AM271-AK271)/(AM246-AK246)*(AL246-AK246)+AK271","v":1500.0000000000027},10300,{"$f":"(AO271-AM271)/(AO246-AM246)*(AN246-AM246)+AM271","v":3299.9999999999982},13800,{"$f":"(AQ271-AO271)/(AQ246-AO246)*(AP246-AO246)+AO271","v":13800},13800,26]
[{"$f":"IF(AND(AV253>A271,AV253<A273)=TRUE,AV253,0)","v":0},null,{"$f":"(C273-C271)/(A273-A271)*(A272-A271)+C271","v":{"$error":"#VALUE!"}},{"$f":"(E272-C272)/(E246-C246)*(D246-C246)+C272","v":{"$error":"#VALUE!"}},{"$f":"(E273-E271)/(A273-A271)*(A272-A271)+E271","v":{"$error":"#VALUE!"}},{"$f":"(G272-E272)/(G246-E246)*(F246-E246)+E272","v":{"$error":"#VALUE!"}},{"$f":"(G273-G271)/(A273-A271)*(A272-A271)+G271","v":{"$error":"#VALUE!"}},{"$f":"(I272-G272)/(I246-G246)*(H246-G246)+G272","v":{"$error":"#VALUE!"}},{"$f":"(I273-I271)/(A273-A271)*(A272-A271)+I271","v":{"$error":"#VALUE!"}},{"$f":"(K272-I272)/(K246-I246)*(J246-I246)+I272","v":{"$error":"#VALUE!"}},{"$f":"(K273-K271)/(A273-A271)*(A272-A271)+K271","v":{"$error":"#VALUE!"}},{"$f":"(M272-K272)/(M246-K246)*(L246-K246)+K272","v":{"$error":"#VALUE!"}},{"$f":"(M273-M271)/(A273-A271)*(A272-A271)+M271","v":{"$error":"#VALUE!"}},{"$f":"(O272-M272)/(O246-M246)*(N246-M246)+M272","v":{"$error":"#VALUE!"}},{"$f":"(O273-O271)/(A273-A271)*(A272-A271)+O271","v":{"$error":"#VALUE!"}},{"$f":"(Q272-O272)/(Q246-O246)*(P246-O246)+O272","v":{"$error":"#VALUE!"}},{"$f":"(Q273-Q271)/(A273-A271)*(A272-A271)+Q271","v":{"$error":"#VALUE!"}},{"$f":"(S272-Q272)/(S246-Q246)*(R246-Q246)+Q272","v":{"$error":"#VALUE!"}},{"$f":"(S273-S271)/(A273-A271)*(A272-A271)+S271","v":4200},{"$f":"(U272-S272)/(U246-S246)*(T246-S246)+S272","v":-7000.0000000000073},{"$f":"(U273-U271)/(A273-A271)*(A272-A271)+U271","v":5800},{"$f":"(W272-U272)/(W246-U246)*(V246-U246)+U272","v":7800},{"$f":"(W273-W271)/(A273-A271)*(A272-A271)+W271","v":5300},{"$f":"(Y272-W272)/(Y246-W246)*(X246-W246)+W272","v":6300},{"$f":"(Y273-Y271)/(A273-A271)*(A272-A271)+Y271","v":5050},{"$f":"(AA272-Y272)/(AA246-Y246)*(Z246-Y246)+Y272","v":10800},{"$f":"(AA273-AA271)/(A273-A271)*(A272-A271)+AA271","v":3900},{"$f":"(AC272-AA272)/(AC246-AA246)*(AB246-AA246)+AA272","v":3000.0000000000005},{"$f":"(AC273-AC271)/(A273-A271)*(A272-A271)+AC271","v":4200},{"$f":"(AE272-AC272)/(AE246-AC246)*(AD246-AC246)+AC272","v":1399.9999999999991},{"$f":"(AE273-AE271)/(A273-A271)*(A272-A271)+AE271","v":5600},{"$f":"(AG272-AE272)/(AG246-AE246)*(AF246-AE246)+AE272","v":5928.5},{"$f":"(AG273-AG271)/(A273-A271)*(A272-A271)+AG271","v":6050},{"$f":"(AI272-AG272)/(AI246-AG246)*(AH246-AG246)+AG272","v":2649.9999999999991},{"$f":"(AI273-AI271)/(A273-A271)*(A272-A271)+AI271","v":6900},{"$f":"(AK272-AI272)/(AK246-AI246)*(AJ246-AI246)+AI272","v":899.99999999999909},{"$f":"(AK273-AK271)/(A273-A271)*(A272-A271)+AK271","v":8100},{"$f":"(AM272-AK272)/(AM246-AK246)*(AL246-AK246)+AK272","v":1500.0000000000027},{"$f":"(AM273-AM271)/(A273-A271)*(A272-A271)+AM271","v":10300},{"$f":"(AO272-AM272)/(AO246-AM246)*(AN246-AM246)+AM272","v":3299.9999999999982},{"$f":"(AO273-AO271)/(A273-A271)*(A272-A271)+AO271","v":13800},{"$f":"(AQ272-AO272)/(AQ246-AO246)*(AP246-AO246)+AO272","v":13800},{"$f":"(AQ273-AQ271)/(A273-A271)*(A272-A271)+AQ271","v":13800},27]
[80,{"$f":"B271+1","v":13},"-",{"$f":"(E273-C273)/(E246-C246)*(D246-C246)+C273","v":{"$error":"#VALUE!"}},"-",{"$f":"(G273-E273)/(G246-E246)*(F246-E246)+E273","v":{"$error":"#VALUE!"}},"-",{"$f":"(I273-G273)/(I246-G246)*(H246-G246)+G273","v":{"$error":"#VALUE!"}},"-",{"$f":"(K273-I273)/(K246-I246)*(J246-I246)+I273","v":{"$error":"#VALUE!"}},"-",{"$f":"(M273-K273)/(M246-K246)*(L246-K246)+K273","v":{"$error":"#VALUE!"}},"-",{"$f":"(O273-M273)/(O246-M246)*(N246-M246)+M273","v":{"$error":"#VALUE!"}},"-",{"$f":"(Q273-O273)/(Q246-O246)*(P246-O246)+O273","v":{"$error":"#VALUE!"}},"-",{"$f":"(S273-Q273)/(S246-Q246)*(R246-Q246)+Q273","v":{"$error":"#VALUE!"}},0,{"$f":"(U273-S273)/(U246-S246)*(T246-S246)+S273","v":0},0,{"$f":"(W273-U273)/(W246-U246)*(V246-U246)+U273","v":-5999.9999999999991},1500,{"$f":"(Y273-W273)/(Y246-W246)*(X246-W246)+W273","v":-1500.0000000000009},2250,{"$f":"(AA273-Y273)/(AA246-Y246)*(Z246-Y246)+Y273","v":-3000.0000000000009},3300,{"$f":"(AC273-AA273)/(AC246-AA246)*(AB246-AA246)+AA273","v":600.00000000000136},4200,{"$f":"(AE273-AC273)/(AE246-AC246)*(AD246-AC246)+AC273","v":1399.9999999999991},5600,{"$f":"(AG273-AE273)/(AG246-AE246)*(AF246-AE246)+AE273","v":5928.5},6050,{"$f":"(AI273-AG273)/(AI246-AG246)*(AH246-AG246)+AG273","v":2649.9999999999991},6900,{"$f":"(AK273-AI273)/(AK246-AI246)*(AJ246-AI246)+AI273","v":899.99999999999909},8100,{"$f":"(AM273-AK273)/(AM246-AK246)*(AL246-AK246)+AK273","v":1500.0000000000027},10300,{"$f":"(AO273-AM273)/(AO246-AM246)*(AN246-AM246)+AM273","v":3299.9999999999982},13800,{"$f":"(AQ273-AO273)/(AQ246-AO246)*(AP246-AO246)+AO273","v":13800},13800,28]
[{"$f":"IF(AND(AV253>A273,AV253<A275)=TRUE,AV253,0)","v":0},null,{"$f":"(C275-C273)/(A275-A273)*(A274-A273)+C273","v":{"$error":"#VALUE!"}},{"$f":"(E274-C274)/(E246-C246)*(D246-C246)+C274","v":{"$error":"#VALUE!"}},{"$f":"(E275-E273)/(A275-A273)*(A274-A273)+E273","v":{"$error":"#VALUE!"}},{"$f":"(G274-E274)/(G246-E246)*(F246-E246)+E274","v":{"$error":"#VALUE!"}},{"$f":"(G275-G273)/(A275-A273)*(A274-A273)+G273","v":{"$error":"#VALUE!"}},{"$f":"(I274-G274)/(I246-G246)*(H246-G246)+G274","v":{"$error":"#VALUE!"}},{"$f":"(I275-I273)/(A275-A273)*(A274-A273)+I273","v":{"$error":"#VALUE!"}},{"$f":"(K274-I274)/(K246-I246)*(J246-I246)+I274","v":{"$error":"#VALUE!"}},{"$f":"(K275-K273)/(A275-A273)*(A274-A273)+K273","v":{"$error":"#VALUE!"}},{"$f":"(M274-K274)/(M246-K246)*(L246-K246)+K274","v":{"$error":"#VALUE!"}},{"$f":"(M275-M273)/(A275-A273)*(A274-A273)+M273","v":{"$error":"#VALUE!"}},{"$f":"(O274-M274)/(O246-M246)*(N246-M246)+M274","v":{"$error":"#VALUE!"}},{"$f":"(O275-O273)/(A275-A273)*(A274-A273)+O273","v":{"$error":"#VALUE!"}},{"$f":"(Q274-O274)/(Q246-O246)*(P246-O246)+O274","v":{"$error":"#VALUE!"}},{"$f":"(Q275-Q273)/(A275-A273)*(A274-A273)+Q273","v":{"$error":"#VALUE!"}},{"$f":"(S274-Q274)/(S246-Q246)*(R246-Q246)+Q274","v":{"$error":"#VALUE!"}},{"$f":"(S275-S273)/(A275-A273)*(A274-A273)+S273","v":{"$error":"#VALUE!"}},{"$f":"(U274-S274)/(U246-S246)*(T246-S246)+S274","v":{"$error":"#VALUE!"}},{"$f":"(U275-U273)/(A275-A273)*(A274-A273)+U273","v":{"$error":"#VALUE!"}},{"$f":"(W274-U274)/(W246-U246)*(V246-U246)+U274","v":{"$error":"#VALUE!"}},{"$f":"(W275-W273)/(A275-A273)*(A274-A273)+W273","v":7500},{"$f":"(Y274-W274)/(Y246-W246)*(X246-W246)+W274","v":22100.000000000004},{"$f":"(Y275-Y273)/(A275-A273)*(A274-A273)+Y273","v":3850},{"$f":"(AA274-Y274)/(AA246-Y246)*(Z246-Y246)+Y274","v":599.99999999999909},{"$f":"(AA275-AA273)/(A275-A273)*(A274-A273)+AA273","v":4500},{"$f":"(AC274-AA274)/(AC246-AA246)*(AB246-AA246)+AA274","v":4200},{"$f":"(AC275-AC273)/(A275-A273)*(A274-A273)+AC273","v":4600},{"$f":"(AE274-AC274)/(AE246-AC246)*(AD246-AC246)+AC274","v":2599.9999999999995},{"$f":"(AE275-AE273)/(A275-A273)*(A274-A273)+AE273","v":5600},{"$f":"(AG274-AE274)/(AG246-AE246)*(AF246-AE246)+AE274","v":5928.5},{"$f":"(AG275-AG273)/(A275-A273)*(A274-A273)+AG273","v":6050},{"$f":"(AI274-AG274)/(AI246-AG246)*(AH246-AG246)+AG274","v":2649.9999999999991},{"$f":"(AI275-AI273)/(A275-A273)*(A274-A273)+AI273","v":6900},{"$f":"(AK274-AI274)/(AK246-AI246)*(AJ246-AI246)+AI274","v":899.99999999999909},{"$f":"(AK275-AK273)/(A275-A273)*(A274-A273)+AK273","v":8100},{"$f":"(AM274-AK274)/(AM246-AK246)*(AL246-AK246)+AK274","v":1500.0000000000027},{"$f":"(AM275-AM273)/(A275-A273)*(A274-A273)+AM273","v":10300},{"$f":"(AO274-AM274)/(AO246-AM246)*(AN246-AM246)+AM274","v":3299.9999999999982},{"$f":"(AO275-AO273)/(A275-A273)*(A274-A273)+AO273","v":13800},{"$f":"(AQ274-AO274)/(AQ246-AO246)*(AP246-AO246)+AO274","v":13800},{"$f":"(AQ275-AQ273)/(A275-A273)*(A274-A273)+AQ273","v":13800},29]
[100,{"$f":"B273+1","v":14},"-",{"$f":"(E275-C275)/(E246-C246)*(D246-C246)+C275","v":{"$error":"#VALUE!"}},"-",{"$f":"(G275-E275)/(G246-E246)*(F246-E246)+E275","v":{"$error":"#VALUE!"}},"-",{"$f":"(I275-G275)/(I246-G246)*(H246-G246)+G275","v":{"$error":"#VALUE!"}},"-",{"$f":"(K275-I275)/(K246-I246)*(J246-I246)+I275","v":{"$error":"#VALUE!"}},"-",{"$f":"(M275-K275)/(M246-K246)*(L246-K246)+K275","v":{"$error":"#VALUE!"}},"-",{"$f":"(O275-M275)/(O246-M246)*(N246-M246)+M275","v":{"$error":"#VALUE!"}},"-",{"$f":"(Q275-O275)/(Q246-O246)*(P246-O246)+O275","v":{"$error":"#VALUE!"}},"-",{"$f":"(S275-Q275)/(S246-Q246)*(R246-Q246)+Q275","v":{"$error":"#VALUE!"}},"-",{"$f":"(U275-S275)/(U246-S246)*(T246-S246)+S275","v":{"$error":"#VALUE!"}},"-",{"$f":"(W275-U275)/(W246-U246)*(V246-U246)+U275","v":{"$error":"#VALUE!"}},0,{"$f":"(Y275-W275)/(Y246-W246)*(X246-W246)+W275","v":-7400.0000000000018},1850,{"$f":"(AA275-Y275)/(AA246-Y246)*(Z246-Y246)+Y275","v":-3900.0000000000009},3000,{"$f":"(AC275-AA275)/(AC246-AA246)*(AB246-AA246)+AA275","v":-299.99999999999864},4100,{"$f":"(AE275-AC275)/(AE246-AC246)*(AD246-AC246)+AC275","v":1099.9999999999991},5600,{"$f":"(AG275-AE275)/(AG246-AE246)*(AF246-AE246)+AE275","v":5928.5},6050,{"$f":"(AI275-AG275)/(AI246-AG246)*(AH246-AG246)+AG275","v":2649.9999999999991},6900,{"$f":"(AK275-AI275)/(AK246-AI246)*(AJ246-AI246)+AI275","v":899.99999999999909},8100,{"$f":"(AM275-AK275)/(AM246-AK246)*(AL246-AK246)+AK275","v":1500.0000000000027},10300,{"$f":"(AO275-AM275)/(AO246-AM246)*(AN246-AM246)+AM275","v":3299.9999999999982},13800,{"$f":"(AQ275-AO275)/(AQ246-AO246)*(AP246-AO246)+AO275","v":13800},13800,30]
[{"$f":"IF(AND(AV253>A275,AV253<A277)=TRUE,AV253,0)","v":0},null,{"$f":"(C277-C273)/(A277-A273)*(A276-A273)+C273","v":{"$error":"#VALUE!"}},{"$f":"(E276-C276)/(E246-C246)*(D246-C246)+C276","v":{"$error":"#VALUE!"}},{"$f":"(E277-E273)/(A277-A273)*(A276-A273)+E273","v":{"$error":"#VALUE!"}},{"$f":"(G276-E276)/(G246-E246)*(F246-E246)+E276","v":{"$error":"#VALUE!"}},{"$f":"(G277-G273)/(A277-A273)*(A276-A273)+G273","v":{"$error":"#VALUE!"}},{"$f":"(I276-G276)/(I246-G246)*(H246-G246)+G276","v":{"$error":"#VALUE!"}},{"$f":"(I277-I273)/(A277-A273)*(A276-A273)+I273","v":{"$error":"#VALUE!"}},{"$f":"(K276-I276)/(K246-I246)*(J246-I246)+I276","v":{"$error":"#VALUE!"}},{"$f":"(K277-K273)/(A277-A273)*(A276-A273)+K273","v":{"$error":"#VALUE!"}},{"$f":"(M276-K276)/(M246-K246)*(L246-K246)+K276","v":{"$error":"#VALUE!"}},{"$f":"(M277-M273)/(A277-A273)*(A276-A273)+M273","v":{"$error":"#VALUE!"}},{"$f":"(O276-M276)/(O246-M246)*(N246-M246)+M276","v":{"$error":"#VALUE!"}},{"$f":"(O277-O273)/(A277-A273)*(A276-A273)+O273","v":{"$error":"#VALUE!"}},{"$f":"(Q276-O276)/(Q246-O246)*(P246-O246)+O276","v":{"$error":"#VALUE!"}},{"$f":"(Q277-Q273)/(A277-A273)*(A276-A273)+Q273","v":{"$error":"#VALUE!"}},{"$f":"(S276-Q276)/(S246-Q246)*(R246-Q246)+Q276","v":{"$error":"#VALUE!"}},{"$f":"(S277-S273)/(A277-A273)*(A276-A273)+S273","v":{"$error":"#VALUE!"}},{"$f":"(U276-S276)/(U246-S246)*(T246-S246)+S276","v":{"$error":"#VALUE!"}},{"$f":"(U277-U273)/(A277-A273)*(A276-A273)+U273","v":{"$error":"#VALUE!"}},{"$f":"(W276-U276)/(W246-U246)*(V246-U246)+U276","v":{"$error":"#VALUE!"}},{"$f":"(W277-W273)/(A277-A273)*(A276-A273)+W273","v":{"$error":"#VALUE!"}},{"$f":"(Y276-W276)/(Y246-W246)*(X246-W246)+W276","v":{"$error":"#VALUE!"}},{"$f":"(Y277-Y273)/(A277-A273)*(A276-A273)+Y273","v":4821.4285714285716},{"$f":"(AA276-Y276)/(AA246-Y246)*(Z246-Y246)+Y276","v":-6428.5714285714303},{"$f":"(AA277-AA273)/(A277-A273)*(A276-A273)+AA273","v":7071.4285714285716},{"$f":"(AC276-AA276)/(AC246-AA246)*(AB246-AA246)+AA276","v":13114.285714285714},{"$f":"(AC277-AC273)/(A277-A273)*(A276-A273)+AC273","v":5057.1428571428569},{"$f":"(AE276-AC276)/(AE246-AC246)*(AD246-AC246)+AC276","v":3971.4285714285706},{"$f":"(AE277-AE275)/(A277-A275)*(A276-A275)+AE275","v":5600},{"$f":"(AG276-AE276)/(AG246-AE246)*(AF246-AE246)+AE276","v":5636.5},{"$f":"(AG277-AG275)/(A277-A275)*(A276-A275)+AG275","v":5650},{"$f":"(AI276-AG276)/(AI246-AG246)*(AH246-AG246)+AG276","v":649.99999999999818},{"$f":"(AI277-AI275)/(A277-A275)*(A276-A275)+AI275","v":6900},{"$f":"(AK276-AI276)/(AK246-AI246)*(AJ246-AI246)+AI276","v":899.99999999999909},{"$f":"(AK277-AK275)/(A277-A275)*(A276-A275)+AK275","v":8100},{"$f":"(AM276-AK276)/(AM246-AK246)*(AL246-AK246)+AK276","v":1500.0000000000027},{"$f":"(AM277-AM275)/(A277-A275)*(A276-A275)+AM275","v":10300},{"$f":"(AO276-AM276)/(AO246-AM246)*(AN246-AM246)+AM276","v":3299.9999999999982},{"$f":"(AO277-AO275)/(A277-A275)*(A276-A275)+AO275","v":13800},{"$f":"(AQ276-AO276)/(AQ246-AO246)*(AP246-AO246)+AO276","v":13800},{"$f":"(AQ277-AQ275)/(A277-A275)*(A276-A275)+AQ275","v":13800},31]
[150,{"$f":"B275+1","v":15},"-",{"$f":"(E277-C277)/(E246-C246)*(D246-C246)+C277","v":{"$error":"#VALUE!"}},"-",{"$f":"(G277-E277)/(G246-E246)*(F246-E246)+E277","v":{"$error":"#VALUE!"}},"-",{"$f":"(I277-G277)/(I246-G246)*(H246-G246)+G277","v":{"$error":"#VALUE!"}},"-",{"$f":"(K277-I277)/(K246-I246)*(J246-I246)+I277","v":{"$error":"#VALUE!"}},"-",{"$f":"(M277-K277)/(M246-K246)*(L246-K246)+K277","v":{"$error":"#VALUE!"}},"-",{"$f":"(O277-M277)/(O246-M246)*(N246-M246)+M277","v":{"$error":"#VALUE!"}},"-",{"$f":"(Q277-O277)/(Q246-O246)*(P246-O246)+O277","v":{"$error":"#VALUE!"}},"-",{"$f":"(S277-Q277)/(S246-Q246)*(R246-Q246)+Q277","v":{"$error":"#VALUE!"}},"-",{"$f":"(U277-S277)/(U246-S246)*(T246-S246)+S277","v":{"$error":"#VALUE!"}},"-",{"$f":"(W277-U277)/(W246-U246)*(V246-U246)+U277","v":{"$error":"#VALUE!"}},"-",{"$f":"(Y277-W277)/(Y246-W246)*(X246-W246)+W277","v":{"$error":"#VALUE!"}},0,{"$f":"(AA277-Y277)/(AA246-Y246)*(Z246-Y246)+Y277","v":0},0,{"$f":"(AC277-AA277)/(AC246-AA246)*(AB246-AA246)+AA277","v":-10349.999999999995},3450,{"$f":"(AE277-AC277)/(AE246-AC246)*(AD246-AC246)+AC277","v":-850.00000000000091},5600,{"$f":"(AG277-AE277)/(AG246-AE246)*(AF246-AE246)+AE277","v":6074.5},6250,{"$f":"(AI277-AG277)/(AI246-AG246)*(AH246-AG246)+AG277","v":3649.9999999999991},6900,{"$f":"(AK277-AI277)/(AK246-AI246)*(AJ246-AI246)+AI277","v":899.99999999999909},8100,{"$f":"(AM277-AK277)/(AM246-AK246)*(AL246-AK246)+AK277","v":1500.0000000000027},10300,{"$f":"(AO277-AM277)/(AO246-AM246)*(AN246-AM246)+AM277","v":3299.9999999999982},13800,{"$f":"(AQ277-AO277)/(AQ246-AO246)*(AP246-AO246)+AO277","v":13800},13800,32]
[{"$f":"IF(AND(AV253>A277,AV253<A279)=TRUE,AV253,0)","v":0},null,{"$f":"(C279-C277)/(A279-A277)*(A278-A277)+C277","v":{"$error":"#VALUE!"}},{"$f":"(E278-C278)/(E246-C246)*(D246-C246)+C278","v":{"$error":"#VALUE!"}},{"$f":"(E279-E277)/(A279-A277)*(A278-A277)+E277","v":{"$error":"#VALUE!"}},{"$f":"(G278-E278)/(G246-E246)*(F246-E246)+E278","v":{"$error":"#VALUE!"}},{"$f":"(G279-G277)/(A279-A277)*(A278-A277)+G277","v":{"$error":"#VALUE!"}},{"$f":"(I278-G278)/(I246-G246)*(H246-G246)+G278","v":{"$error":"#VALUE!"}},{"$f":"(I279-I277)/(A279-A277)*(A278-A277)+I277","v":{"$error":"#VALUE!"}},{"$f":"(K278-I278)/(K246-I246)*(J246-I246)+I278","v":{"$error":"#VALUE!"}},{"$f":"(K279-K277)/(A279-A277)*(A278-A277)+K277","v":{"$error":"#VALUE!"}},{"$f":"(M278-K278)/(M246-K246)*(L246-K246)+K278","v":{"$error":"#VALUE!"}},{"$f":"(M279-M277)/(A279-A277)*(A278-A277)+M277","v":{"$error":"#VALUE!"}},{"$f":"(O278-M278)/(O246-M246)*(N246-M246)+M278","v":{"$error":"#VALUE!"}},{"$f":"(O279-O277)/(A279-A277)*(A278-A277)+O277","v":{"$error":"#VALUE!"}},{"$f":"(Q278-O278)/(Q246-O246)*(P246-O246)+O278","v":{"$error":"#VALUE!"}},{"$f":"(Q279-Q277)/(A279-A277)*(A278-A277)+Q277","v":{"$error":"#VALUE!"}},{"$f":"(S278-Q278)/(S246-Q246)*(R246-Q246)+Q278","v":{"$error":"#VALUE!"}},{"$f":"(S279-S277)/(A279-A277)*(A278-A277)+S277","v":{"$error":"#VALUE!"}},{"$f":"(U278-S278)/(U246-S246)*(T246-S246)+S278","v":{"$error":"#VALUE!"}},{"$f":"(U279-U277)/(A279-A277)*(A278-A277)+U277","v":{"$error":"#VALUE!"}},{"$f":"(W278-U278)/(W246-U246)*(V246-U246)+U278","v":{"$error":"#VALUE!"}},{"$f":"(W279-W277)/(A279-A277)*(A278-A277)+W277","v":{"$error":"#VALUE!"}},{"$f":"(Y278-W278)/(Y246-W246)*(X246-W246)+W278","v":{"$error":"#VALUE!"}},{"$f":"(Y279-Y277)/(A279-A277)*(A278-A277)+Y277","v":{"$error":"#VALUE!"}},{"$f":"(AA278-Y278)/(AA246-Y246)*(Z246-Y246)+Y278","v":{"$error":"#VALUE!"}},{"$f":"(AA279-AA277)/(A279-A277)*(A278-A277)+AA277","v":{"$error":"#VALUE!"}},{"$f":"(AC278-AA278)/(AC246-AA246)*(AB246-AA246)+AA278","v":{"$error":"#VALUE!"}},{"$f":"(AC279-AC277)/(A279-A277)*(A278-A277)+AC277","v":13800},{"$f":"(AE278-AC278)/(AE246-AC246)*(AD246-AC246)+AC278","v":27800.000000000004},{"$f":"(AE279-AE277)/(A279-A277)*(A278-A277)+AE277","v":6800},{"$f":"(AG278-AE278)/(AG246-AE246)*(AF246-AE246)+AE278","v":6836.5},{"$f":"(AG279-AG277)/(A279-A277)*(A278-A277)+AG277","v":6850},{"$f":"(AI278-AG278)/(AI246-AG246)*(AH246-AG246)+AG278","v":6650},{"$f":"(AI279-AI277)/(A279-A277)*(A278-A277)+AI277","v":6900},{"$f":"(AK278-AI278)/(AK246-AI246)*(AJ246-AI246)+AI278","v":899.99999999999909},{"$f":"(AK279-AK277)/(A279-A277)*(A278-A277)+AK277","v":8100},{"$f":"(AM278-AK278)/(AM246-AK246)*(AL246-AK246)+AK278","v":1500.0000000000027},{"$f":"(AM279-AM277)/(A279-A277)*(A278-A277)+AM277","v":10300},{"$f":"(AO278-AM278)/(AO246-AM246)*(AN246-AM246)+AM278","v":3299.9999999999982},{"$f":"(AO279-AO277)/(A279-A277)*(A278-A277)+AO277","v":13800},{"$f":"(AQ278-AO278)/(AQ246-AO246)*(AP246-AO246)+AO278","v":13800},{"$f":"(AQ279-AQ277)/(A279-A277)*(A278-A277)+AQ277","v":13800},33]
[200,{"$f":"B277+1","v":16},"-",{"$f":"(E279-C279)/(E246-C246)*(D246-C246)+C279","v":{"$error":"#VALUE!"}},"-",{"$f":"(G279-E279)/(G246-E246)*(F246-E246)+E279","v":{"$error":"#VALUE!"}},"-",{"$f":"(I279-G279)/(I246-G246)*(H246-G246)+G279","v":{"$error":"#VALUE!"}},"-",{"$f":"(K279-I279)/(K246-I246)*(J246-I246)+I279","v":{"$error":"#VALUE!"}},"-",{"$f":"(M279-K279)/(M246-K246)*(L246-K246)+K279","v":{"$error":"#VALUE!"}},"-",{"$f":"(O279-M279)/(O246-M246)*(N246-M246)+M279","v":{"$error":"#VALUE!"}},"-",{"$f":"(Q279-O279)/(Q246-O246)*(P246-O246)+O279","v":{"$error":"#VALUE!"}},"-",{"$f":"(S279-Q279)/(S246-Q246)*(R246-Q246)+Q279","v":{"$error":"#VALUE!"}},"-",{"$f":"(U279-S279)/(U246-S246)*(T246-S246)+S279","v":{"$error":"#VALUE!"}},"-",{"$f":"(W279-U279)/(W246-U246)*(V246-U246)+U279","v":{"$error":"#VALUE!"}},"-",{"$f":"(Y279-W279)/(Y246-W246)*(X246-W246)+W279","v":{"$error":"#VALUE!"}},"-",{"$f":"(AA279-Y279)/(AA246-Y246)*(Z246-Y246)+Y279","v":{"$error":"#VALUE!"}},"-",{"$f":"(AC279-AA279)/(AC246-AA246)*(AB246-AA246)+AA279","v":{"$error":"#VALUE!"}},0,{"$f":"(AE279-AC279)/(AE246-AC246)*(AD246-AC246)+AC279","v":-10400.000000000004},5200,{"$f":"(AG279-AE279)/(AG246-AE246)*(AF246-AE246)+AE279","v":5820.5},6050,{"$f":"(AI279-AG279)/(AI246-AG246)*(AH246-AG246)+AG279","v":2649.9999999999991},6900,{"$f":"(AK279-AI279)/(AK246-AI246)*(AJ246-AI246)+AI279","v":899.99999999999909},8100,{"$f":"(AM279-AK279)/(AM246-AK246)*(AL246-AK246)+AK279","v":1500.0000000000027},10300,{"$f":"(AO279-AM279)/(AO246-AM246)*(AN246-AM246)+AM279","v":3299.9999999999982},13800,{"$f":"(AQ279-AO279)/(AQ246-AO246)*(AP246-AO246)+AO279","v":13800},13800,34]
[{"$f":"IF(AND(AV253>A279,AV253<A281)=TRUE,AV253,0)","v":0},null,{"$f":"(C281-C279)/(A281-A279)*(A280-A279)+C279","v":{"$error":"#VALUE!"}},{"$f":"(E280-C280)/(E246-C246)*(D246-C246)+C280","v":{"$error":"#VALUE!"}},{"$f":"(E281-E279)/(A281-A279)*(A280-A279)+E279","v":{"$error":"#VALUE!"}},{"$f":"(G280-E280)/(G246-E246)*(F246-E246)+E280","v":{"$error":"#VALUE!"}},{"$f":"(G281-G279)/(A281-A279)*(A280-A279)+G279","v":{"$error":"#VALUE!"}},{"$f":"(I280-G280)/(I246-G246)*(H246-G246)+G280","v":{"$error":"#VALUE!"}},{"$f":"(I281-I279)/(A281-A279)*(A280-A279)+I279","v":{"$error":"#VALUE!"}},{"$f":"(K280-I280)/(K246-I246)*(J246-I246)+I280","v":{"$error":"#VALUE!"}},{"$f":"(K281-K279)/(A281-A279)*(A280-A279)+K279","v":{"$error":"#VALUE!"}},{"$f":"(M280-K280)/(M246-K246)*(L246-K246)+K280","v":{"$error":"#VALUE!"}},{"$f":"(M281-M279)/(A281-A279)*(A280-A279)+M279","v":{"$error":"#VALUE!"}},{"$f":"(O280-M280)/(O246-M246)*(N246-M246)+M280","v":{"$error":"#VALUE!"}},{"$f":"(O281-O279)/(A281-A279)*(A280-A279)+O279","v":{"$error":"#VALUE!"}},{"$f":"(Q280-O280)/(Q246-O246)*(P246-O246)+O280","v":{"$error":"#VALUE!"}},{"$f":"(Q281-Q279)/(A281-A279)*(A280-A279)+Q279","v":{"$error":"#VALUE!"}},{"$f":"(S280-Q280)/(S246-Q246)*(R246-Q246)+Q280","v":{"$error":"#VALUE!"}},{"$f":"(S281-S279)/(A281-A279)*(A280-A279)+S279","v":{"$error":"#VALUE!"}},{"$f":"(U280-S280)/(U246-S246)*(T246-S246)+S280","v":{"$error":"#VALUE!"}},{"$f":"(U281-U279)/(A281-A279)*(A280-A279)+U279","v":{"$error":"#VALUE!"}},{"$f":"(W280-U280)/(W246-U246)*(V246-U246)+U280","v":{"$error":"#VALUE!"}},{"$f":"(W281-W279)/(A281-A279)*(A280-A279)+W279","v":{"$error":"#VALUE!"}},{"$f":"(Y280-W280)/(Y246-W246)*(X246-W246)+W280","v":{"$error":"#VALUE!"}},{"$f":"(Y281-Y279)/(A281-A279)*(A280-A279)+Y279","v":{"$error":"#VALUE!"}},{"$f":"(AA280-Y280)/(AA246-Y246)*(Z246-Y246)+Y280","v":{"$error":"#VALUE!"}},{"$f":"(AA281-AA279)/(A281-A279)*(A280-A279)+AA279","v":{"$error":"#VALUE!"}},{"$f":"(AC280-AA280)/(AC246-AA246)*(AB246-AA246)+AA280","v":{"$error":"#VALUE!"}},{"$f":"(AC281-AC279)/(A281-A279)*(A280-A279)+AC279","v":{"$error":"#VALUE!"}},{"$f":"(AE280-AC280)/(AE246-AC246)*(AD246-AC246)+AC280","v":{"$error":"#VALUE!"}},{"$f":"(AE281-AE279)/(A281-A279)*(A280-A279)+AE279","v":15600},{"$f":"(AG280-AE280)/(AG246-AE246)*(AF246-AE246)+AE280","v":9869.5000000000018},{"$f":"(AG281-AG279)/(A281-A279)*(A280-A279)+AG279","v":7750},{"$f":"(AI280-AG280)/(AI246-AG246)*(AH246-AG246)+AG280","v":11150},{"$f":"(AI281-AI279)/(A281-A279)*(A280-A279)+AI279","v":6900},{"$f":"(AK280-AI280)/(AK246-AI246)*(AJ246-AI246)+AI280","v":899.99999999999909},{"$f":"(AK281-AK279)/(A281-A279)*(A280-A279)+AK279","v":8100},{"$f":"(AM280-AK280)/(AM246-AK246)*(AL246-AK246)+AK280","v":1500.0000000000027},{"$f":"(AM281-AM279)/(A281-A279)*(A280-A279)+AM279","v":10300},{"$f":"(AO280-AM280)/(AO246-AM246)*(AN246-AM246)+AM280","v":3299.9999999999982},{"$f":"(AO281-AO279)/(A281-A279)*(A280-A279)+AO279","v":13800},{"$f":"(AQ280-AO280)/(AQ246-AO246)*(AP246-AO246)+AO280","v":13800},{"$f":"(AQ281-AQ279)/(A281-A279)*(A280-A279)+AQ279","v":13800},35]
[300,{"$f":"B279+1","v":17},"-",{"$f":"(E281-C281)/(E246-C246)*(D246-C246)+C281","v":{"$error":"#VALUE!"}},"-",{"$f":"(G281-E281)/(G246-E246)*(F246-E246)+E281","v":{"$error":"#VALUE!"}},"-",{"$f":"(I281-G281)/(I246-G246)*(H246-G246)+G281","v":{"$error":"#VALUE!"}},"-",{"$f":"(K281-I281)/(K246-I246)*(J246-I246)+I281","v":{"$error":"#VALUE!"}},"-",{"$f":"(M281-K281)/(M246-K246)*(L246-K246)+K281","v":{"$error":"#VALUE!"}},"-",{"$f":"(O281-M281)/(O246-M246)*(N246-M246)+M281","v":{"$error":"#VALUE!"}},"-",{"$f":"(Q281-O281)/(Q246-O246)*(P246-O246)+O281","v":{"$error":"#VALUE!"}},"-",{"$f":"(S281-Q281)/(S246-Q246)*(R246-Q246)+Q281","v":{"$error":"#VALUE!"}},"-",{"$f":"(U281-S281)/(U246-S246)*(T246-S246)+S281","v":{"$error":"#VALUE!"}},"-",{"$f":"(W281-U281)/(W246-U246)*(V246-U246)+U281","v":{"$error":"#VALUE!"}},"-",{"$f":"(Y281-W281)/(Y246-W246)*(X246-W246)+W281","v":{"$error":"#VALUE!"}},"-",{"$f":"(AA281-Y281)/(AA246-Y246)*(Z246-Y246)+Y281","v":{"$error":"#VALUE!"}},"-",{"$f":"(AC281-AA281)/(AC246-AA246)*(AB246-AA246)+AA281","v":{"$error":"#VALUE!"}},"-",{"$f":"(AE281-AC281)/(AE246-AC246)*(AD246-AC246)+AC281","v":{"$error":"#VALUE!"}},0,{"$f":"(AG281-AE281)/(AG246-AE246)*(AF246-AE246)+AE281","v":3795.9999999999995},5200,{"$f":"(AI281-AG281)/(AI246-AG246)*(AH246-AG246)+AG281","v":-1600.0000000000018},6900,{"$f":"(AK281-AI281)/(AK246-AI246)*(AJ246-AI246)+AI281","v":899.99999999999909},8100,{"$f":"(AM281-AK281)/(AM246-AK246)*(AL246-AK246)+AK281","v":1500.0000000000027},10300,{"$f":"(AO281-AM281)/(AO246-AM246)*(AN246-AM246)+AM281","v":3299.9999999999982},13800,{"$f":"(AQ281-AO281)/(AQ246-AO246)*(AP246-AO246)+AO281","v":13800},13800,36]
[null,null,null,null,null,null,null,null,null,null,null,null,null,null,null,null,null,null,null,null,null,null,null,null,null,null,null,null,null,null,null,null,null,null,null,null,null,null,null,null,null,null," ",37]
["COL",null,3,{"$f":"C283+1","v":4},{"$f":"D283+1","v":5},6,7,8,9,10,11,12,13,14,15,16,17,18,{"$f":"R283+1","v":19},20,21,22,23,24,25,26,27,28,29,30,31,32,33,34,35,36,37,38,39,40,41,42,43,38]
[null,null,1,2,null,3,null,4,null,5,null,6,null,7,null,8,null,9,null,10,null,11,null,12,null,13,null,14,null,15,null,16,null,17,null,18,null,19,null,20,null,21]
[]
[]
[null,"Рвх",5.0000000000000001E-3,{"$f":"IF(AND(AS294>C287,AS294<E287)=TRUE,AS294,0)","v":0},0.01,{"$f":"IF(AND(AS294>E287,AS294<G287)=TRUE,AS294,0)","v":0},1.4999999999999999E-2,{"$f":"IF(AND(AS294>G287,AS294<I287)=TRUE,AS294,0)","v":0},0.02,{"$f":"IF(AND(AS294>I287,AS294<K287)=TRUE,AS294,0)","v":0},0.03,{"$f":"IF(AND(AS294>K287,AS294<M287)=TRUE,AS294,0)","v":0},0.04,{"$f":"IF(AND(AS294>M287,AS294<O287)=TRUE,AS294,0)","v":0},0.05,{"$f":"IF(AND(AS294>O287,AS294<Q287)=TRUE,AS294,0)","v":0},0.06,{"$f":"IF(AND(AS294>Q287,AS294<S287)=TRUE,AS294,0)","v":0},7.0000000000000007E-2,{"$f":"IF(AND(AS294>S287,AS294<U287)=TRUE,AS294,0)","v":0},0.08,{"$f":"IF(AND(AS294>U287,AS294<W287)=TRUE,AS294,0)","v":0},0.1,{"$f":"IF(AND(AS294>W287,AS294<Y287)=TRUE,AS294,0)","v":0},0.125,{"$f":"IF(AND(AS294>Y287,AS294<AA287)=TRUE,AS294,0)","v":0},0.15,{"$f":"IF(AND(AS294>AA287,AS294<AC287)=TRUE,AS294,0)","v":0},0.2,{"$f":"IF(AND(AS294>AC287,AS294<AE287)=TRUE,AS294,0)","v":0},0.3,{"$f":"IF(AND(AS294>AE287,AS294<AG287)=TRUE,AS294,0)","v":0.373},0.4,{"$f":"IF(AND(AS294>AG287,AS294<AI287)=TRUE,AS294,0)","v":0},0.5,{"$f":"IF(AND(AS294>AI287,AS294<AK287)=TRUE,AS294,0)","v":0},0.6,{"$f":"IF(AND(AS294>AK287,AS294<AM287)=TRUE,AS294,0)","v":0},0.8,{"$f":"IF(AND(AS294>AM287,AS294<AO287)=TRUE,AS294,0)","v":0},1.2,{"$f":"IF(AND(AS294>AO287,AS294<AQ287)=TRUE,AS294,0)","v":0},1.6,1]
["Рвых","МПа",null,null,null,null,null,null,null,null,null,null,null,null,null,null,null,null,null,null,null,null,null,null,null,null,null,null,null,null,null,null,null,null,null,null,null,null,null,null,null,null,null,{"$f":"AR287+1","v":2}]
["кПа",null,null,null,null,null,null,null,null,null,null,null,null,null,null,null,null,null,null,null,null,null,null,null,null,null,null,null,null,null,null,null,null,null,null,null,null,null,null,null,null,null,null,{"$f":"AR288+1","v":3}]
[2,1,730,{"$f":"(E290-C290)/(E287-C287)*(D287-C287)+C290","v":310},1150,{"$f":"(G290-E290)/(G287-E287)*(F287-E287)+E290","v":549.99999999999989},1450,{"$f":"(I290-G290)/(I287-G287)*(H287-G287)+G290","v":-169.99999999999977},1990,{"$f":"(K290-I290)/(K287-I287)*(J287-I287)+I290","v":1150},2410,{"$f":"(M290-K290)/(M287-K287)*(L287-K287)+K290","v":1390.0000000000002},2750,{"$f":"(O290-M290)/(O287-M287)*(N287-M287)+M290","v":1630.0000000000002},3030,{"$f":"(Q290-O290)/(Q287-O287)*(P287-O287)+O290","v":1929.9999999999993},3250,{"$f":"(S290-Q290)/(S287-Q287)*(R287-Q287)+Q290","v":1750.0000000000014},3500,{"$f":"(U290-S290)/(U287-S287)*(T287-S287)+S290","v":2099.9999999999991},3700,{"$f":"(W290-U290)/(W287-U287)*(V287-U287)+U290","v":2100},4100,{"$f":"(Y290-W290)/(Y287-W287)*(X287-W287)+W290","v":1899.9999999999995},4650,{"$f":"(AA290-Y290)/(AA287-Y287)*(Z287-Y287)+Y290","v":1899.9999999999995},5200,{"$f":"(AC290-AA290)/(AC287-AA287)*(AB287-AA287)+AA290","v":2200.0000000000014},6200,{"$f":"(AE290-AC290)/(AE287-AC287)*(AD287-AC287)+AC290","v":2599.9999999999991},8000,{"$f":"(AG290-AE290)/(AG287-AE287)*(AF287-AE287)+AE290","v":8584},8800,{"$f":"(AI290-AG290)/(AI287-AG287)*(AH287-AG287)+AG290","v":1999.9999999999982},10500,{"$f":"(AK290-AI290)/(AK287-AI287)*(AJ287-AI287)+AI290","v":10500},10500,{"$f":"(AM290-AK290)/(AM287-AK287)*(AL287-AK287)+AK290","v":{"$error":"#VALUE!"}},"-",{"$f":"(AO290-AM290)/(AO287-AM287)*(AN287-AM287)+AM290","v":{"$error":"#VALUE!"}},"-",{"$f":"(AQ290-AO290)/(AQ287-AO287)*(AP287-AO287)+AO290","v":{"$error":"#VALUE!"}},"-",4,"Рвх","Q","Qcрасч","Рвых","Рвых"]
[{"$f":"IF(AND(AV294>A290,AV294<A292)=TRUE,AV294,0)","v":0},null,{"$f":"(C292-C290)/(A292-A290)*(A291-A290)+C290","v":990},{"$f":"(E291-C291)/(E287-C287)*(D287-C287)+C291","v":730},{"$f":"(E292-E290)/(A292-A290)*(A291-A290)+E290","v":1250},{"$f":"(G291-E291)/(G287-E287)*(F287-E287)+E291","v":649.99999999999989},{"$f":"(G292-G290)/(A292-A290)*(A291-A290)+G290","v":1550},{"$f":"(I291-G291)/(I287-G287)*(H287-G287)+G291","v":-9.9999999999997726},{"$f":"(I292-I290)/(A292-A290)*(A291-A290)+I290","v":2070},{"$f":"(K291-I291)/(K287-I287)*(J287-I287)+I291","v":1150},{"$f":"(K292-K290)/(A292-A290)*(A291-A290)+K290","v":2530},{"$f":"(M291-K291)/(M287-K287)*(L287-K287)+K291","v":1570.0000000000002},{"$f":"(M292-M290)/(A292-A290)*(A291-A290)+M290","v":2850},{"$f":"(O291-M291)/(O287-M287)*(N287-M287)+M291","v":1890},{"$f":"(O292-O290)/(A292-A290)*(A291-A290)+O290","v":3090},{"$f":"(Q291-O291)/(Q287-O287)*(P287-O287)+O291","v":2289.9999999999995},{"$f":"(Q292-Q290)/(A292-A290)*(A291-A290)+Q290","v":3250},{"$f":"(S291-Q291)/(S287-Q287)*(R287-Q287)+Q291","v":1750.0000000000014},{"$f":"(S292-S290)/(A292-A290)*(A291-A290)+S290","v":3500},{"$f":"(U291-S291)/(U287-S287)*(T287-S287)+S291","v":2099.9999999999991},{"$f":"(U292-U290)/(A292-A290)*(A291-A290)+U290","v":3700},{"$f":"(W291-U291)/(W287-U287)*(V287-U287)+U291","v":2100},{"$f":"(W292-W290)/(A292-A290)*(A291-A290)+W290","v":4100},{"$f":"(Y291-W291)/(Y287-W287)*(X287-W287)+W291","v":1899.9999999999995},{"$f":"(Y292-Y290)/(A292-A290)*(A291-A290)+Y290","v":4650},{"$f":"(AA291-Y291)/(AA287-Y287)*(Z287-Y287)+Y291","v":1899.9999999999995},{"$f":"(AA292-AA290)/(A292-A290)*(A291-A290)+AA290","v":5200},{"$f":"(AC291-AA291)/(AC287-AA287)*(AB287-AA287)+AA291","v":2200.0000000000014},{"$f":"(AC292-AC290)/(A292-A290)*(A291-A290)+AC290","v":6200},{"$f":"(AE291-AC291)/(AE287-AC287)*(AD287-AC287)+AC291","v":2599.9999999999991},{"$f":"(AE292-AE290)/(A292-A290)*(A291-A290)+AE290","v":8000},{"$f":"(AG291-AE291)/(AG287-AE287)*(AF287-AE287)+AE291","v":8584},{"$f":"(AG292-AG290)/(A292-A290)*(A291-A290)+AG290","v":8800},{"$f":"(AI291-AG291)/(AI287-AG287)*(AH287-AG287)+AG291","v":1999.9999999999982},{"$f":"(AI292-AI290)/(A292-A290)*(A291-A290)+AI290","v":10500},{"$f":"(AK291-AI291)/(AK287-AI287)*(AJ287-AI287)+AI291","v":10500},{"$f":"(AK292-AK290)/(A292-A290)*(A291-A290)+AK290","v":10500},{"$f":"(AM291-AK291)/(AM287-AK287)*(AL287-AK287)+AK291","v":{"$error":"#VALUE!"}},{"$f":"(AM292-AM290)/(A292-A290)*(A291-A290)+AM290","v":{"$error":"#VALUE!"}},{"$f":"(AO291-AM291)/(AO287-AM287)*(AN287-AM287)+AM291","v":{"$error":"#VALUE!"}},{"$f":"(AO292-AO290)/(A292-A290)*(A291-A290)+AO290","v":{"$error":"#VALUE!"}},{"$f":"(AQ291-AO291)/(AQ287-AO287)*(AP287-AO287)+AO291","v":{"$error":"#VALUE!"}},{"$f":"(AQ292-AQ290)/(A292-A290)*(A291-A290)+AQ290","v":{"$error":"#VALUE!"}},5]
[3,{"$f":"B290+1","v":2},600,{"$f":"(E292-C292)/(E287-C287)*(D287-C287)+C292","v":100},1100,{"$f":"(G292-E292)/(G287-E287)*(F287-E287)+E292","v":499.99999999999989},1400,{"$f":"(I292-G292)/(I287-G287)*(H287-G287)+G292","v":-249.99999999999977},1950,{"$f":"(K292-I292)/(K287-I287)*(J287-I287)+I292","v":1150},2350,{"$f":"(M292-K292)/(M287-K287)*(L287-K287)+K292","v":1300.0000000000002},2700,{"$f":"(O292-M292)/(O287-M287)*(N287-M287)+M292","v":1500.0000000000002},3000,{"$f":"(Q292-O292)/(Q287-O287)*(P287-O287)+O292","v":1749.9999999999993},3250,{"$f":"(S292-Q292)/(S287-Q287)*(R287-Q287)+Q292","v":1750.0000000000014},3500,{"$f":"(U292-S292)/(U287-S287)*(T287-S287)+S292","v":2099.9999999999991},3700,{"$f":"(W292-U292)/(W287-U287)*(V287-U287)+U292","v":2100},4100,{"$f":"(Y292-W292)/(Y287-W287)*(X287-W287)+W292","v":1899.9999999999995},4650,{"$f":"(AA292-Y292)/(AA287-Y287)*(Z287-Y287)+Y292","v":1899.9999999999995},5200,{"$f":"(AC292-AA292)/(AC287-AA287)*(AB287-AA287)+AA292","v":2200.0000000000014},6200,{"$f":"(AE292-AC292)/(AE287-AC287)*(AD287-AC287)+AC292","v":2599.9999999999991},8000,{"$f":"(AG292-AE292)/(AG287-AE287)*(AF287-AE287)+AE292","v":8584},8800,{"$f":"(AI292-AG292)/(AI287-AG287)*(AH287-AG287)+AG292","v":1999.9999999999982},10500,{"$f":"(AK292-AI292)/(AK287-AI287)*(AJ287-AI287)+AI292","v":10500},10500,{"$f":"(AM292-AK292)/(AM287-AK287)*(AL287-AK287)+AK292","v":{"$error":"#VALUE!"}},"-",{"$f":"(AO292-AM292)/(AO287-AM287)*(AN287-AM287)+AM292","v":{"$error":"#VALUE!"}},"-",{"$f":"(AQ292-AO292)/(AQ287-AO287)*(AP287-AO287)+AO292","v":{"$error":"#VALUE!"}},"-",6,"МПа","нм3/час","нм3/час","кПа","кПа"]
[{"$f":"IF(AND(AV294>A292,AV294<A294)=TRUE,AV294,0)","v":0},null,{"$f":"(C294-C292)/(A294-A292)*(A293-A292)+C292","v":1500},{"$f":"(E293-C293)/(E287-C287)*(D287-C287)+C293","v":1675},{"$f":"(E294-E292)/(A294-A292)*(A293-A292)+E292","v":1325},{"$f":"(G293-E293)/(G287-E287)*(F287-E287)+E293","v":875},{"$f":"(G294-G292)/(A294-A292)*(A293-A292)+G292","v":1550},{"$f":"(I293-G293)/(I287-G287)*(H287-G287)+G293","v":-99.999999999999773},{"$f":"(I294-I292)/(A294-A292)*(A293-A292)+I292","v":2100},{"$f":"(K293-I293)/(K287-I287)*(J287-I287)+I293","v":1510},{"$f":"(K294-K292)/(A294-A292)*(A293-A292)+K292","v":2395},{"$f":"(M293-K293)/(M287-K287)*(L287-K287)+K293","v":1480.0000000000002},{"$f":"(M294-M292)/(A294-A292)*(A293-A292)+M292","v":2700},{"$f":"(O293-M293)/(O287-M287)*(N287-M287)+M293","v":1500.0000000000002},{"$f":"(O294-O292)/(A294-A292)*(A293-A292)+O292","v":3000},{"$f":"(Q293-O293)/(Q287-O287)*(P287-O287)+O293","v":1749.9999999999993},{"$f":"(Q294-Q292)/(A294-A292)*(A293-A292)+Q292","v":3250},{"$f":"(S293-Q293)/(S287-Q287)*(R287-Q287)+Q293","v":1750.0000000000014},{"$f":"(S294-S292)/(E294-E292)*(E293-E292)+S292","v":3500},{"$f":"(U293-S293)/(U287-S287)*(T287-S287)+S293","v":2099.9999999999991},{"$f":"(U294-U292)/(G294-G292)*(G293-G292)+U292","v":3700},{"$f":"(W293-U293)/(W287-U287)*(V287-U287)+U293","v":2100},{"$f":"(W294-W292)/(I294-I292)*(I293-I292)+W292","v":4100},{"$f":"(Y293-W293)/(Y287-W287)*(X287-W287)+W293","v":1899.9999999999995},{"$f":"(Y294-Y292)/(A294-A292)*(A293-A292)+Y292","v":4650},{"$f":"(AA293-Y293)/(AA287-Y287)*(Z287-Y287)+Y293","v":1899.9999999999995},{"$f":"(AA294-AA292)/(E294-E292)*(E293-E292)+AA292","v":5200},{"$f":"(AC293-AA293)/(AC287-AA287)*(AB287-AA287)+AA293","v":2200.0000000000014},{"$f":"(AC294-AC292)/(A294-A292)*(A293-A292)+AC292","v":6200},{"$f":"(AE293-AC293)/(AE287-AC287)*(AD287-AC287)+AC293","v":2599.9999999999991},{"$f":"(AE294-AE292)/(A294-A292)*(A293-A292)+AE292","v":8000},{"$f":"(AG293-AE293)/(AG287-AE287)*(AF287-AE287)+AE293","v":8584},{"$f":"(AG294-AG292)/(A294-A292)*(A293-A292)+AG292","v":8800},{"$f":"(AI293-AG293)/(AI287-AG287)*(AH287-AG287)+AG293","v":1999.9999999999982},{"$f":"(AI294-AI292)/(A294-A292)*(A293-A292)+AI292","v":10500},{"$f":"(AK293-AI293)/(AK287-AI287)*(AJ287-AI287)+AI293","v":10500},{"$f":"(AK294-AK292)/(A294-A292)*(A293-A292)+AK292","v":10500},{"$f":"(AM293-AK293)/(AM287-AK287)*(AL287-AK287)+AK293","v":{"$error":"#VALUE!"}},{"$f":"(AM294-AM292)/(A294-A292)*(A293-A292)+AM292","v":{"$error":"#VALUE!"}},{"$f":"(AO293-AM293)/(AO287-AM287)*(AN287-AM287)+AM293","v":{"$error":"#VALUE!"}},{"$f":"(AO294-AO292)/(A294-A292)*(A293-A292)+AO292","v":{"$error":"#VALUE!"}},{"$f":"(AQ293-AO293)/(AQ287-AO287)*(AP287-AO287)+AO293","v":{"$error":"#VALUE!"}},{"$f":"(AQ294-AQ292)/(A294-A292)*(A293-A292)+AQ292","v":{"$error":"#VALUE!"}},7]
[5,{"$f":"B292+1","v":3},0,{"$f":"(E294-C294)/(E287-C287)*(D287-C287)+C294","v":-950},950,{"$f":"(G294-E294)/(G287-E287)*(F287-E287)+E294","v":249.99999999999989},1300,{"$f":"(I294-G294)/(I287-G287)*(H287-G287)+G294","v":-349.99999999999977},1850,{"$f":"(K294-I294)/(K287-I287)*(J287-I287)+I294","v":909.99999999999989},2320,{"$f":"(M294-K294)/(M287-K287)*(L287-K287)+K294","v":1180.0000000000002},2700,{"$f":"(O294-M294)/(O287-M287)*(N287-M287)+M294","v":1500.0000000000002},3000,{"$f":"(Q294-O294)/(Q287-O287)*(P287-O287)+O294","v":1749.9999999999993},3250,{"$f":"(S294-Q294)/(S287-Q287)*(R287-Q287)+Q294","v":1750.0000000000014},3500,{"$f":"(U294-S294)/(U287-S287)*(T287-S287)+S294","v":2099.9999999999991},3700,{"$f":"(W294-U294)/(W287-U287)*(V287-U287)+U294","v":2100},4100,{"$f":"(Y294-W294)/(Y287-W287)*(X287-W287)+W294","v":1899.9999999999995},4650,{"$f":"(AA294-Y294)/(AA287-Y287)*(Z287-Y287)+Y294","v":1899.9999999999995},5200,{"$f":"(AC294-AA294)/(AC287-AA287)*(AB287-AA287)+AA294","v":2200.0000000000014},6200,{"$f":"(AE294-AC294)/(AE287-AC287)*(AD287-AC287)+AC294","v":2599.9999999999991},8000,{"$f":"(AG294-AE294)/(AG287-AE287)*(AF287-AE287)+AE294","v":8584},8800,{"$f":"(AI294-AG294)/(AI287-AG287)*(AH287-AG287)+AG294","v":1999.9999999999982},10500,{"$f":"(AK294-AI294)/(AK287-AI287)*(AJ287-AI287)+AI294","v":10500},10500,{"$f":"(AM294-AK294)/(AM287-AK287)*(AL287-AK287)+AK294","v":{"$error":"#VALUE!"}},"-",{"$f":"(AO294-AM294)/(AO287-AM287)*(AN287-AM287)+AM294","v":{"$error":"#VALUE!"}},"-",{"$f":"(AQ294-AO294)/(AQ287-AO287)*(AP287-AO287)+AO294","v":{"$error":"#VALUE!"}},"-",8,{"$f":"AK21","v":0.373},{"$f":"AL21","v":229.2},{"$f":"VLOOKUP(AV294,A287:AQ324,HLOOKUP(AS294,A287:AQ324,38,0),0)","v":6423.9999999999991},{"$f":"AN21","v":300},{"$f":"IF(AS294<A290,\"NO\",IF(AS294>A322,\"N0\",IF(VLOOKUP(AS294,A290:AQ322,3,0)>AT294,\"NO\",IF(VLOOKUP(AS294,A290:AQ322,17,0)<AT294,\"NO\",IF(AND(AU294>=AT294-0.1,AU294<AT294+0.1)=TRUE,AV294,\"NO\")))))","v":"NO"}]
[{"$f":"IF(AND(AV294>A294,AV294<A296)=TRUE,AV294,0)","v":0},null,{"$f":"(C296-C294)/(A296-A294)*(A295-A294)+C294","v":{"$error":"#VALUE!"}},{"$f":"(E295-C295)/(E287-C287)*(D287-C287)+C295","v":{"$error":"#VALUE!"}},{"$f":"(E296-E294)/(A296-A294)*(A295-A294)+E294","v":1500},{"$f":"(G295-E295)/(G287-E287)*(F287-E287)+E295","v":1233.333333333333},{"$f":"(G296-G294)/(A296-A294)*(A295-A294)+G294","v":1633.3333333333335},{"$f":"(I295-G295)/(I287-G287)*(H287-G287)+G295","v":233.33333333333417},{"$f":"(I296-I294)/(A296-A294)*(A295-A294)+I294","v":2100},{"$f":"(K295-I295)/(K287-I287)*(J287-I287)+I295","v":1393.333333333333},{"$f":"(K296-K294)/(A296-A294)*(A295-A294)+K294","v":2453.3333333333335},{"$f":"(M295-K295)/(M287-K287)*(L287-K287)+K295","v":1463.3333333333337},{"$f":"(M296-M294)/(A296-A294)*(A295-A294)+M294","v":2783.3333333333335},{"$f":"(O295-M295)/(O287-M287)*(N287-M287)+M295","v":1583.3333333333337},{"$f":"(O296-O294)/(A296-A294)*(A295-A294)+O294","v":3083.3333333333335},{"$f":"(Q295-O295)/(Q287-O287)*(P287-O287)+O295","v":2250.0000000000005},{"$f":"(Q296-Q294)/(A296-A294)*(A295-A294)+Q294","v":3250},{"$f":"(S295-Q295)/(S287-Q287)*(R287-Q287)+Q295","v":1750.0000000000014},{"$f":"(S296-S294)/(A296-A294)*(A295-A294)+S294","v":3500},{"$f":"(U295-S295)/(U287-S287)*(T287-S287)+S295","v":2099.9999999999991},{"$f":"(U296-U294)/(G296-G294)*(G295-G294)+U294","v":3700},{"$f":"(W295-U295)/(W287-U287)*(V287-U287)+U295","v":2100},{"$f":"(W296-W294)/(I296-I294)*(I295-I294)+W294","v":4100},{"$f":"(Y295-W295)/(Y287-W287)*(X287-W287)+W295","v":1899.9999999999995},{"$f":"(Y296-Y294)/(A296-A294)*(A295-A294)+Y294","v":4650},{"$f":"(AA295-Y295)/(AA287-Y287)*(Z287-Y287)+Y295","v":1899.9999999999995},{"$f":"(AA296-AA294)/(A296-A294)*(A295-A294)+AA294","v":5200},{"$f":"(AC295-AA295)/(AC287-AA287)*(AB287-AA287)+AA295","v":2200.0000000000014},{"$f":"(AC296-AC294)/(A296-A294)*(A295-A294)+AC294","v":6200},{"$f":"(AE295-AC295)/(AE287-AC287)*(AD287-AC287)+AC295","v":2599.9999999999991},{"$f":"(AE296-AE294)/(A296-A294)*(A295-A294)+AE294","v":8000},{"$f":"(AG295-AE295)/(AG287-AE287)*(AF287-AE287)+AE295","v":8584},{"$f":"(AG296-AG294)/(A296-A294)*(A295-A294)+AG294","v":8800},{"$f":"(AI295-AG295)/(AI287-AG287)*(AH287-AG287)+AG295","v":1999.9999999999982},{"$f":"(AI296-AI294)/(A296-A294)*(A295-A294)+AI294","v":10500},{"$f":"(AK295-AI295)/(AK287-AI287)*(AJ287-AI287)+AI295","v":10500},{"$f":"(AK296-AK294)/(A296-A294)*(A295-A294)+AK294","v":10500},{"$f":"(AM295-AK295)/(AM287-AK287)*(AL287-AK287)+AK295","v":{"$error":"#VALUE!"}},{"$f":"(AM296-AM294)/(A296-A294)*(A295-A294)+AM294","v":{"$error":"#VALUE!"}},{"$f":"(AO295-AM295)/(AO287-AM287)*(AN287-AM287)+AM295","v":{"$error":"#VALUE!"}},{"$f":"(AO296-AO294)/(A296-A294)*(A295-A294)+AO294","v":{"$error":"#VALUE!"}},{"$f":"(AQ295-AO295)/(AQ287-AO287)*(AP287-AO287)+AO295","v":{"$error":"#VALUE!"}},{"$f":"(AQ296-AQ294)/(A296-A294)*(A295-A294)+AQ294","v":{"$error":"#VALUE!"}},9]
[8,{"$f":"B294+1","v":4},"-",{"$f":"(E296-C296)/(E287-C287)*(D287-C287)+C296","v":{"$error":"#VALUE!"}},620,{"$f":"(G296-E296)/(G287-E287)*(F287-E287)+E296","v":-340.00000000000011},1100,{"$f":"(I296-G296)/(I287-G287)*(H287-G287)+G296","v":-699.99999999999955},1700,{"$f":"(K296-I296)/(K287-I287)*(J287-I287)+I296","v":619.99999999999977},2240,{"$f":"(M296-K296)/(M287-K287)*(L287-K287)+K296","v":1010.0000000000002},2650,{"$f":"(O296-M296)/(O287-M287)*(N287-M287)+M296","v":1450.0000000000002},2950,{"$f":"(Q296-O296)/(Q287-O287)*(P287-O287)+O296","v":1449.9999999999991},3250,{"$f":"(S296-Q296)/(S287-Q287)*(R287-Q287)+Q296","v":1750.0000000000014},3500,{"$f":"(U296-S296)/(U287-S287)*(T287-S287)+S296","v":2099.9999999999991},3700,{"$f":"(W296-U296)/(W287-U287)*(V287-U287)+U296","v":2100},4100,{"$f":"(Y296-W296)/(Y287-W287)*(X287-W287)+W296","v":1899.9999999999995},4650,{"$f":"(AA296-Y296)/(AA287-Y287)*(Z287-Y287)+Y296","v":1899.9999999999995},5200,{"$f":"(AC296-AA296)/(AC287-AA287)*(AB287-AA287)+AA296","v":2200.0000000000014},6200,{"$f":"(AE296-AC296)/(AE287-AC287)*(AD287-AC287)+AC296","v":2599.9999999999991},8000,{"$f":"(AG296-AE296)/(AG287-AE287)*(AF287-AE287)+AE296","v":8584},8800,{"$f":"(AI296-AG296)/(AI287-AG287)*(AH287-AG287)+AG296","v":1999.9999999999982},10500,{"$f":"(AK296-AI296)/(AK287-AI287)*(AJ287-AI287)+AI296","v":10500},10500,{"$f":"(AM296-AK296)/(AM287-AK287)*(AL287-AK287)+AK296","v":{"$error":"#VALUE!"}},"-",{"$f":"(AO296-AM296)/(AO287-AM287)*(AN287-AM287)+AM296","v":{"$error":"#VALUE!"}},"-",{"$f":"(AQ296-AO296)/(AQ287-AO287)*(AP287-AO287)+AO296","v":{"$error":"#VALUE!"}},"-",10,0.1,{"$f":"AL23","v":263.58}]
[{"$f":"IF(AND(AV294>A296,AV294<A298)=TRUE,AV294,0)","v":0},null,{"$f":"(C298-C296)/(A298-A296)*(A297-A296)+C296","v":{"$error":"#VALUE!"}},{"$f":"(E297-C297)/(E287-C287)*(D287-C287)+C297","v":{"$error":"#VALUE!"}},{"$f":"(E298-E296)/(A298-A296)*(A297-A296)+E296","v":3100},{"$f":"(G297-E297)/(G287-E287)*(F287-E287)+E297","v":5900},{"$f":"(G298-G296)/(A298-A296)*(A297-A296)+G296","v":1700},{"$f":"(I297-G297)/(I287-G287)*(H287-G287)+G297","v":-99.999999999999545},{"$f":"(I298-I296)/(A298-A296)*(A297-A296)+I296","v":2300},{"$f":"(K297-I297)/(K287-I287)*(J287-I287)+I297","v":1700},{"$f":"(K298-K296)/(A298-A296)*(A297-A296)+K296","v":2600},{"$f":"(M297-K297)/(M287-K287)*(L287-K287)+K297","v":1850},{"$f":"(M298-M296)/(A298-A296)*(A297-A296)+M296","v":2850},{"$f":"(O297-M297)/(O287-M287)*(N287-M287)+M297","v":1650.0000000000002},{"$f":"(O298-O296)/(A298-A296)*(A297-A296)+O296","v":3150},{"$f":"(Q297-O297)/(Q287-O287)*(P287-O287)+O297","v":1649.9999999999991},{"$f":"(Q298-Q296)/(A298-A296)*(A297-A296)+Q296","v":3450},{"$f":"(S297-Q297)/(S287-Q287)*(R287-Q287)+Q297","v":3150.0000000000005},{"$f":"(S298-S296)/(A298-A296)*(A297-A296)+S296","v":3500},{"$f":"(U297-S297)/(U287-S287)*(T287-S287)+S297","v":2099.9999999999991},{"$f":"(U298-U296)/(G298-G296)*(G297-G296)+U296","v":3700},{"$f":"(W297-U297)/(W287-U287)*(V287-U287)+U297","v":2100},{"$f":"(W298-W296)/(I298-I296)*(I297-I296)+W296","v":4100},{"$f":"(Y297-W297)/(Y287-W287)*(X287-W287)+W297","v":1899.9999999999995},{"$f":"(Y298-Y296)/(A298-A296)*(A297-A296)+Y296","v":4650},{"$f":"(AA297-Y297)/(AA287-Y287)*(Z287-Y287)+Y297","v":1899.9999999999995},{"$f":"(AA298-AA296)/(A298-A296)*(A297-A296)+AA296","v":5200},{"$f":"(AC297-AA297)/(AC287-AA287)*(AB287-AA287)+AA297","v":2200.0000000000014},{"$f":"(AC298-AC296)/(A298-A296)*(A297-A296)+AC296","v":6200},{"$f":"(AE297-AC297)/(AE287-AC287)*(AD287-AC287)+AC297","v":2599.9999999999991},{"$f":"(AE298-AE296)/(A298-A296)*(A297-A296)+AE296","v":8000},{"$f":"(AG297-AE297)/(AG287-AE287)*(AF287-AE287)+AE297","v":8584},{"$f":"(AG298-AG296)/(A298-A296)*(A297-A296)+AG296","v":8800},{"$f":"(AI297-AG297)/(AI287-AG287)*(AH287-AG287)+AG297","v":1999.9999999999982},{"$f":"(AI298-AI296)/(A298-A296)*(A297-A296)+AI296","v":10500},{"$f":"(AK297-AI297)/(AK287-AI287)*(AJ287-AI287)+AI297","v":10500},{"$f":"(AK298-AK296)/(A298-A296)*(A297-A296)+AK296","v":10500},{"$f":"(AM297-AK297)/(AM287-AK287)*(AL287-AK287)+AK297","v":{"$error":"#VALUE!"}},{"$f":"(AM298-AM296)/(A298-A296)*(A297-A296)+AM296","v":{"$error":"#VALUE!"}},{"$f":"(AO297-AM297)/(AO287-AM287)*(AN287-AM287)+AM297","v":{"$error":"#VALUE!"}},{"$f":"(AO298-AO296)/(A298-A296)*(A297-A296)+AO296","v":{"$error":"#VALUE!"}},{"$f":"(AQ297-AO297)/(AQ287-AO287)*(AP287-AO287)+AO297","v":{"$error":"#VALUE!"}},{"$f":"(AQ298-AQ296)/(A298-A296)*(A297-A296)+AQ296","v":{"$error":"#VALUE!"}},11]
[10,{"$f":"B296+1","v":5},"-",{"$f":"(E298-C298)/(E287-C287)*(D287-C287)+C298","v":{"$error":"#VALUE!"}},0,{"$f":"(G298-E298)/(G287-E287)*(F287-E287)+E298","v":-1900.0000000000002},950,{"$f":"(I298-G298)/(I287-G287)*(H287-G287)+G298","v":-849.99999999999955},1550,{"$f":"(K298-I298)/(K287-I287)*(J287-I287)+I298","v":349.99999999999977},2150,{"$f":"(M298-K298)/(M287-K287)*(L287-K287)+K298","v":800.00000000000023},2600,{"$f":"(O298-M298)/(O287-M287)*(N287-M287)+M298","v":1400.0000000000002},2900,{"$f":"(Q298-O298)/(Q287-O287)*(P287-O287)+O298","v":1399.9999999999991},3200,{"$f":"(S298-Q298)/(S287-Q287)*(R287-Q287)+Q298","v":1400.0000000000016},3500,{"$f":"(U298-S298)/(U287-S287)*(T287-S287)+S298","v":2099.9999999999991},3700,{"$f":"(W298-U298)/(W287-U287)*(V287-U287)+U298","v":2100},4100,{"$f":"(Y298-W298)/(Y287-W287)*(X287-W287)+W298","v":1899.9999999999995},4650,{"$f":"(AA298-Y298)/(AA287-Y287)*(Z287-Y287)+Y298","v":1899.9999999999995},5200,{"$f":"(AC298-AA298)/(AC287-AA287)*(AB287-AA287)+AA298","v":2200.0000000000014},6200,{"$f":"(AE298-AC298)/(AE287-AC287)*(AD287-AC287)+AC298","v":2599.9999999999991},8000,{"$f":"(AG298-AE298)/(AG287-AE287)*(AF287-AE287)+AE298","v":8584},8800,{"$f":"(AI298-AG298)/(AI287-AG287)*(AH287-AG287)+AG298","v":1999.9999999999982},10500,{"$f":"(AK298-AI298)/(AK287-AI287)*(AJ287-AI287)+AI298","v":10500},10500,{"$f":"(AM298-AK298)/(AM287-AK287)*(AL287-AK287)+AK298","v":{"$error":"#VALUE!"}},"-",{"$f":"(AO298-AM298)/(AO287-AM287)*(AN287-AM287)+AM298","v":{"$error":"#VALUE!"}},"-",{"$f":"(AQ298-AO298)/(AQ287-AO287)*(AP287-AO287)+AO298","v":{"$error":"#VALUE!"}},"-",12,"Регулятор давления",null,null,{"$f":"Лист1!F80","v":"РЕД-6-100-Н DN100 Qmax=10500 нм3/час"}]
[{"$f":"IF(AND(AV294>A298,AV294<A300)=TRUE,AV294,0)","v":0},null,{"$f":"(C300-C298)/(A300-A298)*(A299-A298)+C298","v":{"$error":"#VALUE!"}},{"$f":"(E299-C299)/(E287-C287)*(D287-C287)+C299","v":{"$error":"#VALUE!"}},{"$f":"(E300-E298)/(A300-A298)*(A299-A298)+E298","v":{"$error":"#VALUE!"}},{"$f":"(G299-E299)/(G287-E287)*(F287-E287)+E299","v":{"$error":"#VALUE!"}},{"$f":"(G300-G298)/(A300-A298)*(A299-A298)+G298","v":2850},{"$f":"(I299-G299)/(I287-G287)*(H287-G287)+G299","v":4350},{"$f":"(I300-I298)/(A300-A298)*(A299-A298)+I298","v":2350},{"$f":"(K299-I299)/(K287-I287)*(J287-I287)+I299","v":1950},{"$f":"(K300-K298)/(A300-A298)*(A299-A298)+K298","v":2550},{"$f":"(M299-K299)/(M287-K287)*(L287-K287)+K299","v":1500.0000000000002},{"$f":"(M300-M298)/(A300-A298)*(A299-A298)+M298","v":2900},{"$f":"(O299-M299)/(O287-M287)*(N287-M287)+M299","v":2500},{"$f":"(O300-O298)/(A300-A298)*(A299-A298)+O298","v":3000},{"$f":"(Q299-O299)/(Q287-O287)*(P287-O287)+O299","v":1499.9999999999991},{"$f":"(Q300-Q298)/(A300-A298)*(A299-A298)+Q298","v":3300},{"$f":"(S299-Q299)/(S287-Q287)*(R287-Q287)+Q299","v":900.00000000000227},{"$f":"(S300-S298)/(A300-A298)*(A299-A298)+S298","v":3700},{"$f":"(U299-S299)/(U287-S287)*(T287-S287)+S299","v":3700},{"$f":"(U300-U298)/(A300-A298)*(A299-A298)+U298","v":3700},{"$f":"(W299-U299)/(W287-U287)*(V287-U287)+U299","v":2100},{"$f":"(W300-W298)/(A300-A298)*(A299-A298)+W298","v":4100},{"$f":"(Y299-W299)/(Y287-W287)*(X287-W287)+W299","v":1899.9999999999995},{"$f":"(Y300-Y298)/(A300-A298)*(A299-A298)+Y298","v":4650},{"$f":"(AA299-Y299)/(AA287-Y287)*(Z287-Y287)+Y299","v":1899.9999999999995},{"$f":"(AA300-AA298)/(A300-A298)*(A299-A298)+AA298","v":5200},{"$f":"(AC299-AA299)/(AC287-AA287)*(AB287-AA287)+AA299","v":2200.0000000000014},{"$f":"(AC300-AC298)/(A300-A298)*(A299-A298)+AC298","v":6200},{"$f":"(AE299-AC299)/(AE287-AC287)*(AD287-AC287)+AC299","v":2599.9999999999991},{"$f":"(AE300-AE298)/(A300-A298)*(A299-A298)+AE298","v":8000},{"$f":"(AG299-AE299)/(AG287-AE287)*(AF287-AE287)+AE299","v":8584},{"$f":"(AG300-AG298)/(A300-A298)*(A299-A298)+AG298","v":8800},{"$f":"(AI299-AG299)/(AI287-AG287)*(AH287-AG287)+AG299","v":1999.9999999999982},{"$f":"(AI300-AI298)/(A300-A298)*(A299-A298)+AI298","v":10500},{"$f":"(AK299-AI299)/(AK287-AI287)*(AJ287-AI287)+AI299","v":10500},{"$f":"(AK300-AK298)/(A300-A298)*(A299-A298)+AK298","v":10500},{"$f":"(AM299-AK299)/(AM287-AK287)*(AL287-AK287)+AK299","v":{"$error":"#VALUE!"}},{"$f":"(AM300-AM298)/(A300-A298)*(A299-A298)+AM298","v":{"$error":"#VALUE!"}},{"$f":"(AO299-AM299)/(AO287-AM287)*(AN287-AM287)+AM299","v":{"$error":"#VALUE!"}},{"$f":"(AO300-AO298)/(A300-A298)*(A299-A298)+AO298","v":{"$error":"#VALUE!"}},{"$f":"(AQ299-AO299)/(AQ287-AO287)*(AP287-AO287)+AO299","v":{"$error":"#VALUE!"}},{"$f":"(AQ300-AQ298)/(A300-A298)*(A299-A298)+AQ298","v":{"$error":"#VALUE!"}},13]
[15,{"$f":"B298+1","v":6},"-",{"$f":"(E300-C300)/(E287-C287)*(D287-C287)+C300","v":{"$error":"#VALUE!"}},"-",{"$f":"(G300-E300)/(G287-E287)*(F287-E287)+E300","v":{"$error":"#VALUE!"}},0,{"$f":"(I300-G300)/(I287-G287)*(H287-G287)+G300","v":-3449.9999999999991},1150,{"$f":"(K300-I300)/(K287-I287)*(J287-I287)+I300","v":-450.00000000000023},1950,{"$f":"(M300-K300)/(M287-K287)*(L287-K287)+K300","v":450.00000000000023},2450,{"$f":"(O300-M300)/(O287-M287)*(N287-M287)+M300","v":850.00000000000023},2850,{"$f":"(Q300-O300)/(Q287-O287)*(P287-O287)+O300","v":1349.9999999999991},3150,{"$f":"(S300-Q300)/(S287-Q287)*(R287-Q287)+Q300","v":1650.0000000000014},3400,{"$f":"(U300-S300)/(U287-S287)*(T287-S287)+S300","v":1299.9999999999986},3700,{"$f":"(W300-U300)/(W287-U287)*(V287-U287)+U300","v":2100},4100,{"$f":"(Y300-W300)/(Y287-W287)*(X287-W287)+W300","v":1899.9999999999995},4650,{"$f":"(AA300-Y300)/(AA287-Y287)*(Z287-Y287)+Y300","v":1899.9999999999995},5200,{"$f":"(AC300-AA300)/(AC287-AA287)*(AB287-AA287)+AA300","v":2200.0000000000014},6200,{"$f":"(AE300-AC300)/(AE287-AC287)*(AD287-AC287)+AC300","v":2599.9999999999991},8000,{"$f":"(AG300-AE300)/(AG287-AE287)*(AF287-AE287)+AE300","v":8584},8800,{"$f":"(AI300-AG300)/(AI287-AG287)*(AH287-AG287)+AG300","v":1999.9999999999982},10500,{"$f":"(AK300-AI300)/(AK287-AI287)*(AJ287-AI287)+AI300","v":10500},10500,{"$f":"(AM300-AK300)/(AM287-AK287)*(AL287-AK287)+AK300","v":{"$error":"#VALUE!"}},"-",{"$f":"(AO300-AM300)/(AO287-AM287)*(AN287-AM287)+AM300","v":{"$error":"#VALUE!"}},"-",{"$f":"(AQ300-AO300)/(AQ287-AO287)*(AP287-AO287)+AO300","v":{"$error":"#VALUE!"}},"-",14]
[{"$f":"IF(AND(AV294>A300,AV294<A302)=TRUE,AV294,0)","v":0},null,{"$f":"(C302-C300)/(A302-A300)*(A301-A300)+C300","v":{"$error":"#VALUE!"}},{"$f":"(E301-C301)/(E287-C287)*(D287-C287)+C301","v":{"$error":"#VALUE!"}},{"$f":"(E302-E300)/(A302-A300)*(A301-A300)+E300","v":{"$error":"#VALUE!"}},{"$f":"(G301-E301)/(G287-E287)*(F287-E287)+E301","v":{"$error":"#VALUE!"}},{"$f":"(G302-G300)/(A302-A300)*(A301-A300)+G300","v":{"$error":"#VALUE!"}},{"$f":"(I301-G301)/(I287-G287)*(H287-G287)+G301","v":{"$error":"#VALUE!"}},{"$f":"(I302-I300)/(A302-A300)*(A301-A300)+I300","v":4600},{"$f":"(K301-I301)/(K287-I287)*(J287-I287)+I301","v":7800},{"$f":"(K302-K300)/(A302-A300)*(A301-A300)+K300","v":3000},{"$f":"(M301-K301)/(M287-K287)*(L287-K287)+K301","v":2850},{"$f":"(M302-M300)/(A302-A300)*(A301-A300)+M300","v":3050},{"$f":"(O301-M301)/(O287-M287)*(N287-M287)+M301","v":2050},{"$f":"(O302-O300)/(A302-A300)*(A301-A300)+O300","v":3300},{"$f":"(Q301-O301)/(Q287-O287)*(P287-O287)+O301","v":2549.9999999999995},{"$f":"(Q302-Q300)/(A302-A300)*(A301-A300)+Q300","v":3450},{"$f":"(S301-Q301)/(S287-Q287)*(R287-Q287)+Q301","v":3749.9999999999995},{"$f":"(S302-S300)/(A302-A300)*(A301-A300)+S300","v":3400},{"$f":"(U301-S301)/(U287-S287)*(T287-S287)+S301","v":1299.9999999999986},{"$f":"(U302-U300)/(A302-A300)*(A301-A300)+U300","v":3700},{"$f":"(W301-U301)/(W287-U287)*(V287-U287)+U301","v":2100},{"$f":"(W302-W300)/(A302-A300)*(A301-A300)+W300","v":4100},{"$f":"(Y301-W301)/(Y287-W287)*(X287-W287)+W301","v":1899.9999999999995},{"$f":"(Y302-Y300)/(A302-A300)*(A301-A300)+Y300","v":4650},{"$f":"(AA301-Y301)/(AA287-Y287)*(Z287-Y287)+Y301","v":1899.9999999999995},{"$f":"(AA302-AA300)/(A302-A300)*(A301-A300)+AA300","v":5200},{"$f":"(AC301-AA301)/(AC287-AA287)*(AB287-AA287)+AA301","v":2200.0000000000014},{"$f":"(AC302-AC300)/(A302-A300)*(A301-A300)+AC300","v":6200},{"$f":"(AE301-AC301)/(AE287-AC287)*(AD287-AC287)+AC301","v":2599.9999999999991},{"$f":"(AE302-AE300)/(A302-A300)*(A301-A300)+AE300","v":8000},{"$f":"(AG301-AE301)/(AG287-AE287)*(AF287-AE287)+AE301","v":8584},{"$f":"(AG302-AG300)/(A302-A300)*(A301-A300)+AG300","v":8800},{"$f":"(AI301-AG301)/(AI287-AG287)*(AH287-AG287)+AG301","v":1999.9999999999982},{"$f":"(AI302-AI300)/(A302-A300)*(A301-A300)+AI300","v":10500},{"$f":"(AK301-AI301)/(AK287-AI287)*(AJ287-AI287)+AI301","v":10500},{"$f":"(AK302-AK300)/(A302-A300)*(A301-A300)+AK300","v":10500},{"$f":"(AM301-AK301)/(AM287-AK287)*(AL287-AK287)+AK301","v":{"$error":"#VALUE!"}},{"$f":"(AM302-AM300)/(A302-A300)*(A301-A300)+AM300","v":{"$error":"#VALUE!"}},{"$f":"(AO301-AM301)/(AO287-AM287)*(AN287-AM287)+AM301","v":{"$error":"#VALUE!"}},{"$f":"(AO302-AO300)/(A302-A300)*(A301-A300)+AO300","v":{"$error":"#VALUE!"}},{"$f":"(AQ301-AO301)/(AQ287-AO287)*(AP287-AO287)+AO301","v":{"$error":"#VALUE!"}},{"$f":"(AQ302-AQ300)/(A302-A300)*(A301-A300)+AQ300","v":{"$error":"#VALUE!"}},15]
[20,{"$f":"B300+1","v":7},"-",{"$f":"(E302-C302)/(E287-C287)*(D287-C287)+C302","v":{"$error":"#VALUE!"}},"-",{"$f":"(G302-E302)/(G287-E287)*(F287-E287)+E302","v":{"$error":"#VALUE!"}},"-",{"$f":"(I302-G302)/(I287-G287)*(H287-G287)+G302","v":{"$error":"#VALUE!"}},0,{"$f":"(K302-I302)/(K287-I287)*(J287-I287)+I302","v":-3200.0000000000005},1600,{"$f":"(M302-K302)/(M287-K287)*(L287-K287)+K302","v":-349.99999999999955},2250,{"$f":"(O302-M302)/(O287-M287)*(N287-M287)+M302","v":450.00000000000023},2700,{"$f":"(Q302-O302)/(Q287-O287)*(P287-O287)+O302","v":949.99999999999909},3050,{"$f":"(S302-Q302)/(S287-Q287)*(R287-Q287)+Q302","v":950.00000000000182},3400,{"$f":"(U302-S302)/(U287-S287)*(T287-S287)+S302","v":1299.9999999999986},3700,{"$f":"(W302-U302)/(W287-U287)*(V287-U287)+U302","v":2100},4100,{"$f":"(Y302-W302)/(Y287-W287)*(X287-W287)+W302","v":1899.9999999999995},4650,{"$f":"(AA302-Y302)/(AA287-Y287)*(Z287-Y287)+Y302","v":1899.9999999999995},5200,{"$f":"(AC302-AA302)/(AC287-AA287)*(AB287-AA287)+AA302","v":2200.0000000000014},6200,{"$f":"(AE302-AC302)/(AE287-AC287)*(AD287-AC287)+AC302","v":2599.9999999999991},8000,{"$f":"(AG302-AE302)/(AG287-AE287)*(AF287-AE287)+AE302","v":8584},8800,{"$f":"(AI302-AG302)/(AI287-AG287)*(AH287-AG287)+AG302","v":1999.9999999999982},10500,{"$f":"(AK302-AI302)/(AK287-AI287)*(AJ287-AI287)+AI302","v":10500},10500,{"$f":"(AM302-AK302)/(AM287-AK287)*(AL287-AK287)+AK302","v":{"$error":"#VALUE!"}},"-",{"$f":"(AO302-AM302)/(AO287-AM287)*(AN287-AM287)+AM302","v":{"$error":"#VALUE!"}},"-",{"$f":"(AQ302-AO302)/(AQ287-AO287)*(AP287-AO287)+AO302","v":{"$error":"#VALUE!"}},"-",16]
[{"$f":"IF(AND(AV294>A302,AV294<A304)=TRUE,AV294,0)","v":0},null,{"$f":"(C304-C302)/(A304-A302)*(A303-A302)+C302","v":{"$error":"#VALUE!"}},{"$f":"(E303-C303)/(E287-C287)*(D287-C287)+C303","v":{"$error":"#VALUE!"}},{"$f":"(E304-E302)/(A304-A302)*(A303-A302)+E302","v":{"$error":"#VALUE!"}},{"$f":"(G303-E303)/(G287-E287)*(F287-E287)+E303","v":{"$error":"#VALUE!"}},{"$f":"(G304-G302)/(A304-A302)*(A303-A302)+G302","v":{"$error":"#VALUE!"}},{"$f":"(I303-G303)/(I287-G287)*(H287-G287)+G303","v":{"$error":"#VALUE!"}},{"$f":"(I304-I302)/(A304-A302)*(A303-A302)+I302","v":{"$error":"#VALUE!"}},{"$f":"(K303-I303)/(K287-I287)*(J287-I287)+I303","v":{"$error":"#VALUE!"}},{"$f":"(K304-K302)/(A304-A302)*(A303-A302)+K302","v":8000},{"$f":"(M303-K303)/(M287-K287)*(L287-K287)+K303","v":22849.999999999996},{"$f":"(M304-M302)/(A304-A302)*(A303-A302)+M302","v":3050},{"$f":"(O303-M303)/(O287-M287)*(N287-M287)+M303","v":2050},{"$f":"(O304-O302)/(A304-A302)*(A303-A302)+O302","v":3300},{"$f":"(Q303-O303)/(Q287-O287)*(P287-O287)+O303","v":2549.9999999999995},{"$f":"(Q304-Q302)/(A304-A302)*(A303-A302)+Q302","v":3450},{"$f":"(S303-Q303)/(S287-Q287)*(R287-Q287)+Q303","v":1350.0000000000018},{"$f":"(S304-S302)/(A304-A302)*(A303-A302)+S302","v":3800},{"$f":"(U303-S303)/(U287-S287)*(T287-S287)+S303","v":3099.9999999999995},{"$f":"(U304-U302)/(A304-A302)*(A303-A302)+U302","v":3900},{"$f":"(W303-U303)/(W287-U287)*(V287-U287)+U303","v":3100},{"$f":"(W304-W302)/(A304-A302)*(A303-A302)+W302","v":4100},{"$f":"(Y303-W303)/(Y287-W287)*(X287-W287)+W303","v":1899.9999999999995},{"$f":"(Y304-Y302)/(A304-A302)*(A303-A302)+Y302","v":4650},{"$f":"(AA303-Y303)/(AA287-Y287)*(Z287-Y287)+Y303","v":1899.9999999999995},{"$f":"(AA304-AA302)/(A304-A302)*(A303-A302)+AA302","v":5200},{"$f":"(AC303-AA303)/(AC287-AA287)*(AB287-AA287)+AA303","v":2200.0000000000014},{"$f":"(AC304-AC302)/(A304-A302)*(A303-A302)+AC302","v":6200},{"$f":"(AE303-AC303)/(AE287-AC287)*(AD287-AC287)+AC303","v":2599.9999999999991},{"$f":"(AE304-AE302)/(A304-A302)*(A303-A302)+AE302","v":8000},{"$f":"(AG303-AE303)/(AG287-AE287)*(AF287-AE287)+AE303","v":8584},{"$f":"(AG304-AG302)/(A304-A302)*(A303-A302)+AG302","v":8800},{"$f":"(AI303-AG303)/(AI287-AG287)*(AH287-AG287)+AG303","v":1999.9999999999982},{"$f":"(AI304-AI302)/(A304-A302)*(A303-A302)+AI302","v":10500},{"$f":"(AK303-AI303)/(AK287-AI287)*(AJ287-AI287)+AI303","v":10500},{"$f":"(AK304-AK302)/(A304-A302)*(A303-A302)+AK302","v":10500},{"$f":"(AM303-AK303)/(AM287-AK287)*(AL287-AK287)+AK303","v":{"$error":"#VALUE!"}},{"$f":"(AM304-AM302)/(A304-A302)*(A303-A302)+AM302","v":{"$error":"#VALUE!"}},{"$f":"(AO303-AM303)/(AO287-AM287)*(AN287-AM287)+AM303","v":{"$error":"#VALUE!"}},{"$f":"(AO304-AO302)/(A304-A302)*(A303-A302)+AO302","v":{"$error":"#VALUE!"}},{"$f":"(AQ303-AO303)/(AQ287-AO287)*(AP287-AO287)+AO303","v":{"$error":"#VALUE!"}},{"$f":"(AQ304-AQ302)/(A304-A302)*(A303-A302)+AQ302","v":{"$error":"#VALUE!"}},17]
[25,{"$f":"B302+1","v":8},"-",{"$f":"(E304-C304)/(E287-C287)*(D287-C287)+C304","v":{"$error":"#VALUE!"}},"-",{"$f":"(G304-E304)/(G287-E287)*(F287-E287)+E304","v":{"$error":"#VALUE!"}},"-",{"$f":"(I304-G304)/(I287-G287)*(H287-G287)+G304","v":{"$error":"#VALUE!"}},"-",{"$f":"(K304-I304)/(K287-I287)*(J287-I287)+I304","v":{"$error":"#VALUE!"}},0,{"$f":"(M304-K304)/(M287-K287)*(L287-K287)+K304","v":-6149.9999999999991},2050,{"$f":"(O304-M304)/(O287-M287)*(N287-M287)+M304","v":50.000000000000227},2550,{"$f":"(Q304-O304)/(Q287-O287)*(P287-O287)+O304","v":549.99999999999886},2950,{"$f":"(S304-Q304)/(S287-Q287)*(R287-Q287)+Q304","v":850.00000000000182},3300,{"$f":"(U304-S304)/(U287-S287)*(T287-S287)+S304","v":849.99999999999864},3650,{"$f":"(W304-U304)/(W287-U287)*(V287-U287)+U304","v":1850.0000000000002},4100,{"$f":"(Y304-W304)/(Y287-W287)*(X287-W287)+W304","v":1899.9999999999995},4650,{"$f":"(AA304-Y304)/(AA287-Y287)*(Z287-Y287)+Y304","v":1899.9999999999995},5200,{"$f":"(AC304-AA304)/(AC287-AA287)*(AB287-AA287)+AA304","v":2200.0000000000014},6200,{"$f":"(AE304-AC304)/(AE287-AC287)*(AD287-AC287)+AC304","v":2599.9999999999991},8000,{"$f":"(AG304-AE304)/(AG287-AE287)*(AF287-AE287)+AE304","v":8584},8800,{"$f":"(AI304-AG304)/(AI287-AG287)*(AH287-AG287)+AG304","v":1999.9999999999982},10500,{"$f":"(AK304-AI304)/(AK287-AI287)*(AJ287-AI287)+AI304","v":10500},10500,{"$f":"(AM304-AK304)/(AM287-AK287)*(AL287-AK287)+AK304","v":{"$error":"#VALUE!"}},"-",{"$f":"(AO304-AM304)/(AO287-AM287)*(AN287-AM287)+AM304","v":{"$error":"#VALUE!"}},"-",{"$f":"(AQ304-AO304)/(AQ287-AO287)*(AP287-AO287)+AO304","v":{"$error":"#VALUE!"}},"-",18]
[{"$f":"IF(AND(AV294>A304,AV294<A306)=TRUE,AV294,0)","v":0},null,{"$f":"(C306-C304)/(A306-A304)*(A305-A304)+C304","v":{"$error":"#VALUE!"}},{"$f":"(E305-C305)/(E287-C287)*(D287-C287)+C305","v":{"$error":"#VALUE!"}},{"$f":"(E306-E304)/(A306-A304)*(A305-A304)+E304","v":{"$error":"#VALUE!"}},{"$f":"(G305-E305)/(G287-E287)*(F287-E287)+E305","v":{"$error":"#VALUE!"}},{"$f":"(G306-G304)/(A306-A304)*(A305-A304)+G304","v":{"$error":"#VALUE!"}},{"$f":"(I305-G305)/(I287-G287)*(H287-G287)+G305","v":{"$error":"#VALUE!"}},{"$f":"(I306-I304)/(A306-A304)*(A305-A304)+I304","v":{"$error":"#VALUE!"}},{"$f":"(K305-I305)/(K287-I287)*(J287-I287)+I305","v":{"$error":"#VALUE!"}},{"$f":"(K306-K304)/(A306-A304)*(A305-A304)+K304","v":{"$error":"#VALUE!"}},{"$f":"(M305-K305)/(M287-K287)*(L287-K287)+K305","v":{"$error":"#VALUE!"}},{"$f":"(M306-M304)/(A306-A304)*(A305-A304)+M304","v":3800},{"$f":"(O305-M305)/(O287-M287)*(N287-M287)+M305","v":4800},{"$f":"(O306-O304)/(A306-A304)*(A305-A304)+O304","v":3550},{"$f":"(Q305-O305)/(Q287-O287)*(P287-O287)+O305","v":4050.0000000000005},{"$f":"(Q306-Q304)/(A306-A304)*(A305-A304)+Q304","v":3450},{"$f":"(S305-Q305)/(S287-Q287)*(R287-Q287)+Q305","v":1350.0000000000018},{"$f":"(S306-S304)/(A306-A304)*(A305-A304)+S304","v":3800},{"$f":"(U305-S305)/(U287-S287)*(T287-S287)+S305","v":4850.0000000000009},{"$f":"(U306-U304)/(A306-A304)*(A305-A304)+U304","v":3650},{"$f":"(W305-U305)/(W287-U287)*(V287-U287)+U305","v":1850.0000000000002},{"$f":"(W306-W304)/(A306-A304)*(A305-A304)+W304","v":4100},{"$f":"(Y305-W305)/(Y287-W287)*(X287-W287)+W305","v":1899.9999999999995},{"$f":"(Y306-Y304)/(A306-A304)*(A305-A304)+Y304","v":4650},{"$f":"(AA305-Y305)/(AA287-Y287)*(Z287-Y287)+Y305","v":1899.9999999999995},{"$f":"(AA306-AA304)/(A306-A304)*(A305-A304)+AA304","v":5200},{"$f":"(AC305-AA305)/(AC287-AA287)*(AB287-AA287)+AA305","v":2200.0000000000014},{"$f":"(AC306-AC304)/(A306-A304)*(A305-A304)+AC304","v":6200},{"$f":"(AE305-AC305)/(AE287-AC287)*(AD287-AC287)+AC305","v":2599.9999999999991},{"$f":"(AE306-AE304)/(A306-A304)*(A305-A304)+AE304","v":8000},{"$f":"(AG305-AE305)/(AG287-AE287)*(AF287-AE287)+AE305","v":8584},{"$f":"(AG306-AG304)/(A306-A304)*(A305-A304)+AG304","v":8800},{"$f":"(AI305-AG305)/(AI287-AG287)*(AH287-AG287)+AG305","v":1999.9999999999982},{"$f":"(AI306-AI304)/(A306-A304)*(A305-A304)+AI304","v":10500},{"$f":"(AK305-AI305)/(AK287-AI287)*(AJ287-AI287)+AI305","v":10500},{"$f":"(AK306-AK304)/(A306-A304)*(A305-A304)+AK304","v":10500},{"$f":"(AM305-AK305)/(AM287-AK287)*(AL287-AK287)+AK305","v":{"$error":"#VALUE!"}},{"$f":"(AM306-AM304)/(A306-A304)*(A305-A304)+AM304","v":{"$error":"#VALUE!"}},{"$f":"(AO305-AM305)/(AO287-AM287)*(AN287-AM287)+AM305","v":{"$error":"#VALUE!"}},{"$f":"(AO306-AO304)/(A306-A304)*(A305-A304)+AO304","v":{"$error":"#VALUE!"}},{"$f":"(AQ305-AO305)/(AQ287-AO287)*(AP287-AO287)+AO305","v":{"$error":"#VALUE!"}},{"$f":"(AQ306-AQ304)/(A306-A304)*(A305-A304)+AQ304","v":{"$error":"#VALUE!"}},19]
[30,{"$f":"B304+1","v":9},"-",{"$f":"(E306-C306)/(E287-C287)*(D287-C287)+C306","v":{"$error":"#VALUE!"}},"-",{"$f":"(G306-E306)/(G287-E287)*(F287-E287)+E306","v":{"$error":"#VALUE!"}},"-",{"$f":"(I306-G306)/(I287-G287)*(H287-G287)+G306","v":{"$error":"#VALUE!"}},"-",{"$f":"(K306-I306)/(K287-I287)*(J287-I287)+I306","v":{"$error":"#VALUE!"}},"-",{"$f":"(M306-K306)/(M287-K287)*(L287-K287)+K306","v":{"$error":"#VALUE!"}},1700,{"$f":"(O306-M306)/(O287-M287)*(N287-M287)+M306","v":-899.99999999999955},2350,{"$f":"(Q306-O306)/(Q287-O287)*(P287-O287)+O306","v":-150.00000000000136},2850,{"$f":"(S306-Q306)/(S287-Q287)*(R287-Q287)+Q306","v":750.00000000000182},3200,{"$f":"(U306-S306)/(U287-S287)*(T287-S287)+S306","v":49.999999999998181},3650,{"$f":"(W306-U306)/(W287-U287)*(V287-U287)+U306","v":1850.0000000000002},4100,{"$f":"(Y306-W306)/(Y287-W287)*(X287-W287)+W306","v":1899.9999999999995},4650,{"$f":"(AA306-Y306)/(AA287-Y287)*(Z287-Y287)+Y306","v":1899.9999999999995},5200,{"$f":"(AC306-AA306)/(AC287-AA287)*(AB287-AA287)+AA306","v":2200.0000000000014},6200,{"$f":"(AE306-AC306)/(AE287-AC287)*(AD287-AC287)+AC306","v":2599.9999999999991},8000,{"$f":"(AG306-AE306)/(AG287-AE287)*(AF287-AE287)+AE306","v":8584},8800,{"$f":"(AI306-AG306)/(AI287-AG287)*(AH287-AG287)+AG306","v":1999.9999999999982},10500,{"$f":"(AK306-AI306)/(AK287-AI287)*(AJ287-AI287)+AI306","v":10500},10500,{"$f":"(AM306-AK306)/(AM287-AK287)*(AL287-AK287)+AK306","v":{"$error":"#VALUE!"}},"-",{"$f":"(AO306-AM306)/(AO287-AM287)*(AN287-AM287)+AM306","v":{"$error":"#VALUE!"}},"-",{"$f":"(AQ306-AO306)/(AQ287-AO287)*(AP287-AO287)+AO306","v":{"$error":"#VALUE!"}},"-",20]
[{"$f":"IF(AND(AV294>A306,AV294<A308)=TRUE,AV294,0)","v":0},null,{"$f":"(C308-C306)/(A308-A306)*(A307-A306)+C306","v":{"$error":"#VALUE!"}},{"$f":"(E307-C307)/(E287-C287)*(D287-C287)+C307","v":{"$error":"#VALUE!"}},{"$f":"(E308-E306)/(A308-A306)*(A307-A306)+E306","v":{"$error":"#VALUE!"}},{"$f":"(G307-E307)/(G287-E287)*(F287-E287)+E307","v":{"$error":"#VALUE!"}},{"$f":"(G308-G306)/(A308-A306)*(A307-A306)+G306","v":{"$error":"#VALUE!"}},{"$f":"(I307-G307)/(I287-G287)*(H287-G287)+G307","v":{"$error":"#VALUE!"}},{"$f":"(I308-I306)/(A308-A306)*(A307-A306)+I306","v":{"$error":"#VALUE!"}},{"$f":"(K307-I307)/(K287-I287)*(J287-I287)+I307","v":{"$error":"#VALUE!"}},{"$f":"(K308-K306)/(A308-A306)*(A307-A306)+K306","v":{"$error":"#VALUE!"}},{"$f":"(M307-K307)/(M287-K287)*(L287-K287)+K307","v":{"$error":"#VALUE!"}},{"$f":"(M308-M306)/(A308-A306)*(A307-A306)+M306","v":6800},{"$f":"(O307-M307)/(O287-M287)*(N287-M287)+M307","v":18000},{"$f":"(O308-O306)/(A308-A306)*(A307-A306)+O306","v":4000},{"$f":"(Q307-O307)/(Q287-O287)*(P287-O287)+O307","v":3750},{"$f":"(Q308-Q306)/(A308-A306)*(A307-A306)+Q306","v":4050},{"$f":"(S307-Q307)/(S287-Q287)*(R287-Q287)+Q307","v":4649.9999999999991},{"$f":"(S308-S306)/(A308-A306)*(A307-A306)+S306","v":3950},{"$f":"(U307-S307)/(U287-S287)*(T287-S287)+S307","v":-1300.0000000000036},{"$f":"(U308-U306)/(A308-A306)*(A307-A306)+U306","v":4700},{"$f":"(W307-U307)/(W287-U287)*(V287-U287)+U307","v":7100},{"$f":"(W308-W306)/(A308-A306)*(A307-A306)+W306","v":4100},{"$f":"(Y307-W307)/(Y287-W287)*(X287-W287)+W307","v":1899.9999999999995},{"$f":"(Y308-Y306)/(A308-A306)*(A307-A306)+Y306","v":4650},{"$f":"(AA307-Y307)/(AA287-Y287)*(Z287-Y287)+Y307","v":1899.9999999999995},{"$f":"(AA308-AA306)/(A308-A306)*(A307-A306)+AA306","v":5200},{"$f":"(AC307-AA307)/(AC287-AA287)*(AB287-AA287)+AA307","v":2200.0000000000014},{"$f":"(AC308-AC306)/(A308-A306)*(A307-A306)+AC306","v":6200},{"$f":"(AE307-AC307)/(AE287-AC287)*(AD287-AC287)+AC307","v":2599.9999999999991},{"$f":"(AE308-AE306)/(A308-A306)*(A307-A306)+AE306","v":8000},{"$f":"(AG307-AE307)/(AG287-AE287)*(AF287-AE287)+AE307","v":8584},{"$f":"(AG308-AG306)/(A308-A306)*(A307-A306)+AG306","v":8800},{"$f":"(AI307-AG307)/(AI287-AG287)*(AH287-AG287)+AG307","v":1999.9999999999982},{"$f":"(AI308-AI306)/(A308-A306)*(A307-A306)+AI306","v":10500},{"$f":"(AK307-AI307)/(AK287-AI287)*(AJ287-AI287)+AI307","v":10500},{"$f":"(AK308-AK306)/(A308-A306)*(A307-A306)+AK306","v":10500},{"$f":"(AM307-AK307)/(AM287-AK287)*(AL287-AK287)+AK307","v":{"$error":"#VALUE!"}},{"$f":"(AM308-AM306)/(A308-A306)*(A307-A306)+AM306","v":{"$error":"#VALUE!"}},{"$f":"(AO307-AM307)/(AO287-AM287)*(AN287-AM287)+AM307","v":{"$error":"#VALUE!"}},{"$f":"(AO308-AO306)/(A308-A306)*(A307-A306)+AO306","v":{"$error":"#VALUE!"}},{"$f":"(AQ307-AO307)/(AQ287-AO287)*(AP287-AO287)+AO307","v":{"$error":"#VALUE!"}},{"$f":"(AQ308-AQ306)/(A308-A306)*(A307-A306)+AQ306","v":{"$error":"#VALUE!"}},21]
[40,{"$f":"B306+1","v":10},"-",{"$f":"(E308-C308)/(E287-C287)*(D287-C287)+C308","v":{"$error":"#VALUE!"}},"-",{"$f":"(G308-E308)/(G287-E287)*(F287-E287)+E308","v":{"$error":"#VALUE!"}},"-",{"$f":"(I308-G308)/(I287-G287)*(H287-G287)+G308","v":{"$error":"#VALUE!"}},"-",{"$f":"(K308-I308)/(K287-I287)*(J287-I287)+I308","v":{"$error":"#VALUE!"}},"-",{"$f":"(M308-K308)/(M287-K287)*(L287-K287)+K308","v":{"$error":"#VALUE!"}},0,{"$f":"(O308-M308)/(O287-M287)*(N287-M287)+M308","v":-7199.9999999999991},1800,{"$f":"(Q308-O308)/(Q287-O287)*(P287-O287)+O308","v":-1450.0000000000018},2450,{"$f":"(S308-Q308)/(S287-Q287)*(R287-Q287)+Q308","v":-549.99999999999727},2950,{"$f":"(U308-S308)/(U287-S287)*(T287-S287)+S308","v":499.99999999999864},3300,{"$f":"(W308-U308)/(W287-U287)*(V287-U287)+U308","v":100.00000000000045},4100,{"$f":"(Y308-W308)/(Y287-W287)*(X287-W287)+W308","v":1899.9999999999995},4650,{"$f":"(AA308-Y308)/(AA287-Y287)*(Z287-Y287)+Y308","v":1899.9999999999995},5200,{"$f":"(AC308-AA308)/(AC287-AA287)*(AB287-AA287)+AA308","v":2200.0000000000014},6200,{"$f":"(AE308-AC308)/(AE287-AC287)*(AD287-AC287)+AC308","v":2599.9999999999991},8000,{"$f":"(AG308-AE308)/(AG287-AE287)*(AF287-AE287)+AE308","v":8584},8800,{"$f":"(AI308-AG308)/(AI287-AG287)*(AH287-AG287)+AG308","v":1999.9999999999982},10500,{"$f":"(AK308-AI308)/(AK287-AI287)*(AJ287-AI287)+AI308","v":10500},10500,{"$f":"(AM308-AK308)/(AM287-AK287)*(AL287-AK287)+AK308","v":{"$error":"#VALUE!"}},"-",{"$f":"(AO308-AM308)/(AO287-AM287)*(AN287-AM287)+AM308","v":{"$error":"#VALUE!"}},"-",{"$f":"(AQ308-AO308)/(AQ287-AO287)*(AP287-AO287)+AO308","v":{"$error":"#VALUE!"}},"-",22]
[{"$f":"IF(AND(AV294>A308,AV294<A310)=TRUE,AV294,0)","v":0},null,{"$f":"(C310-C308)/(A310-A308)*(A309-A308)+C308","v":{"$error":"#VALUE!"}},{"$f":"(E309-C309)/(E287-C287)*(D287-C287)+C309","v":{"$error":"#VALUE!"}},{"$f":"(E310-E308)/(A310-A308)*(A309-A308)+E308","v":{"$error":"#VALUE!"}},{"$f":"(G309-E309)/(G287-E287)*(F287-E287)+E309","v":{"$error":"#VALUE!"}},{"$f":"(G310-G308)/(A310-A308)*(A309-A308)+G308","v":{"$error":"#VALUE!"}},{"$f":"(I309-G309)/(I287-G287)*(H287-G287)+G309","v":{"$error":"#VALUE!"}},{"$f":"(I310-I308)/(A310-A308)*(A309-A308)+I308","v":{"$error":"#VALUE!"}},{"$f":"(K309-I309)/(K287-I287)*(J287-I287)+I309","v":{"$error":"#VALUE!"}},{"$f":"(K310-K308)/(A310-A308)*(A309-A308)+K308","v":{"$error":"#VALUE!"}},{"$f":"(M309-K309)/(M287-K287)*(L287-K287)+K309","v":{"$error":"#VALUE!"}},{"$f":"(M310-M308)/(A310-A308)*(A309-A308)+M308","v":{"$error":"#VALUE!"}},{"$f":"(O309-M309)/(O287-M287)*(N287-M287)+M309","v":{"$error":"#VALUE!"}},{"$f":"(O310-O308)/(A310-A308)*(A309-A308)+O308","v":9000},{"$f":"(Q309-O309)/(Q287-O287)*(P287-O287)+O309","v":29750.000000000015},{"$f":"(Q310-Q308)/(A310-A308)*(A309-A308)+Q308","v":4850},{"$f":"(S309-Q309)/(S287-Q287)*(R287-Q287)+Q309","v":5449.9999999999991},{"$f":"(S310-S308)/(A310-A308)*(A309-A308)+S308","v":4750},{"$f":"(U309-S309)/(U287-S287)*(T287-S287)+S309","v":6500.0000000000009},{"$f":"(U310-U308)/(A310-A308)*(A309-A308)+U308","v":4500},{"$f":"(W309-U309)/(W287-U287)*(V287-U287)+U309","v":2100.0000000000005},{"$f":"(W310-W308)/(A310-A308)*(A309-A308)+W308","v":5100},{"$f":"(Y309-W309)/(Y287-W287)*(X287-W287)+W309","v":6900},{"$f":"(Y310-Y308)/(A310-A308)*(A309-A308)+Y308","v":4650},{"$f":"(AA309-Y309)/(AA287-Y287)*(Z287-Y287)+Y309","v":1899.9999999999995},{"$f":"(AA310-AA308)/(A310-A308)*(A309-A308)+AA308","v":5200},{"$f":"(AC309-AA309)/(AC287-AA287)*(AB287-AA287)+AA309","v":2200.0000000000014},{"$f":"(AC310-AC308)/(A310-A308)*(A309-A308)+AC308","v":6200},{"$f":"(AE309-AC309)/(AE287-AC287)*(AD287-AC287)+AC309","v":2599.9999999999991},{"$f":"(AE310-AE308)/(A310-A308)*(A309-A308)+AE308","v":8000},{"$f":"(AG309-AE309)/(AG287-AE287)*(AF287-AE287)+AE309","v":8584},{"$f":"(AG310-AG308)/(A310-A308)*(A309-A308)+AG308","v":8800},{"$f":"(AI309-AG309)/(AI287-AG287)*(AH287-AG287)+AG309","v":1999.9999999999982},{"$f":"(AI310-AI308)/(A310-A308)*(A309-A308)+AI308","v":10500},{"$f":"(AK309-AI309)/(AK287-AI287)*(AJ287-AI287)+AI309","v":10500},{"$f":"(AK310-AK308)/(A310-A308)*(A309-A308)+AK308","v":10500},{"$f":"(AM309-AK309)/(AM287-AK287)*(AL287-AK287)+AK309","v":{"$error":"#VALUE!"}},{"$f":"(AM310-AM308)/(A310-A308)*(A309-A308)+AM308","v":{"$error":"#VALUE!"}},{"$f":"(AO309-AM309)/(AO287-AM287)*(AN287-AM287)+AM309","v":{"$error":"#VALUE!"}},{"$f":"(AO310-AO308)/(A310-A308)*(A309-A308)+AO308","v":{"$error":"#VALUE!"}},{"$f":"(AQ309-AO309)/(AQ287-AO287)*(AP287-AO287)+AO309","v":{"$error":"#VALUE!"}},{"$f":"(AQ310-AQ308)/(A310-A308)*(A309-A308)+AQ308","v":{"$error":"#VALUE!"}},23]
[50,{"$f":"B308+1","v":11},"-",{"$f":"(E310-C310)/(E287-C287)*(D287-C287)+C310","v":{"$error":"#VALUE!"}},"-",{"$f":"(G310-E310)/(G287-E287)*(F287-E287)+E310","v":{"$error":"#VALUE!"}},"-",{"$f":"(I310-G310)/(I287-G287)*(H287-G287)+G310","v":{"$error":"#VALUE!"}},"-",{"$f":"(K310-I310)/(K287-I287)*(J287-I287)+I310","v":{"$error":"#VALUE!"}},"-",{"$f":"(M310-K310)/(M287-K287)*(L287-K287)+K310","v":{"$error":"#VALUE!"}},"-",{"$f":"(O310-M310)/(O287-M287)*(N287-M287)+M310","v":{"$error":"#VALUE!"}},0,{"$f":"(Q310-O310)/(Q287-O287)*(P287-O287)+O310","v":-9250.0000000000055},1850,{"$f":"(S310-Q310)/(S287-Q287)*(R287-Q287)+Q310","v":-2049.9999999999964},2500,{"$f":"(U310-S310)/(U287-S287)*(T287-S287)+S310","v":-1000.0000000000018},3000,{"$f":"(W310-U310)/(W287-U287)*(V287-U287)+U310","v":-399.99999999999955},3850,{"$f":"(Y310-W310)/(Y287-W287)*(X287-W287)+W310","v":649.99999999999909},4650,{"$f":"(AA310-Y310)/(AA287-Y287)*(Z287-Y287)+Y310","v":1899.9999999999995},5200,{"$f":"(AC310-AA310)/(AC287-AA287)*(AB287-AA287)+AA310","v":2200.0000000000014},6200,{"$f":"(AE310-AC310)/(AE287-AC287)*(AD287-AC287)+AC310","v":2599.9999999999991},8000,{"$f":"(AG310-AE310)/(AG287-AE287)*(AF287-AE287)+AE310","v":8584},8800,{"$f":"(AI310-AG310)/(AI287-AG287)*(AH287-AG287)+AG310","v":1999.9999999999982},10500,{"$f":"(AK310-AI310)/(AK287-AI287)*(AJ287-AI287)+AI310","v":10500},10500,{"$f":"(AM310-AK310)/(AM287-AK287)*(AL287-AK287)+AK310","v":{"$error":"#VALUE!"}},"-",{"$f":"(AO310-AM310)/(AO287-AM287)*(AN287-AM287)+AM310","v":{"$error":"#VALUE!"}},"-",{"$f":"(AQ310-AO310)/(AQ287-AO287)*(AP287-AO287)+AO310","v":{"$error":"#VALUE!"}},"-",24]
[{"$f":"IF(AND(AV294>A310,AV294<A312)=TRUE,AV294,0)","v":0},null,{"$f":"(C312-C310)/(A312-A310)*(A311-A310)+C310","v":{"$error":"#VALUE!"}},{"$f":"(E311-C311)/(E287-C287)*(D287-C287)+C311","v":{"$error":"#VALUE!"}},{"$f":"(E312-E310)/(A312-A310)*(A311-A310)+E310","v":{"$error":"#VALUE!"}},{"$f":"(G311-E311)/(G287-E287)*(F287-E287)+E311","v":{"$error":"#VALUE!"}},{"$f":"(G312-G310)/(A312-A310)*(A311-A310)+G310","v":{"$error":"#VALUE!"}},{"$f":"(I311-G311)/(I287-G287)*(H287-G287)+G311","v":{"$error":"#VALUE!"}},{"$f":"(I312-I310)/(A312-A310)*(A311-A310)+I310","v":{"$error":"#VALUE!"}},{"$f":"(K311-I311)/(K287-I287)*(J287-I287)+I311","v":{"$error":"#VALUE!"}},{"$f":"(K312-K310)/(A312-A310)*(A311-A310)+K310","v":{"$error":"#VALUE!"}},{"$f":"(M311-K311)/(M287-K287)*(L287-K287)+K311","v":{"$error":"#VALUE!"}},{"$f":"(M312-M310)/(A312-A310)*(A311-A310)+M310","v":{"$error":"#VALUE!"}},{"$f":"(O311-M311)/(O287-M287)*(N287-M287)+M311","v":{"$error":"#VALUE!"}},{"$f":"(O312-O310)/(A312-A310)*(A311-A310)+O310","v":{"$error":"#VALUE!"}},{"$f":"(Q311-O311)/(Q287-O287)*(P287-O287)+O311","v":{"$error":"#VALUE!"}},{"$f":"(Q312-Q310)/(A312-A310)*(A311-A310)+Q310","v":11100},{"$f":"(S311-Q311)/(S287-Q287)*(R287-Q287)+Q311","v":37199.999999999971},{"$f":"(S312-S310)/(A312-A310)*(A311-A310)+S310","v":6750},{"$f":"(U311-S311)/(U287-S287)*(T287-S287)+S311","v":6750},{"$f":"(U312-U310)/(A312-A310)*(A311-A310)+U310","v":6750},{"$f":"(W311-U311)/(W287-U287)*(V287-U287)+U311","v":13350},{"$f":"(W312-W310)/(A312-A310)*(A311-A310)+W310","v":5100},{"$f":"(Y311-W311)/(Y287-W287)*(X287-W287)+W311","v":899.99999999999909},{"$f":"(Y312-Y310)/(A312-A310)*(A311-A310)+Y310","v":6150},{"$f":"(AA311-Y311)/(AA287-Y287)*(Z287-Y287)+Y311","v":8400},{"$f":"(AA312-AA310)/(A312-A310)*(A311-A310)+AA310","v":5700},{"$f":"(AC311-AA311)/(AC287-AA287)*(AB287-AA287)+AA311","v":4200.0000000000009},{"$f":"(AC312-AC310)/(A312-A310)*(A311-A310)+AC310","v":6200},{"$f":"(AE311-AC311)/(AE287-AC287)*(AD287-AC287)+AC311","v":2599.9999999999991},{"$f":"(AE312-AE310)/(A312-A310)*(A311-A310)+AE310","v":8000},{"$f":"(AG311-AE311)/(AG287-AE287)*(AF287-AE287)+AE311","v":8584},{"$f":"(AG312-AG310)/(A312-A310)*(A311-A310)+AG310","v":8800},{"$f":"(AI311-AG311)/(AI287-AG287)*(AH287-AG287)+AG311","v":1999.9999999999982},{"$f":"(AI312-AI310)/(A312-A310)*(A311-A310)+AI310","v":10500},{"$f":"(AK311-AI311)/(AK287-AI287)*(AJ287-AI287)+AI311","v":10500},{"$f":"(AK312-AK310)/(A312-A310)*(A311-A310)+AK310","v":10500},{"$f":"(AM311-AK311)/(AM287-AK287)*(AL287-AK287)+AK311","v":{"$error":"#VALUE!"}},{"$f":"(AM312-AM310)/(A312-A310)*(A311-A310)+AM310","v":{"$error":"#VALUE!"}},{"$f":"(AO311-AM311)/(AO287-AM287)*(AN287-AM287)+AM311","v":{"$error":"#VALUE!"}},{"$f":"(AO312-AO310)/(A312-A310)*(A311-A310)+AO310","v":{"$error":"#VALUE!"}},{"$f":"(AQ311-AO311)/(AQ287-AO287)*(AP287-AO287)+AO311","v":{"$error":"#VALUE!"}},{"$f":"(AQ312-AQ310)/(A312-A310)*(A311-A310)+AQ310","v":{"$error":"#VALUE!"}},25]
[60,{"$f":"B310+1","v":12},"-",{"$f":"(E312-C312)/(E287-C287)*(D287-C287)+C312","v":{"$error":"#VALUE!"}},"-",{"$f":"(G312-E312)/(G287-E287)*(F287-E287)+E312","v":{"$error":"#VALUE!"}},"-",{"$f":"(I312-G312)/(I287-G287)*(H287-G287)+G312","v":{"$error":"#VALUE!"}},"-",{"$f":"(K312-I312)/(K287-I287)*(J287-I287)+I312","v":{"$error":"#VALUE!"}},"-",{"$f":"(M312-K312)/(M287-K287)*(L287-K287)+K312","v":{"$error":"#VALUE!"}},"-",{"$f":"(O312-M312)/(O287-M287)*(N287-M287)+M312","v":{"$error":"#VALUE!"}},"-",{"$f":"(Q312-O312)/(Q287-O287)*(P287-O287)+O312","v":{"$error":"#VALUE!"}},0,{"$f":"(S312-Q312)/(S287-Q287)*(R287-Q287)+Q312","v":-9899.9999999999909},1650,{"$f":"(U312-S312)/(U287-S287)*(T287-S287)+S312","v":-2550.0000000000027},2250,{"$f":"(W312-U312)/(W287-U287)*(V287-U287)+U312","v":-3149.9999999999991},3600,{"$f":"(Y312-W312)/(Y287-W287)*(X287-W287)+W312","v":599.99999999999909},4350,{"$f":"(AA312-Y312)/(AA287-Y287)*(Z287-Y287)+Y312","v":599.99999999999909},5100,{"$f":"(AC312-AA312)/(AC287-AA287)*(AB287-AA287)+AA312","v":1800.0000000000014},6200,{"$f":"(AE312-AC312)/(AE287-AC287)*(AD287-AC287)+AC312","v":2599.9999999999991},8000,{"$f":"(AG312-AE312)/(AG287-AE287)*(AF287-AE287)+AE312","v":8584},8800,{"$f":"(AI312-AG312)/(AI287-AG287)*(AH287-AG287)+AG312","v":1999.9999999999982},10500,{"$f":"(AK312-AI312)/(AK287-AI287)*(AJ287-AI287)+AI312","v":10500},10500,{"$f":"(AM312-AK312)/(AM287-AK287)*(AL287-AK287)+AK312","v":-5099.9999999999945},15700,{"$f":"(AO312-AM312)/(AO287-AM287)*(AN287-AM287)+AM312","v":5099.9999999999964},21000,{"$f":"(AQ312-AO312)/(AQ287-AO287)*(AP287-AO287)+AO312","v":21000},21000,26]
[{"$f":"IF(AND(AV294>A312,AV294<A314)=TRUE,AV294,0)","v":0},null,{"$f":"(C314-C312)/(A314-A312)*(A313-A312)+C312","v":{"$error":"#VALUE!"}},{"$f":"(E313-C313)/(E287-C287)*(D287-C287)+C313","v":{"$error":"#VALUE!"}},{"$f":"(E314-E312)/(A314-A312)*(A313-A312)+E312","v":{"$error":"#VALUE!"}},{"$f":"(G313-E313)/(G287-E287)*(F287-E287)+E313","v":{"$error":"#VALUE!"}},{"$f":"(G314-G312)/(A314-A312)*(A313-A312)+G312","v":{"$error":"#VALUE!"}},{"$f":"(I313-G313)/(I287-G287)*(H287-G287)+G313","v":{"$error":"#VALUE!"}},{"$f":"(I314-I312)/(A314-A312)*(A313-A312)+I312","v":{"$error":"#VALUE!"}},{"$f":"(K313-I313)/(K287-I287)*(J287-I287)+I313","v":{"$error":"#VALUE!"}},{"$f":"(K314-K312)/(A314-A312)*(A313-A312)+K312","v":{"$error":"#VALUE!"}},{"$f":"(M313-K313)/(M287-K287)*(L287-K287)+K313","v":{"$error":"#VALUE!"}},{"$f":"(M314-M312)/(A314-A312)*(A313-A312)+M312","v":{"$error":"#VALUE!"}},{"$f":"(O313-M313)/(O287-M287)*(N287-M287)+M313","v":{"$error":"#VALUE!"}},{"$f":"(O314-O312)/(A314-A312)*(A313-A312)+O312","v":{"$error":"#VALUE!"}},{"$f":"(Q313-O313)/(Q287-O287)*(P287-O287)+O313","v":{"$error":"#VALUE!"}},{"$f":"(Q314-Q312)/(A314-A312)*(A313-A312)+Q312","v":{"$error":"#VALUE!"}},{"$f":"(S313-Q313)/(S287-Q287)*(R287-Q287)+Q313","v":{"$error":"#VALUE!"}},{"$f":"(S314-S312)/(A314-A312)*(A313-A312)+S312","v":6600},{"$f":"(U313-S313)/(U287-S287)*(T287-S287)+S313","v":-10200.000000000011},{"$f":"(U314-U312)/(A314-A312)*(A313-A312)+U312","v":9000},{"$f":"(W313-U313)/(W287-U287)*(V287-U287)+U313","v":16200},{"$f":"(W314-W312)/(A314-A312)*(A313-A312)+W312","v":7200},{"$f":"(Y313-W313)/(Y287-W287)*(X287-W287)+W313","v":17400.000000000004},{"$f":"(Y314-Y312)/(A314-A312)*(A313-A312)+Y312","v":4650},{"$f":"(AA313-Y313)/(AA287-Y287)*(Z287-Y287)+Y313","v":-600.00000000000091},{"$f":"(AA314-AA312)/(A314-A312)*(A313-A312)+AA312","v":5700},{"$f":"(AC313-AA313)/(AC287-AA287)*(AB287-AA287)+AA313","v":4200.0000000000009},{"$f":"(AC314-AC312)/(A314-A312)*(A313-A312)+AC312","v":6200},{"$f":"(AE313-AC313)/(AE287-AC287)*(AD287-AC287)+AC313","v":2599.9999999999991},{"$f":"(AE314-AE312)/(A314-A312)*(A313-A312)+AE312","v":8000},{"$f":"(AG313-AE313)/(AG287-AE287)*(AF287-AE287)+AE313","v":8584},{"$f":"(AG314-AG312)/(A314-A312)*(A313-A312)+AG312","v":8800},{"$f":"(AI313-AG313)/(AI287-AG287)*(AH287-AG287)+AG313","v":1999.9999999999982},{"$f":"(AI314-AI312)/(A314-A312)*(A313-A312)+AI312","v":10500},{"$f":"(AK313-AI313)/(AK287-AI287)*(AJ287-AI287)+AI313","v":10500},{"$f":"(AK314-AK312)/(A314-A312)*(A313-A312)+AK312","v":10500},{"$f":"(AM313-AK313)/(AM287-AK287)*(AL287-AK287)+AK313","v":-5099.9999999999945},{"$f":"(AM314-AM312)/(A314-A312)*(A313-A312)+AM312","v":15700},{"$f":"(AO313-AM313)/(AO287-AM287)*(AN287-AM287)+AM313","v":5099.9999999999964},{"$f":"(AO314-AO312)/(A314-A312)*(A313-A312)+AO312","v":21000},{"$f":"(AQ313-AO313)/(AQ287-AO287)*(AP287-AO287)+AO313","v":21000},{"$f":"(AQ314-AQ312)/(A314-A312)*(A313-A312)+AQ312","v":21000},27]
[80,{"$f":"B312+1","v":13},"-",{"$f":"(E314-C314)/(E287-C287)*(D287-C287)+C314","v":{"$error":"#VALUE!"}},"-",{"$f":"(G314-E314)/(G287-E287)*(F287-E287)+E314","v":{"$error":"#VALUE!"}},"-",{"$f":"(I314-G314)/(I287-G287)*(H287-G287)+G314","v":{"$error":"#VALUE!"}},"-",{"$f":"(K314-I314)/(K287-I287)*(J287-I287)+I314","v":{"$error":"#VALUE!"}},"-",{"$f":"(M314-K314)/(M287-K287)*(L287-K287)+K314","v":{"$error":"#VALUE!"}},"-",{"$f":"(O314-M314)/(O287-M287)*(N287-M287)+M314","v":{"$error":"#VALUE!"}},"-",{"$f":"(Q314-O314)/(Q287-O287)*(P287-O287)+O314","v":{"$error":"#VALUE!"}},"-",{"$f":"(S314-Q314)/(S287-Q287)*(R287-Q287)+Q314","v":{"$error":"#VALUE!"}},0,{"$f":"(U314-S314)/(U287-S287)*(T287-S287)+S314","v":0},0,{"$f":"(W314-U314)/(W287-U287)*(V287-U287)+U314","v":-9599.9999999999982},2400,{"$f":"(Y314-W314)/(Y287-W287)*(X287-W287)+W314","v":-5000.0000000000018},4250,{"$f":"(AA314-Y314)/(AA287-Y287)*(Z287-Y287)+Y314","v":999.99999999999909},4900,{"$f":"(AC314-AA314)/(AC287-AA287)*(AB287-AA287)+AA314","v":1000.0000000000014},6200,{"$f":"(AE314-AC314)/(AE287-AC287)*(AD287-AC287)+AC314","v":2599.9999999999991},8000,{"$f":"(AG314-AE314)/(AG287-AE287)*(AF287-AE287)+AE314","v":8584},8800,{"$f":"(AI314-AG314)/(AI287-AG287)*(AH287-AG287)+AG314","v":1999.9999999999982},10500,{"$f":"(AK314-AI314)/(AK287-AI287)*(AJ287-AI287)+AI314","v":10500},10500,{"$f":"(AM314-AK314)/(AM287-AK287)*(AL287-AK287)+AK314","v":-5099.9999999999945},15700,{"$f":"(AO314-AM314)/(AO287-AM287)*(AN287-AM287)+AM314","v":5099.9999999999964},21000,{"$f":"(AQ314-AO314)/(AQ287-AO287)*(AP287-AO287)+AO314","v":21000},21000,28]
[{"$f":"IF(AND(AV294>A314,AV294<A316)=TRUE,AV294,0)","v":0},null,{"$f":"(C316-C314)/(A316-A314)*(A315-A314)+C314","v":{"$error":"#VALUE!"}},{"$f":"(E315-C315)/(E287-C287)*(D287-C287)+C315","v":{"$error":"#VALUE!"}},{"$f":"(E316-E314)/(A316-A314)*(A315-A314)+E314","v":{"$error":"#VALUE!"}},{"$f":"(G315-E315)/(G287-E287)*(F287-E287)+E315","v":{"$error":"#VALUE!"}},{"$f":"(G316-G314)/(A316-A314)*(A315-A314)+G314","v":{"$error":"#VALUE!"}},{"$f":"(I315-G315)/(I287-G287)*(H287-G287)+G315","v":{"$error":"#VALUE!"}},{"$f":"(I316-I314)/(A316-A314)*(A315-A314)+I314","v":{"$error":"#VALUE!"}},{"$f":"(K315-I315)/(K287-I287)*(J287-I287)+I315","v":{"$error":"#VALUE!"}},{"$f":"(K316-K314)/(A316-A314)*(A315-A314)+K314","v":{"$error":"#VALUE!"}},{"$f":"(M315-K315)/(M287-K287)*(L287-K287)+K315","v":{"$error":"#VALUE!"}},{"$f":"(M316-M314)/(A316-A314)*(A315-A314)+M314","v":{"$error":"#VALUE!"}},{"$f":"(O315-M315)/(O287-M287)*(N287-M287)+M315","v":{"$error":"#VALUE!"}},{"$f":"(O316-O314)/(A316-A314)*(A315-A314)+O314","v":{"$error":"#VALUE!"}},{"$f":"(Q315-O315)/(Q287-O287)*(P287-O287)+O315","v":{"$error":"#VALUE!"}},{"$f":"(Q316-Q314)/(A316-A314)*(A315-A314)+Q314","v":{"$error":"#VALUE!"}},{"$f":"(S315-Q315)/(S287-Q287)*(R287-Q287)+Q315","v":{"$error":"#VALUE!"}},{"$f":"(S316-S314)/(A316-A314)*(A315-A314)+S314","v":{"$error":"#VALUE!"}},{"$f":"(U315-S315)/(U287-S287)*(T287-S287)+S315","v":{"$error":"#VALUE!"}},{"$f":"(U316-U314)/(A316-A314)*(A315-A314)+U314","v":{"$error":"#VALUE!"}},{"$f":"(W315-U315)/(W287-U287)*(V287-U287)+U315","v":{"$error":"#VALUE!"}},{"$f":"(W316-W314)/(A316-A314)*(A315-A314)+W314","v":12000},{"$f":"(Y315-W315)/(Y287-W287)*(X287-W287)+W315","v":37400.000000000007},{"$f":"(Y316-Y314)/(A316-A314)*(A315-A314)+Y314","v":5650},{"$f":"(AA315-Y315)/(AA287-Y287)*(Z287-Y287)+Y315","v":1399.9999999999991},{"$f":"(AA316-AA314)/(A316-A314)*(A315-A314)+AA314","v":6500},{"$f":"(AC315-AA315)/(AC287-AA287)*(AB287-AA287)+AA315","v":7400},{"$f":"(AC316-AC314)/(A316-A314)*(A315-A314)+AC314","v":6200},{"$f":"(AE315-AC315)/(AE287-AC287)*(AD287-AC287)+AC315","v":2599.9999999999991},{"$f":"(AE316-AE314)/(A316-A314)*(A315-A314)+AE314","v":8000},{"$f":"(AG315-AE315)/(AG287-AE287)*(AF287-AE287)+AE315","v":8584},{"$f":"(AG316-AG314)/(A316-A314)*(A315-A314)+AG314","v":8800},{"$f":"(AI315-AG315)/(AI287-AG287)*(AH287-AG287)+AG315","v":1999.9999999999982},{"$f":"(AI316-AI314)/(A316-A314)*(A315-A314)+AI314","v":10500},{"$f":"(AK315-AI315)/(AK287-AI287)*(AJ287-AI287)+AI315","v":10500},{"$f":"(AK316-AK314)/(A316-A314)*(A315-A314)+AK314","v":10500},{"$f":"(AM315-AK315)/(AM287-AK287)*(AL287-AK287)+AK315","v":-5099.9999999999945},{"$f":"(AM316-AM314)/(A316-A314)*(A315-A314)+AM314","v":15700},{"$f":"(AO315-AM315)/(AO287-AM287)*(AN287-AM287)+AM315","v":5099.9999999999964},{"$f":"(AO316-AO314)/(A316-A314)*(A315-A314)+AO314","v":21000},{"$f":"(AQ315-AO315)/(AQ287-AO287)*(AP287-AO287)+AO315","v":21000},{"$f":"(AQ316-AQ314)/(A316-A314)*(A315-A314)+AQ314","v":21000},29]
[100,{"$f":"B314+1","v":14},"-",{"$f":"(E316-C316)/(E287-C287)*(D287-C287)+C316","v":{"$error":"#VALUE!"}},"-",{"$f":"(G316-E316)/(G287-E287)*(F287-E287)+E316","v":{"$error":"#VALUE!"}},"-",{"$f":"(I316-G316)/(I287-G287)*(H287-G287)+G316","v":{"$error":"#VALUE!"}},"-",{"$f":"(K316-I316)/(K287-I287)*(J287-I287)+I316","v":{"$error":"#VALUE!"}},"-",{"$f":"(M316-K316)/(M287-K287)*(L287-K287)+K316","v":{"$error":"#VALUE!"}},"-",{"$f":"(O316-M316)/(O287-M287)*(N287-M287)+M316","v":{"$error":"#VALUE!"}},"-",{"$f":"(Q316-O316)/(Q287-O287)*(P287-O287)+O316","v":{"$error":"#VALUE!"}},"-",{"$f":"(S316-Q316)/(S287-Q287)*(R287-Q287)+Q316","v":{"$error":"#VALUE!"}},"-",{"$f":"(U316-S316)/(U287-S287)*(T287-S287)+S316","v":{"$error":"#VALUE!"}},"-",{"$f":"(W316-U316)/(W287-U287)*(V287-U287)+U316","v":{"$error":"#VALUE!"}},0,{"$f":"(Y316-W316)/(Y287-W287)*(X287-W287)+W316","v":-15600.000000000004},3900,{"$f":"(AA316-Y316)/(AA287-Y287)*(Z287-Y287)+Y316","v":899.99999999999955},4500,{"$f":"(AC316-AA316)/(AC287-AA287)*(AB287-AA287)+AA316","v":-599.99999999999727},6200,{"$f":"(AE316-AC316)/(AE287-AC287)*(AD287-AC287)+AC316","v":2599.9999999999991},8000,{"$f":"(AG316-AE316)/(AG287-AE287)*(AF287-AE287)+AE316","v":8584},8800,{"$f":"(AI316-AG316)/(AI287-AG287)*(AH287-AG287)+AG316","v":1999.9999999999982},10500,{"$f":"(AK316-AI316)/(AK287-AI287)*(AJ287-AI287)+AI316","v":10500},10500,{"$f":"(AM316-AK316)/(AM287-AK287)*(AL287-AK287)+AK316","v":-5099.9999999999945},15700,{"$f":"(AO316-AM316)/(AO287-AM287)*(AN287-AM287)+AM316","v":5099.9999999999964},21000,{"$f":"(AQ316-AO316)/(AQ287-AO287)*(AP287-AO287)+AO316","v":21000},21000,30]
[{"$f":"IF(AND(AV294>A316,AV294<A318)=TRUE,AV294,0)","v":0},null,{"$f":"(C318-C314)/(A318-A314)*(A317-A314)+C314","v":{"$error":"#VALUE!"}},{"$f":"(E317-C317)/(E287-C287)*(D287-C287)+C317","v":{"$error":"#VALUE!"}},{"$f":"(E318-E314)/(A318-A314)*(A317-A314)+E314","v":{"$error":"#VALUE!"}},{"$f":"(G317-E317)/(G287-E287)*(F287-E287)+E317","v":{"$error":"#VALUE!"}},{"$f":"(G318-G314)/(A318-A314)*(A317-A314)+G314","v":{"$error":"#VALUE!"}},{"$f":"(I317-G317)/(I287-G287)*(H287-G287)+G317","v":{"$error":"#VALUE!"}},{"$f":"(I318-I314)/(A318-A314)*(A317-A314)+I314","v":{"$error":"#VALUE!"}},{"$f":"(K317-I317)/(K287-I287)*(J287-I287)+I317","v":{"$error":"#VALUE!"}},{"$f":"(K318-K314)/(A318-A314)*(A317-A314)+K314","v":{"$error":"#VALUE!"}},{"$f":"(M317-K317)/(M287-K287)*(L287-K287)+K317","v":{"$error":"#VALUE!"}},{"$f":"(M318-M314)/(A318-A314)*(A317-A314)+M314","v":{"$error":"#VALUE!"}},{"$f":"(O317-M317)/(O287-M287)*(N287-M287)+M317","v":{"$error":"#VALUE!"}},{"$f":"(O318-O314)/(A318-A314)*(A317-A314)+O314","v":{"$error":"#VALUE!"}},{"$f":"(Q317-O317)/(Q287-O287)*(P287-O287)+O317","v":{"$error":"#VALUE!"}},{"$f":"(Q318-Q314)/(A318-A314)*(A317-A314)+Q314","v":{"$error":"#VALUE!"}},{"$f":"(S317-Q317)/(S287-Q287)*(R287-Q287)+Q317","v":{"$error":"#VALUE!"}},{"$f":"(S318-S314)/(A318-A314)*(A317-A314)+S314","v":{"$error":"#VALUE!"}},{"$f":"(U317-S317)/(U287-S287)*(T287-S287)+S317","v":{"$error":"#VALUE!"}},{"$f":"(U318-U314)/(A318-A314)*(A317-A314)+U314","v":{"$error":"#VALUE!"}},{"$f":"(W317-U317)/(W287-U287)*(V287-U287)+U317","v":{"$error":"#VALUE!"}},{"$f":"(W318-W314)/(A318-A314)*(A317-A314)+W314","v":{"$error":"#VALUE!"}},{"$f":"(Y317-W317)/(Y287-W287)*(X287-W287)+W317","v":{"$error":"#VALUE!"}},{"$f":"(Y318-Y314)/(A318-A314)*(A317-A314)+Y314","v":9107.1428571428569},{"$f":"(AA317-Y317)/(AA287-Y287)*(Z287-Y287)+Y317","v":2142.8571428571395},{"$f":"(AA318-AA314)/(A318-A314)*(A317-A314)+AA314","v":10500},{"$f":"(AC317-AA317)/(AC287-AA287)*(AB287-AA287)+AA317","v":19628.571428571428},{"$f":"(AC318-AC314)/(A318-A314)*(A317-A314)+AC314","v":7457.1428571428569},{"$f":"(AE317-AC317)/(AE287-AC287)*(AD287-AC287)+AC317","v":6371.4285714285706},{"$f":"(AE318-AE316)/(A318-A316)*(A317-A316)+AE316","v":8000},{"$f":"(AG317-AE317)/(AG287-AE287)*(AF287-AE287)+AE317","v":8584},{"$f":"(AG318-AG316)/(A318-A316)*(A317-A316)+AG316","v":8800},{"$f":"(AI317-AG317)/(AI287-AG287)*(AH287-AG287)+AG317","v":1999.9999999999982},{"$f":"(AI318-AI316)/(A318-A316)*(A317-A316)+AI316","v":10500},{"$f":"(AK317-AI317)/(AK287-AI287)*(AJ287-AI287)+AI317","v":10500},{"$f":"(AK318-AK316)/(A318-A316)*(A317-A316)+AK316","v":10500},{"$f":"(AM317-AK317)/(AM287-AK287)*(AL287-AK287)+AK317","v":-5099.9999999999945},{"$f":"(AM318-AM316)/(A318-A316)*(A317-A316)+AM316","v":15700},{"$f":"(AO317-AM317)/(AO287-AM287)*(AN287-AM287)+AM317","v":5099.9999999999964},{"$f":"(AO318-AO316)/(A318-A316)*(A317-A316)+AO316","v":21000},{"$f":"(AQ317-AO317)/(AQ287-AO287)*(AP287-AO287)+AO317","v":21000},{"$f":"(AQ318-AQ316)/(A318-A316)*(A317-A316)+AQ316","v":21000},31]
[150,{"$f":"B316+1","v":15},"-",{"$f":"(E318-C318)/(E287-C287)*(D287-C287)+C318","v":{"$error":"#VALUE!"}},"-",{"$f":"(G318-E318)/(G287-E287)*(F287-E287)+E318","v":{"$error":"#VALUE!"}},"-",{"$f":"(I318-G318)/(I287-G287)*(H287-G287)+G318","v":{"$error":"#VALUE!"}},"-",{"$f":"(K318-I318)/(K287-I287)*(J287-I287)+I318","v":{"$error":"#VALUE!"}},"-",{"$f":"(M318-K318)/(M287-K287)*(L287-K287)+K318","v":{"$error":"#VALUE!"}},"-",{"$f":"(O318-M318)/(O287-M287)*(N287-M287)+M318","v":{"$error":"#VALUE!"}},"-",{"$f":"(Q318-O318)/(Q287-O287)*(P287-O287)+O318","v":{"$error":"#VALUE!"}},"-",{"$f":"(S318-Q318)/(S287-Q287)*(R287-Q287)+Q318","v":{"$error":"#VALUE!"}},"-",{"$f":"(U318-S318)/(U287-S287)*(T287-S287)+S318","v":{"$error":"#VALUE!"}},"-",{"$f":"(W318-U318)/(W287-U287)*(V287-U287)+U318","v":{"$error":"#VALUE!"}},"-",{"$f":"(Y318-W318)/(Y287-W287)*(X287-W287)+W318","v":{"$error":"#VALUE!"}},0,{"$f":"(AA318-Y318)/(AA287-Y287)*(Z287-Y287)+Y318","v":0},0,{"$f":"(AC318-AA318)/(AC287-AA287)*(AB287-AA287)+AA318","v":-15299.999999999995},5100,{"$f":"(AE318-AC318)/(AE287-AC287)*(AD287-AC287)+AC318","v":-700.00000000000182},8000,{"$f":"(AG318-AE318)/(AG287-AE287)*(AF287-AE287)+AE318","v":8584},8800,{"$f":"(AI318-AG318)/(AI287-AG287)*(AH287-AG287)+AG318","v":1999.9999999999982},10500,{"$f":"(AK318-AI318)/(AK287-AI287)*(AJ287-AI287)+AI318","v":10500},10500,{"$f":"(AM318-AK318)/(AM287-AK287)*(AL287-AK287)+AK318","v":-5099.9999999999945},15700,{"$f":"(AO318-AM318)/(AO287-AM287)*(AN287-AM287)+AM318","v":5099.9999999999964},21000,{"$f":"(AQ318-AO318)/(AQ287-AO287)*(AP287-AO287)+AO318","v":21000},21000,32]
[{"$f":"IF(AND(AV294>A318,AV294<A320)=TRUE,AV294,0)","v":0},null,{"$f":"(C320-C318)/(A320-A318)*(A319-A318)+C318","v":{"$error":"#VALUE!"}},{"$f":"(E319-C319)/(E287-C287)*(D287-C287)+C319","v":{"$error":"#VALUE!"}},{"$f":"(E320-E318)/(A320-A318)*(A319-A318)+E318","v":{"$error":"#VALUE!"}},{"$f":"(G319-E319)/(G287-E287)*(F287-E287)+E319","v":{"$error":"#VALUE!"}},{"$f":"(G320-G318)/(A320-A318)*(A319-A318)+G318","v":{"$error":"#VALUE!"}},{"$f":"(I319-G319)/(I287-G287)*(H287-G287)+G319","v":{"$error":"#VALUE!"}},{"$f":"(I320-I318)/(A320-A318)*(A319-A318)+I318","v":{"$error":"#VALUE!"}},{"$f":"(K319-I319)/(K287-I287)*(J287-I287)+I319","v":{"$error":"#VALUE!"}},{"$f":"(K320-K318)/(A320-A318)*(A319-A318)+K318","v":{"$error":"#VALUE!"}},{"$f":"(M319-K319)/(M287-K287)*(L287-K287)+K319","v":{"$error":"#VALUE!"}},{"$f":"(M320-M318)/(A320-A318)*(A319-A318)+M318","v":{"$error":"#VALUE!"}},{"$f":"(O319-M319)/(O287-M287)*(N287-M287)+M319","v":{"$error":"#VALUE!"}},{"$f":"(O320-O318)/(A320-A318)*(A319-A318)+O318","v":{"$error":"#VALUE!"}},{"$f":"(Q319-O319)/(Q287-O287)*(P287-O287)+O319","v":{"$error":"#VALUE!"}},{"$f":"(Q320-Q318)/(A320-A318)*(A319-A318)+Q318","v":{"$error":"#VALUE!"}},{"$f":"(S319-Q319)/(S287-Q287)*(R287-Q287)+Q319","v":{"$error":"#VALUE!"}},{"$f":"(S320-S318)/(A320-A318)*(A319-A318)+S318","v":{"$error":"#VALUE!"}},{"$f":"(U319-S319)/(U287-S287)*(T287-S287)+S319","v":{"$error":"#VALUE!"}},{"$f":"(U320-U318)/(A320-A318)*(A319-A318)+U318","v":{"$error":"#VALUE!"}},{"$f":"(W319-U319)/(W287-U287)*(V287-U287)+U319","v":{"$error":"#VALUE!"}},{"$f":"(W320-W318)/(A320-A318)*(A319-A318)+W318","v":{"$error":"#VALUE!"}},{"$f":"(Y319-W319)/(Y287-W287)*(X287-W287)+W319","v":{"$error":"#VALUE!"}},{"$f":"(Y320-Y318)/(A320-A318)*(A319-A318)+Y318","v":{"$error":"#VALUE!"}},{"$f":"(AA319-Y319)/(AA287-Y287)*(Z287-Y287)+Y319","v":{"$error":"#VALUE!"}},{"$f":"(AA320-AA318)/(A320-A318)*(A319-A318)+AA318","v":{"$error":"#VALUE!"}},{"$f":"(AC319-AA319)/(AC287-AA287)*(AB287-AA287)+AA319","v":{"$error":"#VALUE!"}},{"$f":"(AC320-AC318)/(A320-A318)*(A319-A318)+AC318","v":20400},{"$f":"(AE319-AC319)/(AE287-AC287)*(AD287-AC287)+AC319","v":45200.000000000007},{"$f":"(AE320-AE318)/(A320-A318)*(A319-A318)+AE318","v":8000},{"$f":"(AG319-AE319)/(AG287-AE287)*(AF287-AE287)+AE319","v":8584},{"$f":"(AG320-AG318)/(A320-A318)*(A319-A318)+AG318","v":8800},{"$f":"(AI319-AG319)/(AI287-AG287)*(AH287-AG287)+AG319","v":1999.9999999999982},{"$f":"(AI320-AI318)/(A320-A318)*(A319-A318)+AI318","v":10500},{"$f":"(AK319-AI319)/(AK287-AI287)*(AJ287-AI287)+AI319","v":10500},{"$f":"(AK320-AK318)/(A320-A318)*(A319-A318)+AK318","v":10500},{"$f":"(AM319-AK319)/(AM287-AK287)*(AL287-AK287)+AK319","v":-5099.9999999999945},{"$f":"(AM320-AM318)/(A320-A318)*(A319-A318)+AM318","v":15700},{"$f":"(AO319-AM319)/(AO287-AM287)*(AN287-AM287)+AM319","v":5099.9999999999964},{"$f":"(AO320-AO318)/(A320-A318)*(A319-A318)+AO318","v":21000},{"$f":"(AQ319-AO319)/(AQ287-AO287)*(AP287-AO287)+AO319","v":21000},{"$f":"(AQ320-AQ318)/(A320-A318)*(A319-A318)+AQ318","v":21000},33]
[200,{"$f":"B318+1","v":16},"-",{"$f":"(E320-C320)/(E287-C287)*(D287-C287)+C320","v":{"$error":"#VALUE!"}},"-",{"$f":"(G320-E320)/(G287-E287)*(F287-E287)+E320","v":{"$error":"#VALUE!"}},"-",{"$f":"(I320-G320)/(I287-G287)*(H287-G287)+G320","v":{"$error":"#VALUE!"}},"-",{"$f":"(K320-I320)/(K287-I287)*(J287-I287)+I320","v":{"$error":"#VALUE!"}},"-",{"$f":"(M320-K320)/(M287-K287)*(L287-K287)+K320","v":{"$error":"#VALUE!"}},"-",{"$f":"(O320-M320)/(O287-M287)*(N287-M287)+M320","v":{"$error":"#VALUE!"}},"-",{"$f":"(Q320-O320)/(Q287-O287)*(P287-O287)+O320","v":{"$error":"#VALUE!"}},"-",{"$f":"(S320-Q320)/(S287-Q287)*(R287-Q287)+Q320","v":{"$error":"#VALUE!"}},"-",{"$f":"(U320-S320)/(U287-S287)*(T287-S287)+S320","v":{"$error":"#VALUE!"}},"-",{"$f":"(W320-U320)/(W287-U287)*(V287-U287)+U320","v":{"$error":"#VALUE!"}},"-",{"$f":"(Y320-W320)/(Y287-W287)*(X287-W287)+W320","v":{"$error":"#VALUE!"}},"-",{"$f":"(AA320-Y320)/(AA287-Y287)*(Z287-Y287)+Y320","v":{"$error":"#VALUE!"}},"-",{"$f":"(AC320-AA320)/(AC287-AA287)*(AB287-AA287)+AA320","v":{"$error":"#VALUE!"}},0,{"$f":"(AE320-AC320)/(AE287-AC287)*(AD287-AC287)+AC320","v":-16000.000000000004},8000,{"$f":"(AG320-AE320)/(AG287-AE287)*(AF287-AE287)+AE320","v":8584},8800,{"$f":"(AI320-AG320)/(AI287-AG287)*(AH287-AG287)+AG320","v":1999.9999999999982},10500,{"$f":"(AK320-AI320)/(AK287-AI287)*(AJ287-AI287)+AI320","v":10500},10500,{"$f":"(AM320-AK320)/(AM287-AK287)*(AL287-AK287)+AK320","v":-5099.9999999999945},15700,{"$f":"(AO320-AM320)/(AO287-AM287)*(AN287-AM287)+AM320","v":5099.9999999999964},21000,{"$f":"(AQ320-AO320)/(AQ287-AO287)*(AP287-AO287)+AO320","v":21000},21000,34]
[{"$f":"IF(AND(AV294>A320,AV294<A322)=TRUE,AV294,0)","v":0},null,{"$f":"(C322-C320)/(A322-A320)*(A321-A320)+C320","v":{"$error":"#VALUE!"}},{"$f":"(E321-C321)/(E287-C287)*(D287-C287)+C321","v":{"$error":"#VALUE!"}},{"$f":"(E322-E320)/(A322-A320)*(A321-A320)+E320","v":{"$error":"#VALUE!"}},{"$f":"(G321-E321)/(G287-E287)*(F287-E287)+E321","v":{"$error":"#VALUE!"}},{"$f":"(G322-G320)/(A322-A320)*(A321-A320)+G320","v":{"$error":"#VALUE!"}},{"$f":"(I321-G321)/(I287-G287)*(H287-G287)+G321","v":{"$error":"#VALUE!"}},{"$f":"(I322-I320)/(A322-A320)*(A321-A320)+I320","v":{"$error":"#VALUE!"}},{"$f":"(K321-I321)/(K287-I287)*(J287-I287)+I321","v":{"$error":"#VALUE!"}},{"$f":"(K322-K320)/(A322-A320)*(A321-A320)+K320","v":{"$error":"#VALUE!"}},{"$f":"(M321-K321)/(M287-K287)*(L287-K287)+K321","v":{"$error":"#VALUE!"}},{"$f":"(M322-M320)/(A322-A320)*(A321-A320)+M320","v":{"$error":"#VALUE!"}},{"$f":"(O321-M321)/(O287-M287)*(N287-M287)+M321","v":{"$error":"#VALUE!"}},{"$f":"(O322-O320)/(A322-A320)*(A321-A320)+O320","v":{"$error":"#VALUE!"}},{"$f":"(Q321-O321)/(Q287-O287)*(P287-O287)+O321","v":{"$error":"#VALUE!"}},{"$f":"(Q322-Q320)/(A322-A320)*(A321-A320)+Q320","v":{"$error":"#VALUE!"}},{"$f":"(S321-Q321)/(S287-Q287)*(R287-Q287)+Q321","v":{"$error":"#VALUE!"}},{"$f":"(S322-S320)/(A322-A320)*(A321-A320)+S320","v":{"$error":"#VALUE!"}},{"$f":"(U321-S321)/(U287-S287)*(T287-S287)+S321","v":{"$error":"#VALUE!"}},{"$f":"(U322-U320)/(A322-A320)*(A321-A320)+U320","v":{"$error":"#VALUE!"}},{"$f":"(W321-U321)/(W287-U287)*(V287-U287)+U321","v":{"$error":"#VALUE!"}},{"$f":"(W322-W320)/(A322-A320)*(A321-A320)+W320","v":{"$error":"#VALUE!"}},{"$f":"(Y321-W321)/(Y287-W287)*(X287-W287)+W321","v":{"$error":"#VALUE!"}},{"$f":"(Y322-Y320)/(A322-A320)*(A321-A320)+Y320","v":{"$error":"#VALUE!"}},{"$f":"(AA321-Y321)/(AA287-Y287)*(Z287-Y287)+Y321","v":{"$error":"#VALUE!"}},{"$f":"(AA322-AA320)/(A322-A320)*(A321-A320)+AA320","v":{"$error":"#VALUE!"}},{"$f":"(AC321-AA321)/(AC287-AA287)*(AB287-AA287)+AA321","v":{"$error":"#VALUE!"}},{"$f":"(AC322-AC320)/(A322-A320)*(A321-A320)+AC320","v":{"$error":"#VALUE!"}},{"$f":"(AE321-AC321)/(AE287-AC287)*(AD287-AC287)+AC321","v":{"$error":"#VALUE!"}},{"$f":"(AE322-AE320)/(A322-A320)*(A321-A320)+AE320","v":24000},{"$f":"(AG321-AE321)/(AG287-AE287)*(AF287-AE287)+AE321","v":12904.000000000004},{"$f":"(AG322-AG320)/(A322-A320)*(A321-A320)+AG320","v":8800},{"$f":"(AI321-AG321)/(AI287-AG287)*(AH287-AG287)+AG321","v":1999.9999999999982},{"$f":"(AI322-AI320)/(A322-A320)*(A321-A320)+AI320","v":10500},{"$f":"(AK321-AI321)/(AK287-AI287)*(AJ287-AI287)+AI321","v":10500},{"$f":"(AK322-AK320)/(A322-A320)*(A321-A320)+AK320","v":10500},{"$f":"(AM321-AK321)/(AM287-AK287)*(AL287-AK287)+AK321","v":-5099.9999999999945},{"$f":"(AM322-AM320)/(A322-A320)*(A321-A320)+AM320","v":15700},{"$f":"(AO321-AM321)/(AO287-AM287)*(AN287-AM287)+AM321","v":5099.9999999999964},{"$f":"(AO322-AO320)/(A322-A320)*(A321-A320)+AO320","v":21000},{"$f":"(AQ321-AO321)/(AQ287-AO287)*(AP287-AO287)+AO321","v":21000},{"$f":"(AQ322-AQ320)/(A322-A320)*(A321-A320)+AQ320","v":21000},35]
[300,{"$f":"B320+1","v":17},"-",{"$f":"(E322-C322)/(E287-C287)*(D287-C287)+C322","v":{"$error":"#VALUE!"}},"-",{"$f":"(G322-E322)/(G287-E287)*(F287-E287)+E322","v":{"$error":"#VALUE!"}},"-",{"$f":"(I322-G322)/(I287-G287)*(H287-G287)+G322","v":{"$error":"#VALUE!"}},"-",{"$f":"(K322-I322)/(K287-I287)*(J287-I287)+I322","v":{"$error":"#VALUE!"}},"-",{"$f":"(M322-K322)/(M287-K287)*(L287-K287)+K322","v":{"$error":"#VALUE!"}},"-",{"$f":"(O322-M322)/(O287-M287)*(N287-M287)+M322","v":{"$error":"#VALUE!"}},"-",{"$f":"(Q322-O322)/(Q287-O287)*(P287-O287)+O322","v":{"$error":"#VALUE!"}},"-",{"$f":"(S322-Q322)/(S287-Q287)*(R287-Q287)+Q322","v":{"$error":"#VALUE!"}},"-",{"$f":"(U322-S322)/(U287-S287)*(T287-S287)+S322","v":{"$error":"#VALUE!"}},"-",{"$f":"(W322-U322)/(W287-U287)*(V287-U287)+U322","v":{"$error":"#VALUE!"}},"-",{"$f":"(Y322-W322)/(Y287-W287)*(X287-W287)+W322","v":{"$error":"#VALUE!"}},"-",{"$f":"(AA322-Y322)/(AA287-Y287)*(Z287-Y287)+Y322","v":{"$error":"#VALUE!"}},"-",{"$f":"(AC322-AA322)/(AC287-AA287)*(AB287-AA287)+AA322","v":{"$error":"#VALUE!"}},"-",{"$f":"(AE322-AC322)/(AE287-AC287)*(AD287-AC287)+AC322","v":{"$error":"#VALUE!"}},0,{"$f":"(AG322-AE322)/(AG287-AE287)*(AF287-AE287)+AE322","v":6423.9999999999991},8800,{"$f":"(AI322-AG322)/(AI287-AG287)*(AH287-AG287)+AG322","v":1999.9999999999982},10500,{"$f":"(AK322-AI322)/(AK287-AI287)*(AJ287-AI287)+AI322","v":10500},10500,{"$f":"(AM322-AK322)/(AM287-AK287)*(AL287-AK287)+AK322","v":-5099.9999999999945},15700,{"$f":"(AO322-AM322)/(AO287-AM287)*(AN287-AM287)+AM322","v":5099.9999999999964},21000,{"$f":"(AQ322-AO322)/(AQ287-AO287)*(AP287-AO287)+AO322","v":21000},21000,36]
[null,null,null,null,null,null,null,null,null,null,null,null,null,null,null,null,null,null,null,null,null,null,null,null,null,null,null,null,null,null,null,null,null,null,null,null,null,null,null,null,null,null," ",37]
["COL",null,3,{"$f":"C324+1","v":4},{"$f":"D324+1","v":5},6,7,8,9,10,11,12,13,14,15,16,17,18,{"$f":"R324+1","v":19},20,21,22,23,24,25,26,27,28,29,30,31,32,33,34,35,36,37,38,39,40,41,42,43,38]
[null,null,1,2,null,3,null,4,null,5,null,6,null,7,null,8,null,9,null,10,null,11,null,12,null,13,null,14,null,15,null,16,null,17,null,18,null,19,null,20,null,21]
[]
[]
[null,"Рвх",5.0000000000000001E-3,{"$f":"IF(AND(AS335>C328,AS335<E328)=TRUE,AS335,0)","v":0},0.01,{"$f":"IF(AND(AS335>E328,AS335<G328)=TRUE,AS335,0)","v":0},1.4999999999999999E-2,{"$f":"IF(AND(AS335>G328,AS335<I328)=TRUE,AS335,0)","v":0},0.02,{"$f":"IF(AND(AS335>I328,AS335<K328)=TRUE,AS335,0)","v":0},0.03,{"$f":"IF(AND(AS335>K328,AS335<M328)=TRUE,AS335,0)","v":0},0.04,{"$f":"IF(AND(AS335>M328,AS335<O328)=TRUE,AS335,0)","v":0},0.05,{"$f":"IF(AND(AS335>O328,AS335<Q328)=TRUE,AS335,0)","v":0},0.06,{"$f":"IF(AND(AS335>Q328,AS335<S328)=TRUE,AS335,0)","v":0},7.0000000000000007E-2,{"$f":"IF(AND(AS335>S328,AS335<U328)=TRUE,AS335,0)","v":0},0.08,{"$f":"IF(AND(AS335>U328,AS335<W328)=TRUE,AS335,0)","v":0},0.1,{"$f":"IF(AND(AS335>W328,AS335<Y328)=TRUE,AS335,0)","v":0},0.125,{"$f":"IF(AND(AS335>Y328,AS335<AA328)=TRUE,AS335,0)","v":0},0.15,{"$f":"IF(AND(AS335>AA328,AS335<AC328)=TRUE,AS335,0)","v":0},0.2,{"$f":"IF(AND(AS335>AC328,AS335<AE328)=TRUE,AS335,0)","v":0},0.3,{"$f":"IF(AND(AS335>AE328,AS335<AG328)=TRUE,AS335,0)","v":0.373},0.4,{"$f":"IF(AND(AS335>AG328,AS335<AI328)=TRUE,AS335,0)","v":0},0.5,{"$f":"IF(AND(AS335>AI328,AS335<AK328)=TRUE,AS335,0)","v":0},0.6,null,null,null,null,null,null,1]
["Рвых","МПа",null,null,null,null,null,null,null,null,null,null,null,null,null,null,null,null,null,null,null,null,null,null,null,null,null,null,null,null,null,null,null,null,null,null,null,null,null,null,null,null,null,{"$f":"AR328+1","v":2}]
["кПа",null,null,null,null,null,null,null,null,null,null,null,null,null,null,null,null,null,null,null,null,null,null,null,null,null,null,null,null,null,null,null,null,null,null,null,null,null,null,null,null,null,null,{"$f":"AR329+1","v":3}]
[2,1,1460,{"$f":"(E331-C331)/(E328-C328)*(D328-C328)+C331","v":620},2300,{"$f":"(G331-E331)/(G328-E328)*(F328-E328)+E331","v":1099.9999999999998},2900,{"$f":"(I331-G331)/(I328-G328)*(H328-G328)+G331","v":-339.99999999999955},3980,{"$f":"(K331-I331)/(K328-I328)*(J328-I328)+I331","v":2300},4820,{"$f":"(M331-K331)/(M328-K328)*(L328-K328)+K331","v":2780.0000000000005},5500,{"$f":"(O331-M331)/(O328-M328)*(N328-M328)+M331","v":3260.0000000000005},6060,{"$f":"(Q331-O331)/(Q328-O328)*(P328-O328)+O331","v":3859.9999999999986},6500,{"$f":"(S331-Q331)/(S328-Q328)*(R328-Q328)+Q331","v":3500.0000000000027},7000,{"$f":"(U331-S331)/(U328-S328)*(T328-S328)+S331","v":4199.9999999999982},7400,{"$f":"(W331-U331)/(W328-U328)*(V328-U328)+U331","v":4200},8200,{"$f":"(Y331-W331)/(Y328-W328)*(X328-W328)+W331","v":3799.9999999999991},9300,{"$f":"(AA331-Y331)/(AA328-Y328)*(Z328-Y328)+Y331","v":3799.9999999999991},10400,{"$f":"(AC331-AA331)/(AC328-AA328)*(AB328-AA328)+AA331","v":4400.0000000000027},12400,{"$f":"(AE331-AC331)/(AE328-AC328)*(AD328-AC328)+AC331","v":5199.9999999999982},16000,{"$f":"(AG331-AE331)/(AG328-AE328)*(AF328-AE328)+AE331","v":17168},17600,{"$f":"(AI331-AG331)/(AI328-AG328)*(AH328-AG328)+AG331","v":3999.9999999999964},21000,{"$f":"(AK331-AI331)/(AK328-AI328)*(AJ328-AI328)+AI331","v":21000},21000,null,null,null,null,null,null,4,"Рвх","Q","Qcрасч","Рвых","Рвых"]
[{"$f":"IF(AND(AV335>A331,AV335<A333)=TRUE,AV335,0)","v":0},null,{"$f":"(C333-C331)/(A333-A331)*(A332-A331)+C331","v":1980},{"$f":"(E332-C332)/(E328-C328)*(D328-C328)+C332","v":1460},{"$f":"(E333-E331)/(A333-A331)*(A332-A331)+E331","v":2500},{"$f":"(G332-E332)/(G328-E328)*(F328-E328)+E332","v":1299.9999999999998},{"$f":"(G333-G331)/(A333-A331)*(A332-A331)+G331","v":3100},{"$f":"(I332-G332)/(I328-G328)*(H328-G328)+G332","v":-19.999999999999545},{"$f":"(I333-I331)/(A333-A331)*(A332-A331)+I331","v":4140},{"$f":"(K332-I332)/(K328-I328)*(J328-I328)+I332","v":2300},{"$f":"(K333-K331)/(A333-A331)*(A332-A331)+K331","v":5060},{"$f":"(M332-K332)/(M328-K328)*(L328-K328)+K332","v":3140.0000000000005},{"$f":"(M333-M331)/(A333-A331)*(A332-A331)+M331","v":5700},{"$f":"(O332-M332)/(O328-M328)*(N328-M328)+M332","v":3780},{"$f":"(O333-O331)/(A333-A331)*(A332-A331)+O331","v":6180},{"$f":"(Q332-O332)/(Q328-O328)*(P328-O328)+O332","v":4579.9999999999991},{"$f":"(Q333-Q331)/(A333-A331)*(A332-A331)+Q331","v":6500},{"$f":"(S332-Q332)/(S328-Q328)*(R328-Q328)+Q332","v":3500.0000000000027},{"$f":"(S333-S331)/(A333-A331)*(A332-A331)+S331","v":7000},{"$f":"(U332-S332)/(U328-S328)*(T328-S328)+S332","v":4199.9999999999982},{"$f":"(U333-U331)/(A333-A331)*(A332-A331)+U331","v":7400},{"$f":"(W332-U332)/(W328-U328)*(V328-U328)+U332","v":4200},{"$f":"(W333-W331)/(A333-A331)*(A332-A331)+W331","v":8200},{"$f":"(Y332-W332)/(Y328-W328)*(X328-W328)+W332","v":3799.9999999999991},{"$f":"(Y333-Y331)/(A333-A331)*(A332-A331)+Y331","v":9300},{"$f":"(AA332-Y332)/(AA328-Y328)*(Z328-Y328)+Y332","v":3799.9999999999991},{"$f":"(AA333-AA331)/(A333-A331)*(A332-A331)+AA331","v":10400},{"$f":"(AC332-AA332)/(AC328-AA328)*(AB328-AA328)+AA332","v":4400.0000000000027},{"$f":"(AC333-AC331)/(A333-A331)*(A332-A331)+AC331","v":12400},{"$f":"(AE332-AC332)/(AE328-AC328)*(AD328-AC328)+AC332","v":5199.9999999999982},{"$f":"(AE333-AE331)/(A333-A331)*(A332-A331)+AE331","v":16000},{"$f":"(AG332-AE332)/(AG328-AE328)*(AF328-AE328)+AE332","v":17168},{"$f":"(AG333-AG331)/(A333-A331)*(A332-A331)+AG331","v":17600},{"$f":"(AI332-AG332)/(AI328-AG328)*(AH328-AG328)+AG332","v":3999.9999999999964},{"$f":"(AI333-AI331)/(A333-A331)*(A332-A331)+AI331","v":21000},{"$f":"(AK332-AI332)/(AK328-AI328)*(AJ328-AI328)+AI332","v":21000},{"$f":"(AK333-AK331)/(A333-A331)*(A332-A331)+AK331","v":21000},null,null,null,null,null,null,5]
[3,{"$f":"B331+1","v":2},1200,{"$f":"(E333-C333)/(E328-C328)*(D328-C328)+C333","v":200},2200,{"$f":"(G333-E333)/(G328-E328)*(F328-E328)+E333","v":999.99999999999977},2800,{"$f":"(I333-G333)/(I328-G328)*(H328-G328)+G333","v":-499.99999999999955},3900,{"$f":"(K333-I333)/(K328-I328)*(J328-I328)+I333","v":2300},4700,{"$f":"(M333-K333)/(M328-K328)*(L328-K328)+K333","v":2600.0000000000005},5400,{"$f":"(O333-M333)/(O328-M328)*(N328-M328)+M333","v":3000.0000000000005},6000,{"$f":"(Q333-O333)/(Q328-O328)*(P328-O328)+O333","v":3499.9999999999986},6500,{"$f":"(S333-Q333)/(S328-Q328)*(R328-Q328)+Q333","v":3500.0000000000027},7000,{"$f":"(U333-S333)/(U328-S328)*(T328-S328)+S333","v":4199.9999999999982},7400,{"$f":"(W333-U333)/(W328-U328)*(V328-U328)+U333","v":4200},8200,{"$f":"(Y333-W333)/(Y328-W328)*(X328-W328)+W333","v":3799.9999999999991},9300,{"$f":"(AA333-Y333)/(AA328-Y328)*(Z328-Y328)+Y333","v":3799.9999999999991},10400,{"$f":"(AC333-AA333)/(AC328-AA328)*(AB328-AA328)+AA333","v":4400.0000000000027},12400,{"$f":"(AE333-AC333)/(AE328-AC328)*(AD328-AC328)+AC333","v":5199.9999999999982},16000,{"$f":"(AG333-AE333)/(AG328-AE328)*(AF328-AE328)+AE333","v":17168},17600,{"$f":"(AI333-AG333)/(AI328-AG328)*(AH328-AG328)+AG333","v":3999.9999999999964},21000,{"$f":"(AK333-AI333)/(AK328-AI328)*(AJ328-AI328)+AI333","v":21000},21000,null,null,null,null,null,null,6,"МПа","нм3/час","нм3/час","кПа","кПа"]
[{"$f":"IF(AND(AV335>A333,AV335<A335)=TRUE,AV335,0)","v":0},null,{"$f":"(C335-C333)/(A335-A333)*(A334-A333)+C333","v":3000},{"$f":"(E334-C334)/(E328-C328)*(D328-C328)+C334","v":3350},{"$f":"(E335-E333)/(A335-A333)*(A334-A333)+E333","v":2650},{"$f":"(G334-E334)/(G328-E328)*(F328-E328)+E334","v":1750},{"$f":"(G335-G333)/(A335-A333)*(A334-A333)+G333","v":3100},{"$f":"(I334-G334)/(I328-G328)*(H328-G328)+G334","v":-199.99999999999955},{"$f":"(I335-I333)/(A335-A333)*(A334-A333)+I333","v":4200},{"$f":"(K334-I334)/(K328-I328)*(J328-I328)+I334","v":3020},{"$f":"(K335-K333)/(A335-A333)*(A334-A333)+K333","v":4790},{"$f":"(M334-K334)/(M328-K328)*(L328-K328)+K334","v":2960.0000000000005},{"$f":"(M335-M333)/(A335-A333)*(A334-A333)+M333","v":5400},{"$f":"(O334-M334)/(O328-M328)*(N328-M328)+M334","v":3000.0000000000005},{"$f":"(O335-O333)/(A335-A333)*(A334-A333)+O333","v":6000},{"$f":"(Q334-O334)/(Q328-O328)*(P328-O328)+O334","v":3499.9999999999986},{"$f":"(Q335-Q333)/(A335-A333)*(A334-A333)+Q333","v":6500},{"$f":"(S334-Q334)/(S328-Q328)*(R328-Q328)+Q334","v":3500.0000000000027},{"$f":"(S335-S333)/(E335-E333)*(E334-E333)+S333","v":7000},{"$f":"(U334-S334)/(U328-S328)*(T328-S328)+S334","v":4199.9999999999982},{"$f":"(U335-U333)/(G335-G333)*(G334-G333)+U333","v":7400},{"$f":"(W334-U334)/(W328-U328)*(V328-U328)+U334","v":4200},{"$f":"(W335-W333)/(I335-I333)*(I334-I333)+W333","v":8200},{"$f":"(Y334-W334)/(Y328-W328)*(X328-W328)+W334","v":3799.9999999999991},{"$f":"(Y335-Y333)/(A335-A333)*(A334-A333)+Y333","v":9300},{"$f":"(AA334-Y334)/(AA328-Y328)*(Z328-Y328)+Y334","v":3799.9999999999991},{"$f":"(AA335-AA333)/(E335-E333)*(E334-E333)+AA333","v":10400},{"$f":"(AC334-AA334)/(AC328-AA328)*(AB328-AA328)+AA334","v":4400.0000000000027},{"$f":"(AC335-AC333)/(A335-A333)*(A334-A333)+AC333","v":12400},{"$f":"(AE334-AC334)/(AE328-AC328)*(AD328-AC328)+AC334","v":5199.9999999999982},{"$f":"(AE335-AE333)/(A335-A333)*(A334-A333)+AE333","v":16000},{"$f":"(AG334-AE334)/(AG328-AE328)*(AF328-AE328)+AE334","v":17168},{"$f":"(AG335-AG333)/(A335-A333)*(A334-A333)+AG333","v":17600},{"$f":"(AI334-AG334)/(AI328-AG328)*(AH328-AG328)+AG334","v":3999.9999999999964},{"$f":"(AI335-AI333)/(A335-A333)*(A334-A333)+AI333","v":21000},{"$f":"(AK334-AI334)/(AK328-AI328)*(AJ328-AI328)+AI334","v":21000},{"$f":"(AK335-AK333)/(A335-A333)*(A334-A333)+AK333","v":21000},null,null,null,null,null,null,7]
[5,{"$f":"B333+1","v":3},0,{"$f":"(E335-C335)/(E328-C328)*(D328-C328)+C335","v":-1900},1900,{"$f":"(G335-E335)/(G328-E328)*(F328-E328)+E335","v":499.99999999999977},2600,{"$f":"(I335-G335)/(I328-G328)*(H328-G328)+G335","v":-699.99999999999955},3700,{"$f":"(K335-I335)/(K328-I328)*(J328-I328)+I335","v":1819.9999999999998},4640,{"$f":"(M335-K335)/(M328-K328)*(L328-K328)+K335","v":2360.0000000000005},5400,{"$f":"(O335-M335)/(O328-M328)*(N328-M328)+M335","v":3000.0000000000005},6000,{"$f":"(Q335-O335)/(Q328-O328)*(P328-O328)+O335","v":3499.9999999999986},6500,{"$f":"(S335-Q335)/(S328-Q328)*(R328-Q328)+Q335","v":3500.0000000000027},7000,{"$f":"(U335-S335)/(U328-S328)*(T328-S328)+S335","v":4199.9999999999982},7400,{"$f":"(W335-U335)/(W328-U328)*(V328-U328)+U335","v":4200},8200,{"$f":"(Y335-W335)/(Y328-W328)*(X328-W328)+W335","v":3799.9999999999991},9300,{"$f":"(AA335-Y335)/(AA328-Y328)*(Z328-Y328)+Y335","v":3799.9999999999991},10400,{"$f":"(AC335-AA335)/(AC328-AA328)*(AB328-AA328)+AA335","v":4400.0000000000027},12400,{"$f":"(AE335-AC335)/(AE328-AC328)*(AD328-AC328)+AC335","v":5199.9999999999982},16000,{"$f":"(AG335-AE335)/(AG328-AE328)*(AF328-AE328)+AE335","v":17168},17600,{"$f":"(AI335-AG335)/(AI328-AG328)*(AH328-AG328)+AG335","v":3999.9999999999964},21000,{"$f":"(AK335-AI335)/(AK328-AI328)*(AJ328-AI328)+AI335","v":21000},21000,null,null,null,null,null,null,8,{"$f":"AK21","v":0.373},{"$f":"AL21","v":229.2},{"$f":"VLOOKUP(AV335,A328:AK353,HLOOKUP(AS335,A328:AK353,26,0),0)","v":{"$error":"#N/A"}},{"$f":"AN21","v":300},{"$f":"IF(AS335<A331,\"NO\",IF(AS335>#REF!,\"N0\",IF(VLOOKUP(AS335,A331:AW351,3,0)>AT335,\"NO\",IF(VLOOKUP(AS335,A331:AW351,17,0)<AT335,\"NO\",IF(AND(AU335>=AT335-0.1,AU335<AT335+0.1)=TRUE,AV335,\"NO\")))))","v":"NO"}]
[{"$f":"IF(AND(AV335>A335,AV335<A337)=TRUE,AV335,0)","v":0},null,{"$f":"(C337-C335)/(A337-A335)*(A336-A335)+C335","v":{"$error":"#VALUE!"}},{"$f":"(E336-C336)/(E328-C328)*(D328-C328)+C336","v":{"$error":"#VALUE!"}},{"$f":"(E337-E335)/(A337-A335)*(A336-A335)+E335","v":3000},{"$f":"(G336-E336)/(G328-E328)*(F328-E328)+E336","v":2466.6666666666661},{"$f":"(G337-G335)/(A337-A335)*(A336-A335)+G335","v":3266.666666666667},{"$f":"(I336-G336)/(I328-G328)*(H328-G328)+G336","v":466.66666666666833},{"$f":"(I337-I335)/(A337-A335)*(A336-A335)+I335","v":4200},{"$f":"(K336-I336)/(K328-I328)*(J328-I328)+I336","v":2786.6666666666661},{"$f":"(K337-K335)/(A337-A335)*(A336-A335)+K335","v":4906.666666666667},{"$f":"(M336-K336)/(M328-K328)*(L328-K328)+K336","v":2926.6666666666674},{"$f":"(M337-M335)/(A337-A335)*(A336-A335)+M335","v":5566.666666666667},{"$f":"(O336-M336)/(O328-M328)*(N328-M328)+M336","v":3166.6666666666674},{"$f":"(O337-O335)/(A337-A335)*(A336-A335)+O335","v":6166.666666666667},{"$f":"(Q336-O336)/(Q328-O328)*(P328-O328)+O336","v":4500.0000000000009},{"$f":"(Q337-Q335)/(A337-A335)*(A336-A335)+Q335","v":6500},{"$f":"(S336-Q336)/(S328-Q328)*(R328-Q328)+Q336","v":3500.0000000000027},{"$f":"(S337-S335)/(A337-A335)*(A336-A335)+S335","v":7000},{"$f":"(U336-S336)/(U328-S328)*(T328-S328)+S336","v":4199.9999999999982},{"$f":"(U337-U335)/(G337-G335)*(G336-G335)+U335","v":7400},{"$f":"(W336-U336)/(W328-U328)*(V328-U328)+U336","v":4200},{"$f":"(W337-W335)/(I337-I335)*(I336-I335)+W335","v":8200},{"$f":"(Y336-W336)/(Y328-W328)*(X328-W328)+W336","v":3799.9999999999991},{"$f":"(Y337-Y335)/(A337-A335)*(A336-A335)+Y335","v":9300},{"$f":"(AA336-Y336)/(AA328-Y328)*(Z328-Y328)+Y336","v":3799.9999999999991},{"$f":"(AA337-AA335)/(A337-A335)*(A336-A335)+AA335","v":10400},{"$f":"(AC336-AA336)/(AC328-AA328)*(AB328-AA328)+AA336","v":4400.0000000000027},{"$f":"(AC337-AC335)/(A337-A335)*(A336-A335)+AC335","v":12400},{"$f":"(AE336-AC336)/(AE328-AC328)*(AD328-AC328)+AC336","v":5199.9999999999982},{"$f":"(AE337-AE335)/(A337-A335)*(A336-A335)+AE335","v":16000},{"$f":"(AG336-AE336)/(AG328-AE328)*(AF328-AE328)+AE336","v":17168},{"$f":"(AG337-AG335)/(A337-A335)*(A336-A335)+AG335","v":17600},{"$f":"(AI336-AG336)/(AI328-AG328)*(AH328-AG328)+AG336","v":3999.9999999999964},{"$f":"(AI337-AI335)/(A337-A335)*(A336-A335)+AI335","v":21000},{"$f":"(AK336-AI336)/(AK328-AI328)*(AJ328-AI328)+AI336","v":21000},{"$f":"(AK337-AK335)/(A337-A335)*(A336-A335)+AK335","v":21000},null,null,null,null,null,null,9]
[8,{"$f":"B335+1","v":4},"-",{"$f":"(E337-C337)/(E328-C328)*(D328-C328)+C337","v":{"$error":"#VALUE!"}},1240,{"$f":"(G337-E337)/(G328-E328)*(F328-E328)+E337","v":-680.00000000000023},2200,{"$f":"(I337-G337)/(I328-G328)*(H328-G328)+G337","v":-1399.9999999999991},3400,{"$f":"(K337-I337)/(K328-I328)*(J328-I328)+I337","v":1239.9999999999995},4480,{"$f":"(M337-K337)/(M328-K328)*(L328-K328)+K337","v":2020.0000000000005},5300,{"$f":"(O337-M337)/(O328-M328)*(N328-M328)+M337","v":2900.0000000000005},5900,{"$f":"(Q337-O337)/(Q328-O328)*(P328-O328)+O337","v":2899.9999999999982},6500,{"$f":"(S337-Q337)/(S328-Q328)*(R328-Q328)+Q337","v":3500.0000000000027},7000,{"$f":"(U337-S337)/(U328-S328)*(T328-S328)+S337","v":4199.9999999999982},7400,{"$f":"(W337-U337)/(W328-U328)*(V328-U328)+U337","v":4200},8200,{"$f":"(Y337-W337)/(Y328-W328)*(X328-W328)+W337","v":3799.9999999999991},9300,{"$f":"(AA337-Y337)/(AA328-Y328)*(Z328-Y328)+Y337","v":3799.9999999999991},10400,{"$f":"(AC337-AA337)/(AC328-AA328)*(AB328-AA328)+AA337","v":4400.0000000000027},12400,{"$f":"(AE337-AC337)/(AE328-AC328)*(AD328-AC328)+AC337","v":5199.9999999999982},16000,{"$f":"(AG337-AE337)/(AG328-AE328)*(AF328-AE328)+AE337","v":17168},17600,{"$f":"(AI337-AG337)/(AI328-AG328)*(AH328-AG328)+AG337","v":3999.9999999999964},21000,{"$f":"(AK337-AI337)/(AK328-AI328)*(AJ328-AI328)+AI337","v":21000},21000,null,null,null,null,null,null,10,0.1,{"$f":"AL23","v":263.58}]
[{"$f":"IF(AND(AV335>A337,AV335<A339)=TRUE,AV335,0)","v":0},null,{"$f":"(C339-C337)/(A339-A337)*(A338-A337)+C337","v":{"$error":"#VALUE!"}},{"$f":"(E338-C338)/(E328-C328)*(D328-C328)+C338","v":{"$error":"#VALUE!"}},{"$f":"(E339-E337)/(A339-A337)*(A338-A337)+E337","v":6200},{"$f":"(G338-E338)/(G328-E328)*(F328-E328)+E338","v":11800},{"$f":"(G339-G337)/(A339-A337)*(A338-A337)+G337","v":3400},{"$f":"(I338-G338)/(I328-G328)*(H328-G328)+G338","v":-199.99999999999909},{"$f":"(I339-I337)/(A339-A337)*(A338-A337)+I337","v":4600},{"$f":"(K338-I338)/(K328-I328)*(J328-I328)+I338","v":3400},{"$f":"(K339-K337)/(A339-A337)*(A338-A337)+K337","v":5200},{"$f":"(M338-K338)/(M328-K328)*(L328-K328)+K338","v":3700},{"$f":"(M339-M337)/(A339-A337)*(A338-A337)+M337","v":5700},{"$f":"(O338-M338)/(O328-M328)*(N328-M328)+M338","v":3300.0000000000005},{"$f":"(O339-O337)/(A339-A337)*(A338-A337)+O337","v":6300},{"$f":"(Q338-O338)/(Q328-O328)*(P328-O328)+O338","v":3299.9999999999982},{"$f":"(Q339-Q337)/(A339-A337)*(A338-A337)+Q337","v":6900},{"$f":"(S338-Q338)/(S328-Q328)*(R328-Q328)+Q338","v":6300.0000000000009},{"$f":"(S339-S337)/(A339-A337)*(A338-A337)+S337","v":7000},{"$f":"(U338-S338)/(U328-S328)*(T328-S328)+S338","v":4199.9999999999982},{"$f":"(U339-U337)/(G339-G337)*(G338-G337)+U337","v":7400},{"$f":"(W338-U338)/(W328-U328)*(V328-U328)+U338","v":4200},{"$f":"(W339-W337)/(I339-I337)*(I338-I337)+W337","v":8200},{"$f":"(Y338-W338)/(Y328-W328)*(X328-W328)+W338","v":3799.9999999999991},{"$f":"(Y339-Y337)/(A339-A337)*(A338-A337)+Y337","v":9300},{"$f":"(AA338-Y338)/(AA328-Y328)*(Z328-Y328)+Y338","v":3799.9999999999991},{"$f":"(AA339-AA337)/(A339-A337)*(A338-A337)+AA337","v":10400},{"$f":"(AC338-AA338)/(AC328-AA328)*(AB328-AA328)+AA338","v":4400.0000000000027},{"$f":"(AC339-AC337)/(A339-A337)*(A338-A337)+AC337","v":12400},{"$f":"(AE338-AC338)/(AE328-AC328)*(AD328-AC328)+AC338","v":5199.9999999999982},{"$f":"(AE339-AE337)/(A339-A337)*(A338-A337)+AE337","v":16000},{"$f":"(AG338-AE338)/(AG328-AE328)*(AF328-AE328)+AE338","v":17168},{"$f":"(AG339-AG337)/(A339-A337)*(A338-A337)+AG337","v":17600},{"$f":"(AI338-AG338)/(AI328-AG328)*(AH328-AG328)+AG338","v":3999.9999999999964},{"$f":"(AI339-AI337)/(A339-A337)*(A338-A337)+AI337","v":21000},{"$f":"(AK338-AI338)/(AK328-AI328)*(AJ328-AI328)+AI338","v":21000},{"$f":"(AK339-AK337)/(A339-A337)*(A338-A337)+AK337","v":21000},null,null,null,null,null,null,11]
[10,{"$f":"B337+1","v":5},"-",{"$f":"(E339-C339)/(E328-C328)*(D328-C328)+C339","v":{"$error":"#VALUE!"}},0,{"$f":"(G339-E339)/(G328-E328)*(F328-E328)+E339","v":-3800.0000000000005},1900,{"$f":"(I339-G339)/(I328-G328)*(H328-G328)+G339","v":-1699.9999999999991},3100,{"$f":"(K339-I339)/(K328-I328)*(J328-I328)+I339","v":699.99999999999955},4300,{"$f":"(M339-K339)/(M328-K328)*(L328-K328)+K339","v":1600.0000000000005},5200,{"$f":"(O339-M339)/(O328-M328)*(N328-M328)+M339","v":2800.0000000000005},5800,{"$f":"(Q339-O339)/(Q328-O328)*(P328-O328)+O339","v":2799.9999999999982},6400,{"$f":"(S339-Q339)/(S328-Q328)*(R328-Q328)+Q339","v":2800.0000000000032},7000,{"$f":"(U339-S339)/(U328-S328)*(T328-S328)+S339","v":4199.9999999999982},7400,{"$f":"(W339-U339)/(W328-U328)*(V328-U328)+U339","v":4200},8200,{"$f":"(Y339-W339)/(Y328-W328)*(X328-W328)+W339","v":3799.9999999999991},9300,{"$f":"(AA339-Y339)/(AA328-Y328)*(Z328-Y328)+Y339","v":3799.9999999999991},10400,{"$f":"(AC339-AA339)/(AC328-AA328)*(AB328-AA328)+AA339","v":4400.0000000000027},12400,{"$f":"(AE339-AC339)/(AE328-AC328)*(AD328-AC328)+AC339","v":5199.9999999999982},16000,{"$f":"(AG339-AE339)/(AG328-AE328)*(AF328-AE328)+AE339","v":17168},17600,{"$f":"(AI339-AG339)/(AI328-AG328)*(AH328-AG328)+AG339","v":3999.9999999999964},21000,{"$f":"(AK339-AI339)/(AK328-AI328)*(AJ328-AI328)+AI339","v":21000},21000,null,null,null,null,null,null,12,"Регулятор давления",null,null,{"$f":"Лист1!F83","v":"РЕД-6-150-Н DN150 Qmax=21000 нм3/час"}]
[{"$f":"IF(AND(AV335>A339,AV335<A341)=TRUE,AV335,0)","v":0},null,{"$f":"(C341-C339)/(A341-A339)*(A340-A339)+C339","v":{"$error":"#VALUE!"}},{"$f":"(E340-C340)/(E328-C328)*(D328-C328)+C340","v":{"$error":"#VALUE!"}},{"$f":"(E341-E339)/(A341-A339)*(A340-A339)+E339","v":{"$error":"#VALUE!"}},{"$f":"(G340-E340)/(G328-E328)*(F328-E328)+E340","v":{"$error":"#VALUE!"}},{"$f":"(G341-G339)/(A341-A339)*(A340-A339)+G339","v":5700},{"$f":"(I340-G340)/(I328-G328)*(H328-G328)+G340","v":8700},{"$f":"(I341-I339)/(A341-A339)*(A340-A339)+I339","v":4700},{"$f":"(K340-I340)/(K328-I328)*(J328-I328)+I340","v":3900},{"$f":"(K341-K339)/(A341-A339)*(A340-A339)+K339","v":5100},{"$f":"(M340-K340)/(M328-K328)*(L328-K328)+K340","v":3000.0000000000005},{"$f":"(M341-M339)/(A341-A339)*(A340-A339)+M339","v":5800},{"$f":"(O340-M340)/(O328-M328)*(N328-M328)+M340","v":5000},{"$f":"(O341-O339)/(A341-A339)*(A340-A339)+O339","v":6000},{"$f":"(Q340-O340)/(Q328-O328)*(P328-O328)+O340","v":2999.9999999999982},{"$f":"(Q341-Q339)/(A341-A339)*(A340-A339)+Q339","v":6600},{"$f":"(S340-Q340)/(S328-Q328)*(R328-Q328)+Q340","v":1800.0000000000045},{"$f":"(S341-S339)/(A341-A339)*(A340-A339)+S339","v":7400},{"$f":"(U340-S340)/(U328-S328)*(T328-S328)+S340","v":7400},{"$f":"(U341-U339)/(A341-A339)*(A340-A339)+U339","v":7400},{"$f":"(W340-U340)/(W328-U328)*(V328-U328)+U340","v":4200},{"$f":"(W341-W339)/(A341-A339)*(A340-A339)+W339","v":8200},{"$f":"(Y340-W340)/(Y328-W328)*(X328-W328)+W340","v":3799.9999999999991},{"$f":"(Y341-Y339)/(A341-A339)*(A340-A339)+Y339","v":9300},{"$f":"(AA340-Y340)/(AA328-Y328)*(Z328-Y328)+Y340","v":3799.9999999999991},{"$f":"(AA341-AA339)/(A341-A339)*(A340-A339)+AA339","v":10400},{"$f":"(AC340-AA340)/(AC328-AA328)*(AB328-AA328)+AA340","v":4400.0000000000027},{"$f":"(AC341-AC339)/(A341-A339)*(A340-A339)+AC339","v":12400},{"$f":"(AE340-AC340)/(AE328-AC328)*(AD328-AC328)+AC340","v":5199.9999999999982},{"$f":"(AE341-AE339)/(A341-A339)*(A340-A339)+AE339","v":16000},{"$f":"(AG340-AE340)/(AG328-AE328)*(AF328-AE328)+AE340","v":17168},{"$f":"(AG341-AG339)/(A341-A339)*(A340-A339)+AG339","v":17600},{"$f":"(AI340-AG340)/(AI328-AG328)*(AH328-AG328)+AG340","v":3999.9999999999964},{"$f":"(AI341-AI339)/(A341-A339)*(A340-A339)+AI339","v":21000},{"$f":"(AK340-AI340)/(AK328-AI328)*(AJ328-AI328)+AI340","v":21000},{"$f":"(AK341-AK339)/(A341-A339)*(A340-A339)+AK339","v":21000},null,null,null,null,null,null,13]
[15,{"$f":"B339+1","v":6},"-",{"$f":"(E341-C341)/(E328-C328)*(D328-C328)+C341","v":{"$error":"#VALUE!"}},"-",{"$f":"(G341-E341)/(G328-E328)*(F328-E328)+E341","v":{"$error":"#VALUE!"}},0,{"$f":"(I341-G341)/(I328-G328)*(H328-G328)+G341","v":-6899.9999999999982},2300,{"$f":"(K341-I341)/(K328-I328)*(J328-I328)+I341","v":-900.00000000000045},3900,{"$f":"(M341-K341)/(M328-K328)*(L328-K328)+K341","v":900.00000000000045},4900,{"$f":"(O341-M341)/(O328-M328)*(N328-M328)+M341","v":1700.0000000000005},5700,{"$f":"(Q341-O341)/(Q328-O328)*(P328-O328)+O341","v":2699.9999999999982},6300,{"$f":"(S341-Q341)/(S328-Q328)*(R328-Q328)+Q341","v":3300.0000000000027},6800,{"$f":"(U341-S341)/(U328-S328)*(T328-S328)+S341","v":2599.9999999999973},7400,{"$f":"(W341-U341)/(W328-U328)*(V328-U328)+U341","v":4200},8200,{"$f":"(Y341-W341)/(Y328-W328)*(X328-W328)+W341","v":3799.9999999999991},9300,{"$f":"(AA341-Y341)/(AA328-Y328)*(Z328-Y328)+Y341","v":3799.9999999999991},10400,{"$f":"(AC341-AA341)/(AC328-AA328)*(AB328-AA328)+AA341","v":4400.0000000000027},12400,{"$f":"(AE341-AC341)/(AE328-AC328)*(AD328-AC328)+AC341","v":5199.9999999999982},16000,{"$f":"(AG341-AE341)/(AG328-AE328)*(AF328-AE328)+AE341","v":17168},17600,{"$f":"(AI341-AG341)/(AI328-AG328)*(AH328-AG328)+AG341","v":3999.9999999999964},21000,{"$f":"(AK341-AI341)/(AK328-AI328)*(AJ328-AI328)+AI341","v":21000},21000,null,null,null,null,null,null,14]
[{"$f":"IF(AND(AV335>A341,AV335<A343)=TRUE,AV335,0)","v":0},null,{"$f":"(C343-C341)/(A343-A341)*(A342-A341)+C341","v":{"$error":"#VALUE!"}},{"$f":"(E342-C342)/(E328-C328)*(D328-C328)+C342","v":{"$error":"#VALUE!"}},{"$f":"(E343-E341)/(A343-A341)*(A342-A341)+E341","v":{"$error":"#VALUE!"}},{"$f":"(G342-E342)/(G328-E328)*(F328-E328)+E342","v":{"$error":"#VALUE!"}},{"$f":"(G343-G341)/(A343-A341)*(A342-A341)+G341","v":{"$error":"#VALUE!"}},{"$f":"(I342-G342)/(I328-G328)*(H328-G328)+G342","v":{"$error":"#VALUE!"}},{"$f":"(I343-I341)/(A343-A341)*(A342-A341)+I341","v":9200},{"$f":"(K342-I342)/(K328-I328)*(J328-I328)+I342","v":15600},{"$f":"(K343-K341)/(A343-A341)*(A342-A341)+K341","v":6000},{"$f":"(M342-K342)/(M328-K328)*(L328-K328)+K342","v":5700},{"$f":"(M343-M341)/(A343-A341)*(A342-A341)+M341","v":6100},{"$f":"(O342-M342)/(O328-M328)*(N328-M328)+M342","v":4100},{"$f":"(O343-O341)/(A343-A341)*(A342-A341)+O341","v":6600},{"$f":"(Q342-O342)/(Q328-O328)*(P328-O328)+O342","v":5099.9999999999991},{"$f":"(Q343-Q341)/(A343-A341)*(A342-A341)+Q341","v":6900},{"$f":"(S342-Q342)/(S328-Q328)*(R328-Q328)+Q342","v":7499.9999999999991},{"$f":"(S343-S341)/(A343-A341)*(A342-A341)+S341","v":6800},{"$f":"(U342-S342)/(U328-S328)*(T328-S328)+S342","v":2599.9999999999973},{"$f":"(U343-U341)/(A343-A341)*(A342-A341)+U341","v":7400},{"$f":"(W342-U342)/(W328-U328)*(V328-U328)+U342","v":4200},{"$f":"(W343-W341)/(A343-A341)*(A342-A341)+W341","v":8200},{"$f":"(Y342-W342)/(Y328-W328)*(X328-W328)+W342","v":3799.9999999999991},{"$f":"(Y343-Y341)/(A343-A341)*(A342-A341)+Y341","v":9300},{"$f":"(AA342-Y342)/(AA328-Y328)*(Z328-Y328)+Y342","v":3799.9999999999991},{"$f":"(AA343-AA341)/(A343-A341)*(A342-A341)+AA341","v":10400},{"$f":"(AC342-AA342)/(AC328-AA328)*(AB328-AA328)+AA342","v":4400.0000000000027},{"$f":"(AC343-AC341)/(A343-A341)*(A342-A341)+AC341","v":12400},{"$f":"(AE342-AC342)/(AE328-AC328)*(AD328-AC328)+AC342","v":5199.9999999999982},{"$f":"(AE343-AE341)/(A343-A341)*(A342-A341)+AE341","v":16000},{"$f":"(AG342-AE342)/(AG328-AE328)*(AF328-AE328)+AE342","v":17168},{"$f":"(AG343-AG341)/(A343-A341)*(A342-A341)+AG341","v":17600},{"$f":"(AI342-AG342)/(AI328-AG328)*(AH328-AG328)+AG342","v":3999.9999999999964},{"$f":"(AI343-AI341)/(A343-A341)*(A342-A341)+AI341","v":21000},{"$f":"(AK342-AI342)/(AK328-AI328)*(AJ328-AI328)+AI342","v":21000},{"$f":"(AK343-AK341)/(A343-A341)*(A342-A341)+AK341","v":21000},null,null,null,null,null,null,15]
[20,{"$f":"B341+1","v":7},"-",{"$f":"(E343-C343)/(E328-C328)*(D328-C328)+C343","v":{"$error":"#VALUE!"}},"-",{"$f":"(G343-E343)/(G328-E328)*(F328-E328)+E343","v":{"$error":"#VALUE!"}},"-",{"$f":"(I343-G343)/(I328-G328)*(H328-G328)+G343","v":{"$error":"#VALUE!"}},0,{"$f":"(K343-I343)/(K328-I328)*(J328-I328)+I343","v":-6400.0000000000009},3200,{"$f":"(M343-K343)/(M328-K328)*(L328-K328)+K343","v":-699.99999999999909},4500,{"$f":"(O343-M343)/(O328-M328)*(N328-M328)+M343","v":900.00000000000045},5400,{"$f":"(Q343-O343)/(Q328-O328)*(P328-O328)+O343","v":1899.9999999999982},6100,{"$f":"(S343-Q343)/(S328-Q328)*(R328-Q328)+Q343","v":1900.0000000000036},6800,{"$f":"(U343-S343)/(U328-S328)*(T328-S328)+S343","v":2599.9999999999973},7400,{"$f":"(W343-U343)/(W328-U328)*(V328-U328)+U343","v":4200},8200,{"$f":"(Y343-W343)/(Y328-W328)*(X328-W328)+W343","v":3799.9999999999991},9300,{"$f":"(AA343-Y343)/(AA328-Y328)*(Z328-Y328)+Y343","v":3799.9999999999991},10400,{"$f":"(AC343-AA343)/(AC328-AA328)*(AB328-AA328)+AA343","v":4400.0000000000027},12400,{"$f":"(AE343-AC343)/(AE328-AC328)*(AD328-AC328)+AC343","v":5199.9999999999982},16000,{"$f":"(AG343-AE343)/(AG328-AE328)*(AF328-AE328)+AE343","v":17168},17600,{"$f":"(AI343-AG343)/(AI328-AG328)*(AH328-AG328)+AG343","v":3999.9999999999964},21000,{"$f":"(AK343-AI343)/(AK328-AI328)*(AJ328-AI328)+AI343","v":21000},21000,null,null,null,null,null,null,16]
[{"$f":"IF(AND(AV335>A343,AV335<A345)=TRUE,AV335,0)","v":0},null,{"$f":"(C345-C343)/(A345-A343)*(A344-A343)+C343","v":{"$error":"#VALUE!"}},{"$f":"(E344-C344)/(E328-C328)*(D328-C328)+C344","v":{"$error":"#VALUE!"}},{"$f":"(E345-E343)/(A345-A343)*(A344-A343)+E343","v":{"$error":"#VALUE!"}},{"$f":"(G344-E344)/(G328-E328)*(F328-E328)+E344","v":{"$error":"#VALUE!"}},{"$f":"(G345-G343)/(A345-A343)*(A344-A343)+G343","v":{"$error":"#VALUE!"}},{"$f":"(I344-G344)/(I328-G328)*(H328-G328)+G344","v":{"$error":"#VALUE!"}},{"$f":"(I345-I343)/(A345-A343)*(A344-A343)+I343","v":{"$error":"#VALUE!"}},{"$f":"(K344-I344)/(K328-I328)*(J328-I328)+I344","v":{"$error":"#VALUE!"}},{"$f":"(K345-K343)/(A345-A343)*(A344-A343)+K343","v":16000},{"$f":"(M344-K344)/(M328-K328)*(L328-K328)+K344","v":45699.999999999993},{"$f":"(M345-M343)/(A345-A343)*(A344-A343)+M343","v":6100},{"$f":"(O344-M344)/(O328-M328)*(N328-M328)+M344","v":4100},{"$f":"(O345-O343)/(A345-A343)*(A344-A343)+O343","v":6600},{"$f":"(Q344-O344)/(Q328-O328)*(P328-O328)+O344","v":5099.9999999999991},{"$f":"(Q345-Q343)/(A345-A343)*(A344-A343)+Q343","v":6900},{"$f":"(S344-Q344)/(S328-Q328)*(R328-Q328)+Q344","v":2700.0000000000036},{"$f":"(S345-S343)/(A345-A343)*(A344-A343)+S343","v":7600},{"$f":"(U344-S344)/(U328-S328)*(T328-S328)+S344","v":6199.9999999999991},{"$f":"(U345-U343)/(A345-A343)*(A344-A343)+U343","v":7800},{"$f":"(W344-U344)/(W328-U328)*(V328-U328)+U344","v":6200},{"$f":"(W345-W343)/(A345-A343)*(A344-A343)+W343","v":8200},{"$f":"(Y344-W344)/(Y328-W328)*(X328-W328)+W344","v":3799.9999999999991},{"$f":"(Y345-Y343)/(A345-A343)*(A344-A343)+Y343","v":9300},{"$f":"(AA344-Y344)/(AA328-Y328)*(Z328-Y328)+Y344","v":3799.9999999999991},{"$f":"(AA345-AA343)/(A345-A343)*(A344-A343)+AA343","v":10400},{"$f":"(AC344-AA344)/(AC328-AA328)*(AB328-AA328)+AA344","v":4400.0000000000027},{"$f":"(AC345-AC343)/(A345-A343)*(A344-A343)+AC343","v":12400},{"$f":"(AE344-AC344)/(AE328-AC328)*(AD328-AC328)+AC344","v":5199.9999999999982},{"$f":"(AE345-AE343)/(A345-A343)*(A344-A343)+AE343","v":16000},{"$f":"(AG344-AE344)/(AG328-AE328)*(AF328-AE328)+AE344","v":17168},{"$f":"(AG345-AG343)/(A345-A343)*(A344-A343)+AG343","v":17600},{"$f":"(AI344-AG344)/(AI328-AG328)*(AH328-AG328)+AG344","v":3999.9999999999964},{"$f":"(AI345-AI343)/(A345-A343)*(A344-A343)+AI343","v":21000},{"$f":"(AK344-AI344)/(AK328-AI328)*(AJ328-AI328)+AI344","v":21000},{"$f":"(AK345-AK343)/(A345-A343)*(A344-A343)+AK343","v":21000},null,null,null,null,null,null,17]
[25,{"$f":"B343+1","v":8},"-",{"$f":"(E345-C345)/(E328-C328)*(D328-C328)+C345","v":{"$error":"#VALUE!"}},"-",{"$f":"(G345-E345)/(G328-E328)*(F328-E328)+E345","v":{"$error":"#VALUE!"}},"-",{"$f":"(I345-G345)/(I328-G328)*(H328-G328)+G345","v":{"$error":"#VALUE!"}},"-",{"$f":"(K345-I345)/(K328-I328)*(J328-I328)+I345","v":{"$error":"#VALUE!"}},0,{"$f":"(M345-K345)/(M328-K328)*(L328-K328)+K345","v":-12299.999999999998},4100,{"$f":"(O345-M345)/(O328-M328)*(N328-M328)+M345","v":100.00000000000045},5100,{"$f":"(Q345-O345)/(Q328-O328)*(P328-O328)+O345","v":1099.9999999999977},5900,{"$f":"(S345-Q345)/(S328-Q328)*(R328-Q328)+Q345","v":1700.0000000000036},6600,{"$f":"(U345-S345)/(U328-S328)*(T328-S328)+S345","v":1699.9999999999973},7300,{"$f":"(W345-U345)/(W328-U328)*(V328-U328)+U345","v":3700.0000000000005},8200,{"$f":"(Y345-W345)/(Y328-W328)*(X328-W328)+W345","v":3799.9999999999991},9300,{"$f":"(AA345-Y345)/(AA328-Y328)*(Z328-Y328)+Y345","v":3799.9999999999991},10400,{"$f":"(AC345-AA345)/(AC328-AA328)*(AB328-AA328)+AA345","v":4400.0000000000027},12400,{"$f":"(AE345-AC345)/(AE328-AC328)*(AD328-AC328)+AC345","v":5199.9999999999982},16000,{"$f":"(AG345-AE345)/(AG328-AE328)*(AF328-AE328)+AE345","v":17168},17600,{"$f":"(AI345-AG345)/(AI328-AG328)*(AH328-AG328)+AG345","v":3999.9999999999964},21000,{"$f":"(AK345-AI345)/(AK328-AI328)*(AJ328-AI328)+AI345","v":21000},21000,null,null,null,null,null,null,18]
[{"$f":"IF(AND(AV335>A345,AV335<A347)=TRUE,AV335,0)","v":0},null,{"$f":"(C347-C345)/(A347-A345)*(A346-A345)+C345","v":{"$error":"#VALUE!"}},{"$f":"(E346-C346)/(E328-C328)*(D328-C328)+C346","v":{"$error":"#VALUE!"}},{"$f":"(E347-E345)/(A347-A345)*(A346-A345)+E345","v":{"$error":"#VALUE!"}},{"$f":"(G346-E346)/(G328-E328)*(F328-E328)+E346","v":{"$error":"#VALUE!"}},{"$f":"(G347-G345)/(A347-A345)*(A346-A345)+G345","v":{"$error":"#VALUE!"}},{"$f":"(I346-G346)/(I328-G328)*(H328-G328)+G346","v":{"$error":"#VALUE!"}},{"$f":"(I347-I345)/(A347-A345)*(A346-A345)+I345","v":{"$error":"#VALUE!"}},{"$f":"(K346-I346)/(K328-I328)*(J328-I328)+I346","v":{"$error":"#VALUE!"}},{"$f":"(K347-K345)/(A347-A345)*(A346-A345)+K345","v":{"$error":"#VALUE!"}},{"$f":"(M346-K346)/(M328-K328)*(L328-K328)+K346","v":{"$error":"#VALUE!"}},{"$f":"(M347-M345)/(A347-A345)*(A346-A345)+M345","v":7600},{"$f":"(O346-M346)/(O328-M328)*(N328-M328)+M346","v":9600},{"$f":"(O347-O345)/(A347-A345)*(A346-A345)+O345","v":7100},{"$f":"(Q346-O346)/(Q328-O328)*(P328-O328)+O346","v":8100.0000000000009},{"$f":"(Q347-Q345)/(A347-A345)*(A346-A345)+Q345","v":6900},{"$f":"(S346-Q346)/(S328-Q328)*(R328-Q328)+Q346","v":2700.0000000000036},{"$f":"(S347-S345)/(A347-A345)*(A346-A345)+S345","v":7600},{"$f":"(U346-S346)/(U328-S328)*(T328-S328)+S346","v":9700.0000000000018},{"$f":"(U347-U345)/(A347-A345)*(A346-A345)+U345","v":7300},{"$f":"(W346-U346)/(W328-U328)*(V328-U328)+U346","v":3700.0000000000005},{"$f":"(W347-W345)/(A347-A345)*(A346-A345)+W345","v":8200},{"$f":"(Y346-W346)/(Y328-W328)*(X328-W328)+W346","v":3799.9999999999991},{"$f":"(Y347-Y345)/(A347-A345)*(A346-A345)+Y345","v":9300},{"$f":"(AA346-Y346)/(AA328-Y328)*(Z328-Y328)+Y346","v":3799.9999999999991},{"$f":"(AA347-AA345)/(A347-A345)*(A346-A345)+AA345","v":10400},{"$f":"(AC346-AA346)/(AC328-AA328)*(AB328-AA328)+AA346","v":4400.0000000000027},{"$f":"(AC347-AC345)/(A347-A345)*(A346-A345)+AC345","v":12400},{"$f":"(AE346-AC346)/(AE328-AC328)*(AD328-AC328)+AC346","v":5199.9999999999982},{"$f":"(AE347-AE345)/(A347-A345)*(A346-A345)+AE345","v":16000},{"$f":"(AG346-AE346)/(AG328-AE328)*(AF328-AE328)+AE346","v":17168},{"$f":"(AG347-AG345)/(A347-A345)*(A346-A345)+AG345","v":17600},{"$f":"(AI346-AG346)/(AI328-AG328)*(AH328-AG328)+AG346","v":3999.9999999999964},{"$f":"(AI347-AI345)/(A347-A345)*(A346-A345)+AI345","v":21000},{"$f":"(AK346-AI346)/(AK328-AI328)*(AJ328-AI328)+AI346","v":21000},{"$f":"(AK347-AK345)/(A347-A345)*(A346-A345)+AK345","v":21000},null,null,null,null,null,null,19]
[30,{"$f":"B345+1","v":9},"-",{"$f":"(E347-C347)/(E328-C328)*(D328-C328)+C347","v":{"$error":"#VALUE!"}},"-",{"$f":"(G347-E347)/(G328-E328)*(F328-E328)+E347","v":{"$error":"#VALUE!"}},"-",{"$f":"(I347-G347)/(I328-G328)*(H328-G328)+G347","v":{"$error":"#VALUE!"}},"-",{"$f":"(K347-I347)/(K328-I328)*(J328-I328)+I347","v":{"$error":"#VALUE!"}},"-",{"$f":"(M347-K347)/(M328-K328)*(L328-K328)+K347","v":{"$error":"#VALUE!"}},3400,{"$f":"(O347-M347)/(O328-M328)*(N328-M328)+M347","v":-1799.9999999999991},4700,{"$f":"(Q347-O347)/(Q328-O328)*(P328-O328)+O347","v":-300.00000000000273},5700,{"$f":"(S347-Q347)/(S328-Q328)*(R328-Q328)+Q347","v":1500.0000000000036},6400,{"$f":"(U347-S347)/(U328-S328)*(T328-S328)+S347","v":99.999999999996362},7300,{"$f":"(W347-U347)/(W328-U328)*(V328-U328)+U347","v":3700.0000000000005},8200,{"$f":"(Y347-W347)/(Y328-W328)*(X328-W328)+W347","v":3799.9999999999991},9300,{"$f":"(AA347-Y347)/(AA328-Y328)*(Z328-Y328)+Y347","v":3799.9999999999991},10400,{"$f":"(AC347-AA347)/(AC328-AA328)*(AB328-AA328)+AA347","v":4400.0000000000027},12400,{"$f":"(AE347-AC347)/(AE328-AC328)*(AD328-AC328)+AC347","v":5199.9999999999982},16000,{"$f":"(AG347-AE347)/(AG328-AE328)*(AF328-AE328)+AE347","v":17168},17600,{"$f":"(AI347-AG347)/(AI328-AG328)*(AH328-AG328)+AG347","v":3999.9999999999964},21000,{"$f":"(AK347-AI347)/(AK328-AI328)*(AJ328-AI328)+AI347","v":21000},21000,null,null,null,null,null,null,20]
[{"$f":"IF(AND(AV335>A347,AV335<A349)=TRUE,AV335,0)","v":0},null,{"$f":"(C349-C347)/(A349-A347)*(A348-A347)+C347","v":{"$error":"#VALUE!"}},{"$f":"(E348-C348)/(E328-C328)*(D328-C328)+C348","v":{"$error":"#VALUE!"}},{"$f":"(E349-E347)/(A349-A347)*(A348-A347)+E347","v":{"$error":"#VALUE!"}},{"$f":"(G348-E348)/(G328-E328)*(F328-E328)+E348","v":{"$error":"#VALUE!"}},{"$f":"(G349-G347)/(A349-A347)*(A348-A347)+G347","v":{"$error":"#VALUE!"}},{"$f":"(I348-G348)/(I328-G328)*(H328-G328)+G348","v":{"$error":"#VALUE!"}},{"$f":"(I349-I347)/(A349-A347)*(A348-A347)+I347","v":{"$error":"#VALUE!"}},{"$f":"(K348-I348)/(K328-I328)*(J328-I328)+I348","v":{"$error":"#VALUE!"}},{"$f":"(K349-K347)/(A349-A347)*(A348-A347)+K347","v":{"$error":"#VALUE!"}},{"$f":"(M348-K348)/(M328-K328)*(L328-K328)+K348","v":{"$error":"#VALUE!"}},{"$f":"(M349-M347)/(A349-A347)*(A348-A347)+M347","v":13600},{"$f":"(O348-M348)/(O328-M328)*(N328-M328)+M348","v":36000},{"$f":"(O349-O347)/(A349-A347)*(A348-A347)+O347","v":8000},{"$f":"(Q348-O348)/(Q328-O328)*(P328-O328)+O348","v":7500},{"$f":"(Q349-Q347)/(A349-A347)*(A348-A347)+Q347","v":8100},{"$f":"(S348-Q348)/(S328-Q328)*(R328-Q328)+Q348","v":9299.9999999999982},{"$f":"(S349-S347)/(A349-A347)*(A348-A347)+S347","v":7900},{"$f":"(U348-S348)/(U328-S328)*(T328-S328)+S348","v":-2600.0000000000073},{"$f":"(U349-U347)/(A349-A347)*(A348-A347)+U347","v":9400},{"$f":"(W348-U348)/(W328-U328)*(V328-U328)+U348","v":14200},{"$f":"(W349-W347)/(A349-A347)*(A348-A347)+W347","v":8200},{"$f":"(Y348-W348)/(Y328-W328)*(X328-W328)+W348","v":3799.9999999999991},{"$f":"(Y349-Y347)/(A349-A347)*(A348-A347)+Y347","v":9300},{"$f":"(AA348-Y348)/(AA328-Y328)*(Z328-Y328)+Y348","v":3799.9999999999991},{"$f":"(AA349-AA347)/(A349-A347)*(A348-A347)+AA347","v":10400},{"$f":"(AC348-AA348)/(AC328-AA328)*(AB328-AA328)+AA348","v":4400.0000000000027},{"$f":"(AC349-AC347)/(A349-A347)*(A348-A347)+AC347","v":12400},{"$f":"(AE348-AC348)/(AE328-AC328)*(AD328-AC328)+AC348","v":5199.9999999999982},{"$f":"(AE349-AE347)/(A349-A347)*(A348-A347)+AE347","v":16000},{"$f":"(AG348-AE348)/(AG328-AE328)*(AF328-AE328)+AE348","v":17168},{"$f":"(AG349-AG347)/(A349-A347)*(A348-A347)+AG347","v":17600},{"$f":"(AI348-AG348)/(AI328-AG328)*(AH328-AG328)+AG348","v":3999.9999999999964},{"$f":"(AI349-AI347)/(A349-A347)*(A348-A347)+AI347","v":21000},{"$f":"(AK348-AI348)/(AK328-AI328)*(AJ328-AI328)+AI348","v":21000},{"$f":"(AK349-AK347)/(A349-A347)*(A348-A347)+AK347","v":21000},null,null,null,null,null,null,21]
[40,{"$f":"B347+1","v":10},"-",{"$f":"(E349-C349)/(E328-C328)*(D328-C328)+C349","v":{"$error":"#VALUE!"}},"-",{"$f":"(G349-E349)/(G328-E328)*(F328-E328)+E349","v":{"$error":"#VALUE!"}},"-",{"$f":"(I349-G349)/(I328-G328)*(H328-G328)+G349","v":{"$error":"#VALUE!"}},"-",{"$f":"(K349-I349)/(K328-I328)*(J328-I328)+I349","v":{"$error":"#VALUE!"}},"-",{"$f":"(M349-K349)/(M328-K328)*(L328-K328)+K349","v":{"$error":"#VALUE!"}},0,{"$f":"(O349-M349)/(O328-M328)*(N328-M328)+M349","v":-14399.999999999998},3600,{"$f":"(Q349-O349)/(Q328-O328)*(P328-O328)+O349","v":-2900.0000000000036},4900,{"$f":"(S349-Q349)/(S328-Q328)*(R328-Q328)+Q349","v":-1099.9999999999945},5900,{"$f":"(U349-S349)/(U328-S328)*(T328-S328)+S349","v":999.99999999999727},6600,{"$f":"(W349-U349)/(W328-U328)*(V328-U328)+U349","v":200.00000000000091},8200,{"$f":"(Y349-W349)/(Y328-W328)*(X328-W328)+W349","v":3799.9999999999991},9300,{"$f":"(AA349-Y349)/(AA328-Y328)*(Z328-Y328)+Y349","v":3799.9999999999991},10400,{"$f":"(AC349-AA349)/(AC328-AA328)*(AB328-AA328)+AA349","v":4400.0000000000027},12400,{"$f":"(AE349-AC349)/(AE328-AC328)*(AD328-AC328)+AC349","v":5199.9999999999982},16000,{"$f":"(AG349-AE349)/(AG328-AE328)*(AF328-AE328)+AE349","v":17168},17600,{"$f":"(AI349-AG349)/(AI328-AG328)*(AH328-AG328)+AG349","v":3999.9999999999964},21000,{"$f":"(AK349-AI349)/(AK328-AI328)*(AJ328-AI328)+AI349","v":21000},21000,null,null,null,null,null,null,22]
[{"$f":"IF(AND(AV335>A349,AV335<A351)=TRUE,AV335,0)","v":0},null,{"$f":"(C351-C349)/(A351-A349)*(A350-A349)+C349","v":{"$error":"#VALUE!"}},{"$f":"(E350-C350)/(E328-C328)*(D328-C328)+C350","v":{"$error":"#VALUE!"}},{"$f":"(E351-E349)/(A351-A349)*(A350-A349)+E349","v":{"$error":"#VALUE!"}},{"$f":"(G350-E350)/(G328-E328)*(F328-E328)+E350","v":{"$error":"#VALUE!"}},{"$f":"(G351-G349)/(A351-A349)*(A350-A349)+G349","v":{"$error":"#VALUE!"}},{"$f":"(I350-G350)/(I328-G328)*(H328-G328)+G350","v":{"$error":"#VALUE!"}},{"$f":"(I351-I349)/(A351-A349)*(A350-A349)+I349","v":{"$error":"#VALUE!"}},{"$f":"(K350-I350)/(K328-I328)*(J328-I328)+I350","v":{"$error":"#VALUE!"}},{"$f":"(K351-K349)/(A351-A349)*(A350-A349)+K349","v":{"$error":"#VALUE!"}},{"$f":"(M350-K350)/(M328-K328)*(L328-K328)+K350","v":{"$error":"#VALUE!"}},{"$f":"(M351-M349)/(A351-A349)*(A350-A349)+M349","v":{"$error":"#VALUE!"}},{"$f":"(O350-M350)/(O328-M328)*(N328-M328)+M350","v":{"$error":"#VALUE!"}},{"$f":"(O351-O349)/(A351-A349)*(A350-A349)+O349","v":18000},{"$f":"(Q350-O350)/(Q328-O328)*(P328-O328)+O350","v":59500.000000000029},{"$f":"(Q351-Q349)/(A351-A349)*(A350-A349)+Q349","v":9700},{"$f":"(S350-Q350)/(S328-Q328)*(R328-Q328)+Q350","v":10899.999999999998},{"$f":"(S351-S349)/(A351-A349)*(A350-A349)+S349","v":9500},{"$f":"(U350-S350)/(U328-S328)*(T328-S328)+S350","v":13000.000000000002},{"$f":"(U351-U349)/(A351-A349)*(A350-A349)+U349","v":9000},{"$f":"(W350-U350)/(W328-U328)*(V328-U328)+U350","v":4200.0000000000009},{"$f":"(W351-W349)/(A351-A349)*(A350-A349)+W349","v":10200},{"$f":"(Y350-W350)/(Y328-W328)*(X328-W328)+W350","v":13800},{"$f":"(Y351-Y349)/(A351-A349)*(A350-A349)+Y349","v":9300},{"$f":"(AA350-Y350)/(AA328-Y328)*(Z328-Y328)+Y350","v":3799.9999999999991},{"$f":"(AA351-AA349)/(A351-A349)*(A350-A349)+AA349","v":10400},{"$f":"(AC350-AA350)/(AC328-AA328)*(AB328-AA328)+AA350","v":4400.0000000000027},{"$f":"(AC351-AC349)/(A351-A349)*(A350-A349)+AC349","v":12400},{"$f":"(AE350-AC350)/(AE328-AC328)*(AD328-AC328)+AC350","v":5199.9999999999982},{"$f":"(AE351-AE349)/(A351-A349)*(A350-A349)+AE349","v":16000},{"$f":"(AG350-AE350)/(AG328-AE328)*(AF328-AE328)+AE350","v":17168},{"$f":"(AG351-AG349)/(A351-A349)*(A350-A349)+AG349","v":17600},{"$f":"(AI350-AG350)/(AI328-AG328)*(AH328-AG328)+AG350","v":3999.9999999999964},{"$f":"(AI351-AI349)/(A351-A349)*(A350-A349)+AI349","v":21000},{"$f":"(AK350-AI350)/(AK328-AI328)*(AJ328-AI328)+AI350","v":21000},{"$f":"(AK351-AK349)/(A351-A349)*(A350-A349)+AK349","v":21000},null,null,null,null,null,null,23]
[50,{"$f":"B349+1","v":11},"-",{"$f":"(E351-C351)/(E328-C328)*(D328-C328)+C351","v":{"$error":"#VALUE!"}},"-",{"$f":"(G351-E351)/(G328-E328)*(F328-E328)+E351","v":{"$error":"#VALUE!"}},"-",{"$f":"(I351-G351)/(I328-G328)*(H328-G328)+G351","v":{"$error":"#VALUE!"}},"-",{"$f":"(K351-I351)/(K328-I328)*(J328-I328)+I351","v":{"$error":"#VALUE!"}},"-",{"$f":"(M351-K351)/(M328-K328)*(L328-K328)+K351","v":{"$error":"#VALUE!"}},"-",{"$f":"(O351-M351)/(O328-M328)*(N328-M328)+M351","v":{"$error":"#VALUE!"}},0,{"$f":"(Q351-O351)/(Q328-O328)*(P328-O328)+O351","v":-18500.000000000011},3700,{"$f":"(S351-Q351)/(S328-Q328)*(R328-Q328)+Q351","v":-4099.9999999999927},5000,{"$f":"(U351-S351)/(U328-S328)*(T328-S328)+S351","v":-2000.0000000000036},6000,{"$f":"(W351-U351)/(W328-U328)*(V328-U328)+U351","v":-799.99999999999909},7700,{"$f":"(Y351-W351)/(Y328-W328)*(X328-W328)+W351","v":1299.9999999999982},9300,{"$f":"(AA351-Y351)/(AA328-Y328)*(Z328-Y328)+Y351","v":3799.9999999999991},10400,{"$f":"(AC351-AA351)/(AC328-AA328)*(AB328-AA328)+AA351","v":4400.0000000000027},12400,{"$f":"(AE351-AC351)/(AE328-AC328)*(AD328-AC328)+AC351","v":5199.9999999999982},16000,{"$f":"(AG351-AE351)/(AG328-AE328)*(AF328-AE328)+AE351","v":17168},17600,{"$f":"(AI351-AG351)/(AI328-AG328)*(AH328-AG328)+AG351","v":3999.9999999999964},21000,{"$f":"(AK351-AI351)/(AK328-AI328)*(AJ328-AI328)+AI351","v":21000},21000,null,null,null,null,null,null,24]
[null,null,null,null,null,null,null,null,null,null,null,null,null,null,null,null,null,null,null,null,null,null,null,null,null,null,null,null,null,null,null,null,null,null,null,null,null,null,null,null,null,null,null,25]
["COL",null,3,{"$f":"C353+1","v":4},{"$f":"D353+1","v":5},6,7,8,9,10,11,12,13,14,15,16,17,18,{"$f":"R353+1","v":19},20,21,22,23,24,25,26,27,28,29,30,31,32,33,34,35,36,37,null,null,null,null,null,null,26]
[null,null,1,2,null,3,null,4,null,5,null,6,null,7,null,8,null,9,null,10,null,11,null,12,null,13,null,14,null,15,null,16,null,17,null,18]

{"sheet":"MODULO1","index":2,"n_rows":0,"n_cols":0,"rows_kept":0,"cut":false,"hidden":true,"merged":[]}

{"sheet":"Modulo5","index":3,"n_rows":0,"n_cols":0,"rows_kept":0,"cut":false,"hidden":true,"merged":[]}

{"sheet":"Modulo4","index":4,"n_rows":0,"n_cols":0,"rows_kept":0,"cut":false,"hidden":true,"merged":[]}

{"sheet":"Modulo6","index":5,"n_rows":0,"n_cols":0,"rows_kept":0,"cut":false,"hidden":true,"merged":[]}

{"sheet":"Modulo2","index":6,"n_rows":0,"n_cols":0,"rows_kept":0,"cut":false,"hidden":true,"merged":[]}

{"sheet":"Modulo3","index":7,"n_rows":0,"n_cols":0,"rows_kept":0,"cut":false,"hidden":true,"merged":[]}